BEGIN:VCALENDAR
VERSION:2.0
PRODID:-//QuickScores.com//BQ Dynamic iCal Creator//EN
METHOD:PUBLISH
X-WR-CALNAME:Macleod/Bommarito - Chst Wednesday  Rec. League - Winter 26 - Completed Leagues 2026
X-WR-CALDESC:QuickScores game calendar
X-PUBLISHED-TTL:PT24H
REFRESH-INTERVAL;VALUE=DURATION:PT24H
CALSCALE:GREGORIAN
BEGIN:VTIMEZONE
TZID:America/Chicago
X-LIC-LOCATION:America/Chicago
BEGIN:DAYLIGHT
TZNAME:CDT
TZOFFSETFROM:-0600
TZOFFSETTO:-0500
DTSTART:19700308T020000
RRULE:FREQ=YEARLY;BYMONTH=3;BYDAY=2SU
END:DAYLIGHT
BEGIN:STANDARD
TZNAME:CST
TZOFFSETFROM:-0500
TZOFFSETTO:-0600
DTSTART:19701101T020000
RRULE:FREQ=YEARLY;BYMONTH=11;BYDAY=1SU
END:STANDARD
END:VTIMEZONE
BEGIN:VEVENT
UID:pupc-72362699-20260107T184000@quickscores.com
DTSTAMP:20260422T204400Z
DTSTART;TZID=America/Chicago:20260107T184000
DURATION:PT0H40M0S
SUMMARY:Roam/Johnson vs. Macleod/Bommarito
DESCRIPTION:Chst Wednesday  Rec. League - Winter 26 - Paddle Up Pickleball Club
LOCATION:CHST Court 1
CATEGORIES:QuickScores, Pickleball Game
TRANSP:OPAQUE
BEGIN:VALARM
TRIGGER:-PT2H
ACTION:DISPLAY
DESCRIPTION:Roam/Johnson vs. Macleod/Bommarito
END:VALARM
END:VEVENT
BEGIN:VEVENT
UID:pupc-72362700-20260107T192000@quickscores.com
DTSTAMP:20260422T204400Z
DTSTART;TZID=America/Chicago:20260107T192000
DURATION:PT0H40M0S
SUMMARY:Moolsintong/Hillman vs. Macleod/Bommarito
DESCRIPTION:Chst Wednesday  Rec. League - Winter 26 - Paddle Up Pickleball Club
LOCATION:CHST Court 1
CATEGORIES:QuickScores, Pickleball Game
TRANSP:OPAQUE
BEGIN:VALARM
TRIGGER:-PT2H
ACTION:DISPLAY
DESCRIPTION:Moolsintong/Hillman vs. Macleod/Bommarito
END:VALARM
END:VEVENT
BEGIN:VEVENT
UID:pupc-72362703-20260114T180000@quickscores.com
DTSTAMP:20260422T204400Z
DTSTART;TZID=America/Chicago:20260114T180000
DURATION:PT0H40M0S
SUMMARY:Richert/Bugalski vs. Macleod/Bommarito
DESCRIPTION:Chst Wednesday  Rec. League - Winter 26 - Paddle Up Pickleball Club
LOCATION:CHST Court 1
CATEGORIES:QuickScores, Pickleball Game
TRANSP:OPAQUE
BEGIN:VALARM
TRIGGER:-PT2H
ACTION:DISPLAY
DESCRIPTION:Richert/Bugalski vs. Macleod/Bommarito
END:VALARM
END:VEVENT
BEGIN:VEVENT
UID:pupc-72362704-20260114T184000@quickscores.com
DTSTAMP:20260422T204400Z
DTSTART;TZID=America/Chicago:20260114T184000
DURATION:PT0H40M0S
SUMMARY:Macleod/Bommarito vs. Settle/Ehrhardt
DESCRIPTION:Chst Wednesday  Rec. League - Winter 26 - Paddle Up Pickleball Club
LOCATION:CHST Court 1
CATEGORIES:QuickScores, Pickleball Game
TRANSP:OPAQUE
BEGIN:VALARM
TRIGGER:-PT2H
ACTION:DISPLAY
DESCRIPTION:Macleod/Bommarito vs. Settle/Ehrhardt
END:VALARM
END:VEVENT
BEGIN:VEVENT
UID:pupc-72403199-20260121T200000@quickscores.com
DTSTAMP:20260422T204400Z
DTSTART;TZID=America/Chicago:20260121T200000
DURATION:PT0H40M0S
SUMMARY:Yuan/Yuan vs. Macleod/Bommarito
DESCRIPTION:Chst Wednesday  Rec. League - Winter 26 - Paddle Up Pickleball Club
LOCATION:CHST Court 5
CATEGORIES:QuickScores, Pickleball Game
TRANSP:OPAQUE
BEGIN:VALARM
TRIGGER:-PT2H
ACTION:DISPLAY
DESCRIPTION:Yuan/Yuan vs. Macleod/Bommarito
END:VALARM
END:VEVENT
BEGIN:VEVENT
UID:pupc-72403200-20260121T204000@quickscores.com
DTSTAMP:20260422T204400Z
DTSTART;TZID=America/Chicago:20260121T204000
DURATION:PT0H40M0S
SUMMARY:Macleod/Bommarito vs. Spicknall/Hester
DESCRIPTION:Chst Wednesday  Rec. League - Winter 26 - Paddle Up Pickleball Club
LOCATION:CHST Court 5
CATEGORIES:QuickScores, Pickleball Game
TRANSP:OPAQUE
BEGIN:VALARM
TRIGGER:-PT2H
ACTION:DISPLAY
DESCRIPTION:Macleod/Bommarito vs. Spicknall/Hester
END:VALARM
END:VEVENT
BEGIN:VEVENT
UID:pupc-72463408-20260128T200000@quickscores.com
DTSTAMP:20260422T204400Z
DTSTART;TZID=America/Chicago:20260128T200000
DURATION:PT0H40M0S
SUMMARY:Macleod/Bommarito vs. Richert/Bugalski
DESCRIPTION:Chst Wednesday  Rec. League - Winter 26 - Paddle Up Pickleball Club
LOCATION:CHST Court 1
CATEGORIES:QuickScores, Pickleball Game
TRANSP:OPAQUE
BEGIN:VALARM
TRIGGER:-PT2H
ACTION:DISPLAY
DESCRIPTION:Macleod/Bommarito vs. Richert/Bugalski
END:VALARM
END:VEVENT
BEGIN:VEVENT
UID:pupc-72362721-20260128T204000@quickscores.com
DTSTAMP:20260422T204400Z
DTSTART;TZID=America/Chicago:20260128T204000
DURATION:PT0H40M0S
SUMMARY:Macleod/Bommarito vs. Moolsintong/Hillman
DESCRIPTION:Chst Wednesday  Rec. League - Winter 26 - Paddle Up Pickleball Club
LOCATION:CHST Court 5
CATEGORIES:QuickScores, Pickleball Game
TRANSP:OPAQUE
BEGIN:VALARM
TRIGGER:-PT2H
ACTION:DISPLAY
DESCRIPTION:Macleod/Bommarito vs. Moolsintong/Hillman
END:VALARM
END:VEVENT
BEGIN:VEVENT
UID:pupc-72362724-20260204T192000@quickscores.com
DTSTAMP:20260422T204400Z
DTSTART;TZID=America/Chicago:20260204T192000
DURATION:PT0H40M0S
SUMMARY:Macleod/Bommarito vs. Yuan/Yuan
DESCRIPTION:Chst Wednesday  Rec. League - Winter 26 - Paddle Up Pickleball Club
LOCATION:CHST Court 1
CATEGORIES:QuickScores, Pickleball Game
TRANSP:OPAQUE
BEGIN:VALARM
TRIGGER:-PT2H
ACTION:DISPLAY
DESCRIPTION:Macleod/Bommarito vs. Yuan/Yuan
END:VALARM
END:VEVENT
BEGIN:VEVENT
UID:pupc-72362727-20260204T200000@quickscores.com
DTSTAMP:20260422T204400Z
DTSTART;TZID=America/Chicago:20260204T200000
DURATION:PT0H40M0S
SUMMARY:Krueger/Krueger vs. Macleod/Bommarito
DESCRIPTION:Chst Wednesday  Rec. League - Winter 26 - Paddle Up Pickleball Club
LOCATION:CHST Court 2
CATEGORIES:QuickScores, Pickleball Game
TRANSP:OPAQUE
BEGIN:VALARM
TRIGGER:-PT2H
ACTION:DISPLAY
DESCRIPTION:Krueger/Krueger vs. Macleod/Bommarito
END:VALARM
END:VEVENT
BEGIN:VEVENT
UID:pupc-72969231-20260211T183000@quickscores.com
DTSTAMP:20260422T204400Z
DTSTART;TZID=America/Chicago:20260211T183000
DURATION:PT0H30M0S
SUMMARY:[7] Gordon/Gordon vs. [10] Macleod/Bommarito
DESCRIPTION:Chst Wednesday  Rec. League - Winter 26 - Paddle Up Pickleball Club
LOCATION:CHST Court 2
CATEGORIES:QuickScores, Pickleball Game
TRANSP:OPAQUE
BEGIN:VALARM
TRIGGER:-PT2H
ACTION:DISPLAY
DESCRIPTION:[7] Gordon/Gordon vs. [10] Macleod/Bommarito
END:VALARM
END:VEVENT
END:VCALENDAR
