BEGIN:VCALENDAR
VERSION:2.0
PRODID:-//QuickScores.com//BQ Dynamic iCal Creator//EN
METHOD:PUBLISH
X-WR-CALNAME:Lohkamp/Smallwood - Chst Wednesday Intermediate League - Winter 26 - Completed Leagues 2026
X-WR-CALDESC:QuickScores game calendar
X-PUBLISHED-TTL:PT24H
REFRESH-INTERVAL;VALUE=DURATION:PT24H
CALSCALE:GREGORIAN
BEGIN:VTIMEZONE
TZID:America/Chicago
X-LIC-LOCATION:America/Chicago
BEGIN:DAYLIGHT
TZNAME:CDT
TZOFFSETFROM:-0600
TZOFFSETTO:-0500
DTSTART:19700308T020000
RRULE:FREQ=YEARLY;BYMONTH=3;BYDAY=2SU
END:DAYLIGHT
BEGIN:STANDARD
TZNAME:CST
TZOFFSETFROM:-0500
TZOFFSETTO:-0600
DTSTART:19701101T020000
RRULE:FREQ=YEARLY;BYMONTH=11;BYDAY=1SU
END:STANDARD
END:VTIMEZONE
BEGIN:VEVENT
UID:pupc-72362406-20260107T180000@quickscores.com
DTSTAMP:20260423T103500Z
DTSTART;TZID=America/Chicago:20260107T180000
DURATION:PT0H40M0S
SUMMARY:Lohkamp/Smallwood vs. Meier/Parmley
DESCRIPTION:Chst Wednesday Intermediate League - Winter 26 - Paddle Up Pickleball Club
LOCATION:CHST Court 4
CATEGORIES:QuickScores, Pickleball Game
TRANSP:OPAQUE
BEGIN:VALARM
TRIGGER:-PT2H
ACTION:DISPLAY
DESCRIPTION:Lohkamp/Smallwood vs. Meier/Parmley
END:VALARM
END:VEVENT
BEGIN:VEVENT
UID:pupc-72362407-20260107T184000@quickscores.com
DTSTAMP:20260423T103500Z
DTSTART;TZID=America/Chicago:20260107T184000
DURATION:PT0H40M0S
SUMMARY:Tooley/Balthozor vs. Lohkamp/Smallwood
DESCRIPTION:Chst Wednesday Intermediate League - Winter 26 - Paddle Up Pickleball Club
LOCATION:CHST Court 4
CATEGORIES:QuickScores, Pickleball Game
TRANSP:OPAQUE
BEGIN:VALARM
TRIGGER:-PT2H
ACTION:DISPLAY
DESCRIPTION:Tooley/Balthozor vs. Lohkamp/Smallwood
END:VALARM
END:VEVENT
BEGIN:VEVENT
UID:pupc-72362425-20260114T192000@quickscores.com
DTSTAMP:20260423T103500Z
DTSTART;TZID=America/Chicago:20260114T192000
DURATION:PT0H40M0S
SUMMARY:Robinson/Malloy vs. Lohkamp/Smallwood
DESCRIPTION:Chst Wednesday Intermediate League - Winter 26 - Paddle Up Pickleball Club
LOCATION:CHST Court 2
CATEGORIES:QuickScores, Pickleball Game
TRANSP:OPAQUE
BEGIN:VALARM
TRIGGER:-PT2H
ACTION:DISPLAY
DESCRIPTION:Robinson/Malloy vs. Lohkamp/Smallwood
END:VALARM
END:VEVENT
BEGIN:VEVENT
UID:pupc-72362424-20260114T204000@quickscores.com
DTSTAMP:20260423T103500Z
DTSTART;TZID=America/Chicago:20260114T204000
DURATION:PT0H40M0S
SUMMARY:Lohkamp/Smallwood vs. Ikeda/Clever
DESCRIPTION:Chst Wednesday Intermediate League - Winter 26 - Paddle Up Pickleball Club
LOCATION:CHST Court 2
CATEGORIES:QuickScores, Pickleball Game
TRANSP:OPAQUE
BEGIN:VALARM
TRIGGER:-PT2H
ACTION:DISPLAY
DESCRIPTION:Lohkamp/Smallwood vs. Ikeda/Clever
END:VALARM
END:VEVENT
BEGIN:VEVENT
UID:pupc-72362438-20260121T180000@quickscores.com
DTSTAMP:20260423T103500Z
DTSTART;TZID=America/Chicago:20260121T180000
DURATION:PT0H40M0S
SUMMARY:Russell/Ploch vs. Lohkamp/Smallwood
DESCRIPTION:Chst Wednesday Intermediate League - Winter 26 - Paddle Up Pickleball Club
LOCATION:CHST Court 3
CATEGORIES:QuickScores, Pickleball Game
TRANSP:OPAQUE
BEGIN:VALARM
TRIGGER:-PT2H
ACTION:DISPLAY
DESCRIPTION:Russell/Ploch vs. Lohkamp/Smallwood
END:VALARM
END:VEVENT
BEGIN:VEVENT
UID:pupc-72362439-20260121T184000@quickscores.com
DTSTAMP:20260423T103500Z
DTSTART;TZID=America/Chicago:20260121T184000
DURATION:PT0H40M0S
SUMMARY:Lohkamp/Smallwood vs. Langston/Luber
DESCRIPTION:Chst Wednesday Intermediate League - Winter 26 - Paddle Up Pickleball Club
LOCATION:CHST Court 3
CATEGORIES:QuickScores, Pickleball Game
TRANSP:OPAQUE
BEGIN:VALARM
TRIGGER:-PT2H
ACTION:DISPLAY
DESCRIPTION:Lohkamp/Smallwood vs. Langston/Luber
END:VALARM
END:VEVENT
BEGIN:VEVENT
UID:pupc-72362444-20260128T192000@quickscores.com
DTSTAMP:20260423T103500Z
DTSTART;TZID=America/Chicago:20260128T192000
DURATION:PT0H40M0S
SUMMARY:Davis/Klumb vs. Lohkamp/Smallwood
DESCRIPTION:Chst Wednesday Intermediate League - Winter 26 - Paddle Up Pickleball Club
LOCATION:CHST Court 5
CATEGORIES:QuickScores, Pickleball Game
TRANSP:OPAQUE
BEGIN:VALARM
TRIGGER:-PT2H
ACTION:DISPLAY
DESCRIPTION:Davis/Klumb vs. Lohkamp/Smallwood
END:VALARM
END:VEVENT
BEGIN:VEVENT
UID:pupc-72362445-20260128T204000@quickscores.com
DTSTAMP:20260423T103500Z
DTSTART;TZID=America/Chicago:20260128T204000
DURATION:PT0H40M0S
SUMMARY:Lohkamp/Smallwood vs. McCandless/Guthrie
DESCRIPTION:Chst Wednesday Intermediate League - Winter 26 - Paddle Up Pickleball Club
LOCATION:CHST Court 2
CATEGORIES:QuickScores, Pickleball Game
TRANSP:OPAQUE
BEGIN:VALARM
TRIGGER:-PT2H
ACTION:DISPLAY
DESCRIPTION:Lohkamp/Smallwood vs. McCandless/Guthrie
END:VALARM
END:VEVENT
BEGIN:VEVENT
UID:pupc-72362457-20260204T192000@quickscores.com
DTSTAMP:20260423T103500Z
DTSTART;TZID=America/Chicago:20260204T192000
DURATION:PT0H40M0S
SUMMARY:Baker/Olsen vs. Lohkamp/Smallwood
DESCRIPTION:Chst Wednesday Intermediate League - Winter 26 - Paddle Up Pickleball Club
LOCATION:CHST Court 3
CATEGORIES:QuickScores, Pickleball Game
TRANSP:OPAQUE
BEGIN:VALARM
TRIGGER:-PT2H
ACTION:DISPLAY
DESCRIPTION:Baker/Olsen vs. Lohkamp/Smallwood
END:VALARM
END:VEVENT
BEGIN:VEVENT
UID:pupc-72362456-20260204T204000@quickscores.com
DTSTAMP:20260423T103500Z
DTSTART;TZID=America/Chicago:20260204T204000
DURATION:PT0H40M0S
SUMMARY:Lohkamp/Smallwood vs. Langston/Luber
DESCRIPTION:Chst Wednesday Intermediate League - Winter 26 - Paddle Up Pickleball Club
LOCATION:CHST Court 3
CATEGORIES:QuickScores, Pickleball Game
TRANSP:OPAQUE
BEGIN:VALARM
TRIGGER:-PT2H
ACTION:DISPLAY
DESCRIPTION:Lohkamp/Smallwood vs. Langston/Luber
END:VALARM
END:VEVENT
BEGIN:VEVENT
UID:pupc-72969244-20260211T180000@quickscores.com
DTSTAMP:20260423T103500Z
DTSTART;TZID=America/Chicago:20260211T180000
DURATION:PT0H30M0S
SUMMARY:Lohkamp/Smallwood vs. Tooley/Balthozor
DESCRIPTION:Chst Wednesday Intermediate League - Winter 26 - Paddle Up Pickleball Club
LOCATION:CHST Court 1
CATEGORIES:QuickScores, Pickleball Game
TRANSP:OPAQUE
BEGIN:VALARM
TRIGGER:-PT2H
ACTION:DISPLAY
DESCRIPTION:Lohkamp/Smallwood vs. Tooley/Balthozor
END:VALARM
END:VEVENT
BEGIN:VEVENT
UID:pupc-72969252-20260211T190000@quickscores.com
DTSTAMP:20260423T103500Z
DTSTART;TZID=America/Chicago:20260211T190000
DURATION:PT0H30M0S
SUMMARY:Lohkamp/Smallwood vs. Olsen/Griskauskas
DESCRIPTION:Chst Wednesday Intermediate League - Winter 26 - Paddle Up Pickleball Club
LOCATION:CHST Court 6
CATEGORIES:QuickScores, Pickleball Game
TRANSP:OPAQUE
BEGIN:VALARM
TRIGGER:-PT2H
ACTION:DISPLAY
DESCRIPTION:Lohkamp/Smallwood vs. Olsen/Griskauskas
END:VALARM
END:VEVENT
BEGIN:VEVENT
UID:pupc-72969256-20260211T193000@quickscores.com
DTSTAMP:20260423T103500Z
DTSTART;TZID=America/Chicago:20260211T193000
DURATION:PT0H30M0S
SUMMARY:Lohkamp/Smallwood vs. Baker/Olsen
DESCRIPTION:Chst Wednesday Intermediate League - Winter 26 - Paddle Up Pickleball Club
LOCATION:CHST Court 5
CATEGORIES:QuickScores, Pickleball Game
TRANSP:OPAQUE
BEGIN:VALARM
TRIGGER:-PT2H
ACTION:DISPLAY
DESCRIPTION:Lohkamp/Smallwood vs. Baker/Olsen
END:VALARM
END:VEVENT
BEGIN:VEVENT
UID:pupc-72969260-20260211T203000@quickscores.com
DTSTAMP:20260423T103500Z
DTSTART;TZID=America/Chicago:20260211T203000
DURATION:PT0H30M0S
SUMMARY:Lohkamp/Smallwood vs. Ikeda/Clever
DESCRIPTION:Chst Wednesday Intermediate League - Winter 26 - Paddle Up Pickleball Club
LOCATION:CHST Court 3
CATEGORIES:QuickScores, Pickleball Game
TRANSP:OPAQUE
BEGIN:VALARM
TRIGGER:-PT2H
ACTION:DISPLAY
DESCRIPTION:Lohkamp/Smallwood vs. Ikeda/Clever
END:VALARM
END:VEVENT
END:VCALENDAR
