BEGIN:VCALENDAR
VERSION:2.0
PRODID:-//QuickScores.com//BQ Dynamic iCal Creator//EN
METHOD:PUBLISH
X-WR-CALNAME:Stout/Marcotte - Chst Wednesday Intermediate League - Winter 26 - Completed Leagues 2026
X-WR-CALDESC:QuickScores game calendar
X-PUBLISHED-TTL:PT24H
REFRESH-INTERVAL;VALUE=DURATION:PT24H
CALSCALE:GREGORIAN
BEGIN:VTIMEZONE
TZID:America/Chicago
X-LIC-LOCATION:America/Chicago
BEGIN:DAYLIGHT
TZNAME:CDT
TZOFFSETFROM:-0600
TZOFFSETTO:-0500
DTSTART:19700308T020000
RRULE:FREQ=YEARLY;BYMONTH=3;BYDAY=2SU
END:DAYLIGHT
BEGIN:STANDARD
TZNAME:CST
TZOFFSETFROM:-0500
TZOFFSETTO:-0600
DTSTART:19701101T020000
RRULE:FREQ=YEARLY;BYMONTH=11;BYDAY=1SU
END:STANDARD
END:VTIMEZONE
BEGIN:VEVENT
UID:pupc-72362404-20260107T180000@quickscores.com
DTSTAMP:20260425T192500Z
DTSTART;TZID=America/Chicago:20260107T180000
DURATION:PT0H40M0S
SUMMARY:Ikeda/Clever vs. Stout/Marcotte
DESCRIPTION:Chst Wednesday Intermediate League - Winter 26 - Paddle Up Pickleball Club
LOCATION:CHST Court 3
CATEGORIES:QuickScores, Pickleball Game
TRANSP:OPAQUE
BEGIN:VALARM
TRIGGER:-PT2H
ACTION:DISPLAY
DESCRIPTION:Ikeda/Clever vs. Stout/Marcotte
END:VALARM
END:VEVENT
BEGIN:VEVENT
UID:pupc-72362405-20260107T184000@quickscores.com
DTSTAMP:20260425T192500Z
DTSTART;TZID=America/Chicago:20260107T184000
DURATION:PT0H40M0S
SUMMARY:Meier/Parmley vs. Stout/Marcotte
DESCRIPTION:Chst Wednesday Intermediate League - Winter 26 - Paddle Up Pickleball Club
LOCATION:CHST Court 3
CATEGORIES:QuickScores, Pickleball Game
TRANSP:OPAQUE
BEGIN:VALARM
TRIGGER:-PT2H
ACTION:DISPLAY
DESCRIPTION:Meier/Parmley vs. Stout/Marcotte
END:VALARM
END:VEVENT
BEGIN:VEVENT
UID:pupc-72362416-20260114T180000@quickscores.com
DTSTAMP:20260425T192500Z
DTSTART;TZID=America/Chicago:20260114T180000
DURATION:PT0H40M0S
SUMMARY:Stout/Marcotte vs. Butz/Gray
DESCRIPTION:Chst Wednesday Intermediate League - Winter 26 - Paddle Up Pickleball Club
LOCATION:CHST Court 3
CATEGORIES:QuickScores, Pickleball Game
TRANSP:OPAQUE
BEGIN:VALARM
TRIGGER:-PT2H
ACTION:DISPLAY
DESCRIPTION:Stout/Marcotte vs. Butz/Gray
END:VALARM
END:VEVENT
BEGIN:VEVENT
UID:pupc-72362417-20260114T184000@quickscores.com
DTSTAMP:20260425T192500Z
DTSTART;TZID=America/Chicago:20260114T184000
DURATION:PT0H40M0S
SUMMARY:Stout/Marcotte vs. Langston/Luber
DESCRIPTION:Chst Wednesday Intermediate League - Winter 26 - Paddle Up Pickleball Club
LOCATION:CHST Court 3
CATEGORIES:QuickScores, Pickleball Game
TRANSP:OPAQUE
BEGIN:VALARM
TRIGGER:-PT2H
ACTION:DISPLAY
DESCRIPTION:Stout/Marcotte vs. Langston/Luber
END:VALARM
END:VEVENT
BEGIN:VEVENT
UID:pupc-72362435-20260121T200000@quickscores.com
DTSTAMP:20260425T192500Z
DTSTART;TZID=America/Chicago:20260121T200000
DURATION:PT0H40M0S
SUMMARY:Stout/Marcotte vs. McCandless/Guthrie
DESCRIPTION:Chst Wednesday Intermediate League - Winter 26 - Paddle Up Pickleball Club
LOCATION:CHST Court 3
CATEGORIES:QuickScores, Pickleball Game
TRANSP:OPAQUE
BEGIN:VALARM
TRIGGER:-PT2H
ACTION:DISPLAY
DESCRIPTION:Stout/Marcotte vs. McCandless/Guthrie
END:VALARM
END:VEVENT
BEGIN:VEVENT
UID:pupc-72362436-20260121T204000@quickscores.com
DTSTAMP:20260425T192500Z
DTSTART;TZID=America/Chicago:20260121T204000
DURATION:PT0H40M0S
SUMMARY:Stout/Marcotte vs. Robinson/Malloy
DESCRIPTION:Chst Wednesday Intermediate League - Winter 26 - Paddle Up Pickleball Club
LOCATION:CHST Court 3
CATEGORIES:QuickScores, Pickleball Game
TRANSP:OPAQUE
BEGIN:VALARM
TRIGGER:-PT2H
ACTION:DISPLAY
DESCRIPTION:Stout/Marcotte vs. Robinson/Malloy
END:VALARM
END:VEVENT
BEGIN:VEVENT
UID:pupc-72362449-20260128T192000@quickscores.com
DTSTAMP:20260425T192500Z
DTSTART;TZID=America/Chicago:20260128T192000
DURATION:PT0H40M0S
SUMMARY:Havrilka/Havrilka vs. Stout/Marcotte
DESCRIPTION:Chst Wednesday Intermediate League - Winter 26 - Paddle Up Pickleball Club
LOCATION:CHST Court 3
CATEGORIES:QuickScores, Pickleball Game
TRANSP:OPAQUE
BEGIN:VALARM
TRIGGER:-PT2H
ACTION:DISPLAY
DESCRIPTION:Havrilka/Havrilka vs. Stout/Marcotte
END:VALARM
END:VEVENT
BEGIN:VEVENT
UID:pupc-72362448-20260128T204000@quickscores.com
DTSTAMP:20260425T192500Z
DTSTART;TZID=America/Chicago:20260128T204000
DURATION:PT0H40M0S
SUMMARY:Keane/Keane vs. Stout/Marcotte
DESCRIPTION:Chst Wednesday Intermediate League - Winter 26 - Paddle Up Pickleball Club
LOCATION:CHST Court 3
CATEGORIES:QuickScores, Pickleball Game
TRANSP:OPAQUE
BEGIN:VALARM
TRIGGER:-PT2H
ACTION:DISPLAY
DESCRIPTION:Keane/Keane vs. Stout/Marcotte
END:VALARM
END:VEVENT
BEGIN:VEVENT
UID:pupc-72362463-20260204T200000@quickscores.com
DTSTAMP:20260425T192500Z
DTSTART;TZID=America/Chicago:20260204T200000
DURATION:PT0H40M0S
SUMMARY:Stout/Marcotte vs. Butz/Gray
DESCRIPTION:Chst Wednesday Intermediate League - Winter 26 - Paddle Up Pickleball Club
LOCATION:CHST Court 4
CATEGORIES:QuickScores, Pickleball Game
TRANSP:OPAQUE
BEGIN:VALARM
TRIGGER:-PT2H
ACTION:DISPLAY
DESCRIPTION:Stout/Marcotte vs. Butz/Gray
END:VALARM
END:VEVENT
BEGIN:VEVENT
UID:pupc-72362464-20260204T204000@quickscores.com
DTSTAMP:20260425T192500Z
DTSTART;TZID=America/Chicago:20260204T204000
DURATION:PT0H40M0S
SUMMARY:Fisher/Wilson vs. Stout/Marcotte
DESCRIPTION:Chst Wednesday Intermediate League - Winter 26 - Paddle Up Pickleball Club
LOCATION:CHST Court 4
CATEGORIES:QuickScores, Pickleball Game
TRANSP:OPAQUE
BEGIN:VALARM
TRIGGER:-PT2H
ACTION:DISPLAY
DESCRIPTION:Fisher/Wilson vs. Stout/Marcotte
END:VALARM
END:VEVENT
BEGIN:VEVENT
UID:pupc-72969250-20260211T190000@quickscores.com
DTSTAMP:20260425T192500Z
DTSTART;TZID=America/Chicago:20260211T190000
DURATION:PT0H30M0S
SUMMARY:Stout/Marcotte vs. Langston/Luber
DESCRIPTION:Chst Wednesday Intermediate League - Winter 26 - Paddle Up Pickleball Club
LOCATION:CHST Court 3
CATEGORIES:QuickScores, Pickleball Game
TRANSP:OPAQUE
BEGIN:VALARM
TRIGGER:-PT2H
ACTION:DISPLAY
DESCRIPTION:Stout/Marcotte vs. Langston/Luber
END:VALARM
END:VEVENT
BEGIN:VEVENT
UID:pupc-72969255-20260211T193000@quickscores.com
DTSTAMP:20260425T192500Z
DTSTART;TZID=America/Chicago:20260211T193000
DURATION:PT0H30M0S
SUMMARY:Stout/Marcotte vs. Ikeda/Clever
DESCRIPTION:Chst Wednesday Intermediate League - Winter 26 - Paddle Up Pickleball Club
LOCATION:CHST Court 3
CATEGORIES:QuickScores, Pickleball Game
TRANSP:OPAQUE
BEGIN:VALARM
TRIGGER:-PT2H
ACTION:DISPLAY
DESCRIPTION:Stout/Marcotte vs. Ikeda/Clever
END:VALARM
END:VEVENT
END:VCALENDAR
