BEGIN:VCALENDAR
VERSION:2.0
PRODID:-//QuickScores.com//BQ Dynamic iCal Creator//EN
METHOD:PUBLISH
X-WR-CALNAME:Butz/Gray - Chst Wednesday Intermediate League - Winter 26 - Completed Leagues 2026
X-WR-CALDESC:QuickScores game calendar
X-PUBLISHED-TTL:PT24H
REFRESH-INTERVAL;VALUE=DURATION:PT24H
CALSCALE:GREGORIAN
BEGIN:VTIMEZONE
TZID:America/Chicago
X-LIC-LOCATION:America/Chicago
BEGIN:DAYLIGHT
TZNAME:CDT
TZOFFSETFROM:-0600
TZOFFSETTO:-0500
DTSTART:19700308T020000
RRULE:FREQ=YEARLY;BYMONTH=3;BYDAY=2SU
END:DAYLIGHT
BEGIN:STANDARD
TZNAME:CST
TZOFFSETFROM:-0500
TZOFFSETTO:-0600
DTSTART:19701101T020000
RRULE:FREQ=YEARLY;BYMONTH=11;BYDAY=1SU
END:STANDARD
END:VTIMEZONE
BEGIN:VEVENT
UID:pupc-72362408-20260107T192000@quickscores.com
DTSTAMP:20260423T103400Z
DTSTART;TZID=America/Chicago:20260107T192000
DURATION:PT0H40M0S
SUMMARY:Butz/Gray vs. Tooley/Balthozor
DESCRIPTION:Chst Wednesday Intermediate League - Winter 26 - Paddle Up Pickleball Club
LOCATION:CHST Court 4
CATEGORIES:QuickScores, Pickleball Game
TRANSP:OPAQUE
BEGIN:VALARM
TRIGGER:-PT2H
ACTION:DISPLAY
DESCRIPTION:Butz/Gray vs. Tooley/Balthozor
END:VALARM
END:VEVENT
BEGIN:VEVENT
UID:pupc-72392759-20260107T200000@quickscores.com
DTSTAMP:20260423T103400Z
DTSTART;TZID=America/Chicago:20260107T200000
DURATION:PT0H40M0S
SUMMARY:Olsen/Griskauskas vs. Butz/Gray
DESCRIPTION:Chst Wednesday Intermediate League - Winter 26 - Paddle Up Pickleball Club
LOCATION:CHST Court 5
CATEGORIES:QuickScores, Pickleball Game
TRANSP:OPAQUE
BEGIN:VALARM
TRIGGER:-PT2H
ACTION:DISPLAY
DESCRIPTION:Olsen/Griskauskas vs. Butz/Gray
END:VALARM
END:VEVENT
BEGIN:VEVENT
UID:pupc-72362416-20260114T180000@quickscores.com
DTSTAMP:20260423T103400Z
DTSTART;TZID=America/Chicago:20260114T180000
DURATION:PT0H40M0S
SUMMARY:Stout/Marcotte vs. Butz/Gray
DESCRIPTION:Chst Wednesday Intermediate League - Winter 26 - Paddle Up Pickleball Club
LOCATION:CHST Court 3
CATEGORIES:QuickScores, Pickleball Game
TRANSP:OPAQUE
BEGIN:VALARM
TRIGGER:-PT2H
ACTION:DISPLAY
DESCRIPTION:Stout/Marcotte vs. Butz/Gray
END:VALARM
END:VEVENT
BEGIN:VEVENT
UID:pupc-72362420-20260114T192000@quickscores.com
DTSTAMP:20260423T103400Z
DTSTART;TZID=America/Chicago:20260114T192000
DURATION:PT0H40M0S
SUMMARY:Meier/Parmley vs. Butz/Gray
DESCRIPTION:Chst Wednesday Intermediate League - Winter 26 - Paddle Up Pickleball Club
LOCATION:CHST Court 4
CATEGORIES:QuickScores, Pickleball Game
TRANSP:OPAQUE
BEGIN:VALARM
TRIGGER:-PT2H
ACTION:DISPLAY
DESCRIPTION:Meier/Parmley vs. Butz/Gray
END:VALARM
END:VEVENT
BEGIN:VEVENT
UID:pupc-72386164-20260121T180000@quickscores.com
DTSTAMP:20260423T103400Z
DTSTART;TZID=America/Chicago:20260121T180000
DURATION:PT0H40M0S
SUMMARY:Davis/Klumb vs. Butz/Gray
DESCRIPTION:Chst Wednesday Intermediate League - Winter 26 - Paddle Up Pickleball Club
LOCATION:CHST Court 2
CATEGORIES:QuickScores, Pickleball Game
TRANSP:OPAQUE
BEGIN:VALARM
TRIGGER:-PT2H
ACTION:DISPLAY
DESCRIPTION:Davis/Klumb vs. Butz/Gray
END:VALARM
END:VEVENT
BEGIN:VEVENT
UID:pupc-72362429-20260121T192000@quickscores.com
DTSTAMP:20260423T103400Z
DTSTART;TZID=America/Chicago:20260121T192000
DURATION:PT0H40M0S
SUMMARY:Fisher/Wilson vs. Butz/Gray
DESCRIPTION:Chst Wednesday Intermediate League - Winter 26 - Paddle Up Pickleball Club
LOCATION:CHST Court 4
CATEGORIES:QuickScores, Pickleball Game
TRANSP:OPAQUE
BEGIN:VALARM
TRIGGER:-PT2H
ACTION:DISPLAY
DESCRIPTION:Fisher/Wilson vs. Butz/Gray
END:VALARM
END:VEVENT
BEGIN:VEVENT
UID:pupc-72386166-20260128T180000@quickscores.com
DTSTAMP:20260423T103400Z
DTSTART;TZID=America/Chicago:20260128T180000
DURATION:PT0H40M0S
SUMMARY:Russell/Ploch vs. Butz/Gray
DESCRIPTION:Chst Wednesday Intermediate League - Winter 26 - Paddle Up Pickleball Club
LOCATION:CHST Court 2
CATEGORIES:QuickScores, Pickleball Game
TRANSP:OPAQUE
BEGIN:VALARM
TRIGGER:-PT2H
ACTION:DISPLAY
DESCRIPTION:Russell/Ploch vs. Butz/Gray
END:VALARM
END:VEVENT
BEGIN:VEVENT
UID:pupc-72362451-20260128T184000@quickscores.com
DTSTAMP:20260423T103400Z
DTSTART;TZID=America/Chicago:20260128T184000
DURATION:PT0H40M0S
SUMMARY:Robinson/Malloy vs. Butz/Gray
DESCRIPTION:Chst Wednesday Intermediate League - Winter 26 - Paddle Up Pickleball Club
LOCATION:CHST Court 3
CATEGORIES:QuickScores, Pickleball Game
TRANSP:OPAQUE
BEGIN:VALARM
TRIGGER:-PT2H
ACTION:DISPLAY
DESCRIPTION:Robinson/Malloy vs. Butz/Gray
END:VALARM
END:VEVENT
BEGIN:VEVENT
UID:pupc-72362462-20260204T192000@quickscores.com
DTSTAMP:20260423T103400Z
DTSTART;TZID=America/Chicago:20260204T192000
DURATION:PT0H40M0S
SUMMARY:Butz/Gray vs. McCandless/Guthrie
DESCRIPTION:Chst Wednesday Intermediate League - Winter 26 - Paddle Up Pickleball Club
LOCATION:CHST Court 4
CATEGORIES:QuickScores, Pickleball Game
TRANSP:OPAQUE
BEGIN:VALARM
TRIGGER:-PT2H
ACTION:DISPLAY
DESCRIPTION:Butz/Gray vs. McCandless/Guthrie
END:VALARM
END:VEVENT
BEGIN:VEVENT
UID:pupc-72362463-20260204T200000@quickscores.com
DTSTAMP:20260423T103400Z
DTSTART;TZID=America/Chicago:20260204T200000
DURATION:PT0H40M0S
SUMMARY:Stout/Marcotte vs. Butz/Gray
DESCRIPTION:Chst Wednesday Intermediate League - Winter 26 - Paddle Up Pickleball Club
LOCATION:CHST Court 4
CATEGORIES:QuickScores, Pickleball Game
TRANSP:OPAQUE
BEGIN:VALARM
TRIGGER:-PT2H
ACTION:DISPLAY
DESCRIPTION:Stout/Marcotte vs. Butz/Gray
END:VALARM
END:VEVENT
BEGIN:VEVENT
UID:pupc-72969251-20260211T190000@quickscores.com
DTSTAMP:20260423T103400Z
DTSTART;TZID=America/Chicago:20260211T190000
DURATION:PT0H30M0S
SUMMARY:Ikeda/Clever vs. Butz/Gray
DESCRIPTION:Chst Wednesday Intermediate League - Winter 26 - Paddle Up Pickleball Club
LOCATION:CHST Court 4
CATEGORIES:QuickScores, Pickleball Game
TRANSP:OPAQUE
BEGIN:VALARM
TRIGGER:-PT2H
ACTION:DISPLAY
DESCRIPTION:Ikeda/Clever vs. Butz/Gray
END:VALARM
END:VEVENT
END:VCALENDAR
