BEGIN:VCALENDAR
VERSION:2.0
PRODID:-//QuickScores.com//BQ Dynamic iCal Creator//EN
METHOD:PUBLISH
X-WR-CALNAME:Nettler/Denny - Lsl Thursday Night Low Int./rec League - Winter &#039;26 - Completed Leagues 2026
X-WR-CALDESC:QuickScores game calendar
X-PUBLISHED-TTL:PT24H
REFRESH-INTERVAL;VALUE=DURATION:PT24H
CALSCALE:GREGORIAN
BEGIN:VTIMEZONE
TZID:America/Chicago
X-LIC-LOCATION:America/Chicago
BEGIN:DAYLIGHT
TZNAME:CDT
TZOFFSETFROM:-0600
TZOFFSETTO:-0500
DTSTART:19700308T020000
RRULE:FREQ=YEARLY;BYMONTH=3;BYDAY=2SU
END:DAYLIGHT
BEGIN:STANDARD
TZNAME:CST
TZOFFSETFROM:-0500
TZOFFSETTO:-0600
DTSTART:19701101T020000
RRULE:FREQ=YEARLY;BYMONTH=11;BYDAY=1SU
END:STANDARD
END:VTIMEZONE
BEGIN:VEVENT
UID:pupc-72378788-20260108T190000@quickscores.com
DTSTAMP:20260421T193100Z
DTSTART;TZID=America/Chicago:20260108T190000
DURATION:PT0H40M0S
SUMMARY:McElfresh/McElfresh vs. Nettler/Denny
DESCRIPTION:Lsl Thursday Night Low Int./rec League - Winter '26 - Paddle Up Pickleball Club
LOCATION:Court 3
CATEGORIES:QuickScores, Pickleball Game
TRANSP:OPAQUE
BEGIN:VALARM
TRIGGER:-PT2H
ACTION:DISPLAY
DESCRIPTION:McElfresh/McElfresh vs. Nettler/Denny
END:VALARM
END:VEVENT
BEGIN:VEVENT
UID:pupc-72378778-20260108T194000@quickscores.com
DTSTAMP:20260421T193100Z
DTSTART;TZID=America/Chicago:20260108T194000
DURATION:PT0H40M0S
SUMMARY:Nettler/Denny vs. Wallis/Curtit
DESCRIPTION:Lsl Thursday Night Low Int./rec League - Winter '26 - Paddle Up Pickleball Club
LOCATION:Court 3
CATEGORIES:QuickScores, Pickleball Game
TRANSP:OPAQUE
BEGIN:VALARM
TRIGGER:-PT2H
ACTION:DISPLAY
DESCRIPTION:Nettler/Denny vs. Wallis/Curtit
END:VALARM
END:VEVENT
BEGIN:VEVENT
UID:pupc-72378791-20260115T194000@quickscores.com
DTSTAMP:20260421T193100Z
DTSTART;TZID=America/Chicago:20260115T194000
DURATION:PT0H40M0S
SUMMARY:Nettler/Denny vs. Tegeler/Tegeler
DESCRIPTION:Lsl Thursday Night Low Int./rec League - Winter '26 - Paddle Up Pickleball Club
LOCATION:Court 3
CATEGORIES:QuickScores, Pickleball Game
TRANSP:OPAQUE
BEGIN:VALARM
TRIGGER:-PT2H
ACTION:DISPLAY
DESCRIPTION:Nettler/Denny vs. Tegeler/Tegeler
END:VALARM
END:VEVENT
BEGIN:VEVENT
UID:pupc-72378793-20260115T202000@quickscores.com
DTSTAMP:20260421T193100Z
DTSTART;TZID=America/Chicago:20260115T202000
DURATION:PT0H40M0S
SUMMARY:Nettler/Denny vs. Ellebrecht/Brewer
DESCRIPTION:Lsl Thursday Night Low Int./rec League - Winter '26 - Paddle Up Pickleball Club
LOCATION:Court 3
CATEGORIES:QuickScores, Pickleball Game
TRANSP:OPAQUE
BEGIN:VALARM
TRIGGER:-PT2H
ACTION:DISPLAY
DESCRIPTION:Nettler/Denny vs. Ellebrecht/Brewer
END:VALARM
END:VEVENT
BEGIN:VEVENT
UID:pupc-72378806-20260122T190000@quickscores.com
DTSTAMP:20260421T193100Z
DTSTART;TZID=America/Chicago:20260122T190000
DURATION:PT0H40M0S
SUMMARY:Nettler/Denny vs. Lemery/Lemery
DESCRIPTION:Lsl Thursday Night Low Int./rec League - Winter '26 - Paddle Up Pickleball Club
LOCATION:Court 4
CATEGORIES:QuickScores, Pickleball Game
TRANSP:OPAQUE
BEGIN:VALARM
TRIGGER:-PT2H
ACTION:DISPLAY
DESCRIPTION:Nettler/Denny vs. Lemery/Lemery
END:VALARM
END:VEVENT
BEGIN:VEVENT
UID:pupc-72378804-20260122T202000@quickscores.com
DTSTAMP:20260421T193100Z
DTSTART;TZID=America/Chicago:20260122T202000
DURATION:PT0H40M0S
SUMMARY:Nettler/Denny vs. McElfresh/McElfresh
DESCRIPTION:Lsl Thursday Night Low Int./rec League - Winter '26 - Paddle Up Pickleball Club
LOCATION:Court 5
CATEGORIES:QuickScores, Pickleball Game
TRANSP:OPAQUE
BEGIN:VALARM
TRIGGER:-PT2H
ACTION:DISPLAY
DESCRIPTION:Nettler/Denny vs. McElfresh/McElfresh
END:VALARM
END:VEVENT
BEGIN:VEVENT
UID:pupc-72378813-20260129T182000@quickscores.com
DTSTAMP:20260421T193100Z
DTSTART;TZID=America/Chicago:20260129T182000
DURATION:PT0H40M0S
SUMMARY:Nettler/Denny vs. Hornbach/Tillman
DESCRIPTION:Lsl Thursday Night Low Int./rec League - Winter '26 - Paddle Up Pickleball Club
LOCATION:Court 3
CATEGORIES:QuickScores, Pickleball Game
TRANSP:OPAQUE
BEGIN:VALARM
TRIGGER:-PT2H
ACTION:DISPLAY
DESCRIPTION:Nettler/Denny vs. Hornbach/Tillman
END:VALARM
END:VEVENT
BEGIN:VEVENT
UID:pupc-72378812-20260129T190000@quickscores.com
DTSTAMP:20260421T193100Z
DTSTART;TZID=America/Chicago:20260129T190000
DURATION:PT0H40M0S
SUMMARY:Purdy/Carney vs. Nettler/Denny
DESCRIPTION:Lsl Thursday Night Low Int./rec League - Winter '26 - Paddle Up Pickleball Club
LOCATION:Court 5
CATEGORIES:QuickScores, Pickleball Game
TRANSP:OPAQUE
BEGIN:VALARM
TRIGGER:-PT2H
ACTION:DISPLAY
DESCRIPTION:Purdy/Carney vs. Nettler/Denny
END:VALARM
END:VEVENT
BEGIN:VEVENT
UID:pupc-72378830-20260205T182000@quickscores.com
DTSTAMP:20260421T193100Z
DTSTART;TZID=America/Chicago:20260205T182000
DURATION:PT0H40M0S
SUMMARY:Beavers/DeBrower vs. Nettler/Denny
DESCRIPTION:Lsl Thursday Night Low Int./rec League - Winter '26 - Paddle Up Pickleball Club
LOCATION:Court 5
CATEGORIES:QuickScores, Pickleball Game
TRANSP:OPAQUE
BEGIN:VALARM
TRIGGER:-PT2H
ACTION:DISPLAY
DESCRIPTION:Beavers/DeBrower vs. Nettler/Denny
END:VALARM
END:VEVENT
BEGIN:VEVENT
UID:pupc-72378827-20260205T190000@quickscores.com
DTSTAMP:20260421T193100Z
DTSTART;TZID=America/Chicago:20260205T190000
DURATION:PT0H40M0S
SUMMARY:Nettler/Denny vs. Mundschenk/Mundschenk
DESCRIPTION:Lsl Thursday Night Low Int./rec League - Winter '26 - Paddle Up Pickleball Club
LOCATION:Court 4
CATEGORIES:QuickScores, Pickleball Game
TRANSP:OPAQUE
BEGIN:VALARM
TRIGGER:-PT2H
ACTION:DISPLAY
DESCRIPTION:Nettler/Denny vs. Mundschenk/Mundschenk
END:VALARM
END:VEVENT
BEGIN:VEVENT
UID:pupc-73009613-20260212T193000@quickscores.com
DTSTAMP:20260421T193100Z
DTSTART;TZID=America/Chicago:20260212T193000
DURATION:PT0H30M0S
SUMMARY:[3] Nettler/Denny vs. Winner of Game 4
DESCRIPTION:Lsl Thursday Night Low Int./rec League - Winter '26 - Paddle Up Pickleball Club
LOCATION:Court 3
CATEGORIES:QuickScores, Pickleball Game
TRANSP:OPAQUE
BEGIN:VALARM
TRIGGER:-PT2H
ACTION:DISPLAY
DESCRIPTION:[3] Nettler/Denny vs. Winner of Game 4
END:VALARM
END:VEVENT
END:VCALENDAR
