BEGIN:VCALENDAR
VERSION:2.0
PRODID:-//QuickScores.com//BQ Dynamic iCal Creator//EN
METHOD:PUBLISH
X-WR-CALNAME:Lemery/Lemery - Lsl Thursday Night Low Int./rec League - Winter &#039;26 - Completed Leagues 2026
X-WR-CALDESC:QuickScores game calendar
X-PUBLISHED-TTL:PT24H
REFRESH-INTERVAL;VALUE=DURATION:PT24H
CALSCALE:GREGORIAN
BEGIN:VTIMEZONE
TZID:America/Chicago
X-LIC-LOCATION:America/Chicago
BEGIN:DAYLIGHT
TZNAME:CDT
TZOFFSETFROM:-0600
TZOFFSETTO:-0500
DTSTART:19700308T020000
RRULE:FREQ=YEARLY;BYMONTH=3;BYDAY=2SU
END:DAYLIGHT
BEGIN:STANDARD
TZNAME:CST
TZOFFSETFROM:-0500
TZOFFSETTO:-0600
DTSTART:19701101T020000
RRULE:FREQ=YEARLY;BYMONTH=11;BYDAY=1SU
END:STANDARD
END:VTIMEZONE
BEGIN:VEVENT
UID:pupc-72378787-20260108T182000@quickscores.com
DTSTAMP:20260422T170900Z
DTSTART;TZID=America/Chicago:20260108T182000
DURATION:PT0H40M0S
SUMMARY:Stuhlman/Stuhlman vs. Lemery/Lemery
DESCRIPTION:Lsl Thursday Night Low Int./rec League - Winter '26 - Paddle Up Pickleball Club
LOCATION:Court 3
CATEGORIES:QuickScores, Pickleball Game
TRANSP:OPAQUE
BEGIN:VALARM
TRIGGER:-PT2H
ACTION:DISPLAY
DESCRIPTION:Stuhlman/Stuhlman vs. Lemery/Lemery
END:VALARM
END:VEVENT
BEGIN:VEVENT
UID:pupc-72378786-20260108T190000@quickscores.com
DTSTAMP:20260422T170900Z
DTSTART;TZID=America/Chicago:20260108T190000
DURATION:PT0H40M0S
SUMMARY:Lemery/Lemery vs. Beavers/DeBrower
DESCRIPTION:Lsl Thursday Night Low Int./rec League - Winter '26 - Paddle Up Pickleball Club
LOCATION:Court 5
CATEGORIES:QuickScores, Pickleball Game
TRANSP:OPAQUE
BEGIN:VALARM
TRIGGER:-PT2H
ACTION:DISPLAY
DESCRIPTION:Lemery/Lemery vs. Beavers/DeBrower
END:VALARM
END:VEVENT
BEGIN:VEVENT
UID:pupc-72378789-20260115T182000@quickscores.com
DTSTAMP:20260422T170900Z
DTSTART;TZID=America/Chicago:20260115T182000
DURATION:PT0H40M0S
SUMMARY:Purdy/Carney vs. Lemery/Lemery
DESCRIPTION:Lsl Thursday Night Low Int./rec League - Winter '26 - Paddle Up Pickleball Club
LOCATION:Court 3
CATEGORIES:QuickScores, Pickleball Game
TRANSP:OPAQUE
BEGIN:VALARM
TRIGGER:-PT2H
ACTION:DISPLAY
DESCRIPTION:Purdy/Carney vs. Lemery/Lemery
END:VALARM
END:VEVENT
BEGIN:VEVENT
UID:pupc-72378790-20260115T190000@quickscores.com
DTSTAMP:20260422T170900Z
DTSTART;TZID=America/Chicago:20260115T190000
DURATION:PT0H40M0S
SUMMARY:Tegeler/Tegeler vs. Lemery/Lemery
DESCRIPTION:Lsl Thursday Night Low Int./rec League - Winter '26 - Paddle Up Pickleball Club
LOCATION:Court 3
CATEGORIES:QuickScores, Pickleball Game
TRANSP:OPAQUE
BEGIN:VALARM
TRIGGER:-PT2H
ACTION:DISPLAY
DESCRIPTION:Tegeler/Tegeler vs. Lemery/Lemery
END:VALARM
END:VEVENT
BEGIN:VEVENT
UID:pupc-72378801-20260122T182000@quickscores.com
DTSTAMP:20260422T170900Z
DTSTART;TZID=America/Chicago:20260122T182000
DURATION:PT0H40M0S
SUMMARY:Lemery/Lemery vs. Beavers/DeBrower
DESCRIPTION:Lsl Thursday Night Low Int./rec League - Winter '26 - Paddle Up Pickleball Club
LOCATION:Court 3
CATEGORIES:QuickScores, Pickleball Game
TRANSP:OPAQUE
BEGIN:VALARM
TRIGGER:-PT2H
ACTION:DISPLAY
DESCRIPTION:Lemery/Lemery vs. Beavers/DeBrower
END:VALARM
END:VEVENT
BEGIN:VEVENT
UID:pupc-72378806-20260122T190000@quickscores.com
DTSTAMP:20260422T170900Z
DTSTART;TZID=America/Chicago:20260122T190000
DURATION:PT0H40M0S
SUMMARY:Nettler/Denny vs. Lemery/Lemery
DESCRIPTION:Lsl Thursday Night Low Int./rec League - Winter '26 - Paddle Up Pickleball Club
LOCATION:Court 4
CATEGORIES:QuickScores, Pickleball Game
TRANSP:OPAQUE
BEGIN:VALARM
TRIGGER:-PT2H
ACTION:DISPLAY
DESCRIPTION:Nettler/Denny vs. Lemery/Lemery
END:VALARM
END:VEVENT
BEGIN:VEVENT
UID:pupc-72378815-20260129T194000@quickscores.com
DTSTAMP:20260422T170900Z
DTSTART;TZID=America/Chicago:20260129T194000
DURATION:PT0H40M0S
SUMMARY:Kowalik/Rodriguez vs. Lemery/Lemery
DESCRIPTION:Lsl Thursday Night Low Int./rec League - Winter '26 - Paddle Up Pickleball Club
LOCATION:Court 3
CATEGORIES:QuickScores, Pickleball Game
TRANSP:OPAQUE
BEGIN:VALARM
TRIGGER:-PT2H
ACTION:DISPLAY
DESCRIPTION:Kowalik/Rodriguez vs. Lemery/Lemery
END:VALARM
END:VEVENT
BEGIN:VEVENT
UID:pupc-72378816-20260129T202000@quickscores.com
DTSTAMP:20260422T170900Z
DTSTART;TZID=America/Chicago:20260129T202000
DURATION:PT0H40M0S
SUMMARY:Lemery/Lemery vs. Ellebrecht/Brewer
DESCRIPTION:Lsl Thursday Night Low Int./rec League - Winter '26 - Paddle Up Pickleball Club
LOCATION:Court 5
CATEGORIES:QuickScores, Pickleball Game
TRANSP:OPAQUE
BEGIN:VALARM
TRIGGER:-PT2H
ACTION:DISPLAY
DESCRIPTION:Lemery/Lemery vs. Ellebrecht/Brewer
END:VALARM
END:VEVENT
BEGIN:VEVENT
UID:pupc-72378832-20260205T190000@quickscores.com
DTSTAMP:20260422T170900Z
DTSTART;TZID=America/Chicago:20260205T190000
DURATION:PT0H40M0S
SUMMARY:Lemery/Lemery vs. Beavers/DeBrower
DESCRIPTION:Lsl Thursday Night Low Int./rec League - Winter '26 - Paddle Up Pickleball Club
LOCATION:Court 5
CATEGORIES:QuickScores, Pickleball Game
TRANSP:OPAQUE
BEGIN:VALARM
TRIGGER:-PT2H
ACTION:DISPLAY
DESCRIPTION:Lemery/Lemery vs. Beavers/DeBrower
END:VALARM
END:VEVENT
BEGIN:VEVENT
UID:pupc-72378825-20260205T202000@quickscores.com
DTSTAMP:20260422T170900Z
DTSTART;TZID=America/Chicago:20260205T202000
DURATION:PT0H40M0S
SUMMARY:Wallis/Curtit vs. Lemery/Lemery
DESCRIPTION:Lsl Thursday Night Low Int./rec League - Winter '26 - Paddle Up Pickleball Club
LOCATION:Court 5
CATEGORIES:QuickScores, Pickleball Game
TRANSP:OPAQUE
BEGIN:VALARM
TRIGGER:-PT2H
ACTION:DISPLAY
DESCRIPTION:Wallis/Curtit vs. Lemery/Lemery
END:VALARM
END:VEVENT
BEGIN:VEVENT
UID:pupc-73009607-20260212T183000@quickscores.com
DTSTAMP:20260422T170900Z
DTSTART;TZID=America/Chicago:20260212T183000
DURATION:PT0H30M0S
SUMMARY:[7] Lemery/Lemery vs. [10] Tegeler/Tegeler
DESCRIPTION:Lsl Thursday Night Low Int./rec League - Winter '26 - Paddle Up Pickleball Club
LOCATION:Court 3
CATEGORIES:QuickScores, Pickleball Game
TRANSP:OPAQUE
BEGIN:VALARM
TRIGGER:-PT2H
ACTION:DISPLAY
DESCRIPTION:[7] Lemery/Lemery vs. [10] Tegeler/Tegeler
END:VALARM
END:VEVENT
END:VCALENDAR
