BEGIN:VCALENDAR
VERSION:2.0
PRODID:-//QuickScores.com//BQ Dynamic iCal Creator//EN
METHOD:PUBLISH
X-WR-CALNAME:Tegeler/Tegeler - Lsl Thursday Night Low Int./rec League - Winter &#039;26 - Completed Leagues 2026
X-WR-CALDESC:QuickScores game calendar
X-PUBLISHED-TTL:PT24H
REFRESH-INTERVAL;VALUE=DURATION:PT24H
CALSCALE:GREGORIAN
BEGIN:VTIMEZONE
TZID:America/Chicago
X-LIC-LOCATION:America/Chicago
BEGIN:DAYLIGHT
TZNAME:CDT
TZOFFSETFROM:-0600
TZOFFSETTO:-0500
DTSTART:19700308T020000
RRULE:FREQ=YEARLY;BYMONTH=3;BYDAY=2SU
END:DAYLIGHT
BEGIN:STANDARD
TZNAME:CST
TZOFFSETFROM:-0500
TZOFFSETTO:-0600
DTSTART:19701101T020000
RRULE:FREQ=YEARLY;BYMONTH=11;BYDAY=1SU
END:STANDARD
END:VTIMEZONE
BEGIN:VEVENT
UID:pupc-72378783-20260108T174000@quickscores.com
DTSTAMP:20260421T125300Z
DTSTART;TZID=America/Chicago:20260108T174000
DURATION:PT0H40M0S
SUMMARY:Tegeler/Tegeler vs. Hornbach/Tillman
DESCRIPTION:Lsl Thursday Night Low Int./rec League - Winter '26 - Paddle Up Pickleball Club
LOCATION:Court 4
CATEGORIES:QuickScores, Pickleball Game
TRANSP:OPAQUE
BEGIN:VALARM
TRIGGER:-PT2H
ACTION:DISPLAY
DESCRIPTION:Tegeler/Tegeler vs. Hornbach/Tillman
END:VALARM
END:VEVENT
BEGIN:VEVENT
UID:pupc-72378782-20260108T182000@quickscores.com
DTSTAMP:20260421T125300Z
DTSTART;TZID=America/Chicago:20260108T182000
DURATION:PT0H40M0S
SUMMARY:Kowalik/Rodriguez vs. Tegeler/Tegeler
DESCRIPTION:Lsl Thursday Night Low Int./rec League - Winter '26 - Paddle Up Pickleball Club
LOCATION:Court 4
CATEGORIES:QuickScores, Pickleball Game
TRANSP:OPAQUE
BEGIN:VALARM
TRIGGER:-PT2H
ACTION:DISPLAY
DESCRIPTION:Kowalik/Rodriguez vs. Tegeler/Tegeler
END:VALARM
END:VEVENT
BEGIN:VEVENT
UID:pupc-72378790-20260115T190000@quickscores.com
DTSTAMP:20260421T125300Z
DTSTART;TZID=America/Chicago:20260115T190000
DURATION:PT0H40M0S
SUMMARY:Tegeler/Tegeler vs. Lemery/Lemery
DESCRIPTION:Lsl Thursday Night Low Int./rec League - Winter '26 - Paddle Up Pickleball Club
LOCATION:Court 3
CATEGORIES:QuickScores, Pickleball Game
TRANSP:OPAQUE
BEGIN:VALARM
TRIGGER:-PT2H
ACTION:DISPLAY
DESCRIPTION:Tegeler/Tegeler vs. Lemery/Lemery
END:VALARM
END:VEVENT
BEGIN:VEVENT
UID:pupc-72378791-20260115T194000@quickscores.com
DTSTAMP:20260421T125300Z
DTSTART;TZID=America/Chicago:20260115T194000
DURATION:PT0H40M0S
SUMMARY:Nettler/Denny vs. Tegeler/Tegeler
DESCRIPTION:Lsl Thursday Night Low Int./rec League - Winter '26 - Paddle Up Pickleball Club
LOCATION:Court 3
CATEGORIES:QuickScores, Pickleball Game
TRANSP:OPAQUE
BEGIN:VALARM
TRIGGER:-PT2H
ACTION:DISPLAY
DESCRIPTION:Nettler/Denny vs. Tegeler/Tegeler
END:VALARM
END:VEVENT
BEGIN:VEVENT
UID:pupc-72378808-20260122T174000@quickscores.com
DTSTAMP:20260421T125300Z
DTSTART;TZID=America/Chicago:20260122T174000
DURATION:PT0H40M0S
SUMMARY:Tegeler/Tegeler vs. Beavers/DeBrower
DESCRIPTION:Lsl Thursday Night Low Int./rec League - Winter '26 - Paddle Up Pickleball Club
LOCATION:Court 4
CATEGORIES:QuickScores, Pickleball Game
TRANSP:OPAQUE
BEGIN:VALARM
TRIGGER:-PT2H
ACTION:DISPLAY
DESCRIPTION:Tegeler/Tegeler vs. Beavers/DeBrower
END:VALARM
END:VEVENT
BEGIN:VEVENT
UID:pupc-72378809-20260122T182000@quickscores.com
DTSTAMP:20260421T125300Z
DTSTART;TZID=America/Chicago:20260122T182000
DURATION:PT0H40M0S
SUMMARY:Tegeler/Tegeler vs. Purdy/Carney
DESCRIPTION:Lsl Thursday Night Low Int./rec League - Winter '26 - Paddle Up Pickleball Club
LOCATION:Court 5
CATEGORIES:QuickScores, Pickleball Game
TRANSP:OPAQUE
BEGIN:VALARM
TRIGGER:-PT2H
ACTION:DISPLAY
DESCRIPTION:Tegeler/Tegeler vs. Purdy/Carney
END:VALARM
END:VEVENT
BEGIN:VEVENT
UID:pupc-72378820-20260129T174000@quickscores.com
DTSTAMP:20260421T125300Z
DTSTART;TZID=America/Chicago:20260129T174000
DURATION:PT0H40M0S
SUMMARY:Hornbach/Tillman vs. Tegeler/Tegeler
DESCRIPTION:Lsl Thursday Night Low Int./rec League - Winter '26 - Paddle Up Pickleball Club
LOCATION:Court 4
CATEGORIES:QuickScores, Pickleball Game
TRANSP:OPAQUE
BEGIN:VALARM
TRIGGER:-PT2H
ACTION:DISPLAY
DESCRIPTION:Hornbach/Tillman vs. Tegeler/Tegeler
END:VALARM
END:VEVENT
BEGIN:VEVENT
UID:pupc-72378819-20260129T182000@quickscores.com
DTSTAMP:20260421T125300Z
DTSTART;TZID=America/Chicago:20260129T182000
DURATION:PT0H40M0S
SUMMARY:Tegeler/Tegeler vs. Stuhlman/Stuhlman
DESCRIPTION:Lsl Thursday Night Low Int./rec League - Winter '26 - Paddle Up Pickleball Club
LOCATION:Court 4
CATEGORIES:QuickScores, Pickleball Game
TRANSP:OPAQUE
BEGIN:VALARM
TRIGGER:-PT2H
ACTION:DISPLAY
DESCRIPTION:Tegeler/Tegeler vs. Stuhlman/Stuhlman
END:VALARM
END:VEVENT
BEGIN:VEVENT
UID:pupc-72378829-20260205T174000@quickscores.com
DTSTAMP:20260421T125300Z
DTSTART;TZID=America/Chicago:20260205T174000
DURATION:PT0H40M0S
SUMMARY:Kowalik/Rodriguez vs. Tegeler/Tegeler
DESCRIPTION:Lsl Thursday Night Low Int./rec League - Winter '26 - Paddle Up Pickleball Club
LOCATION:Court 4
CATEGORIES:QuickScores, Pickleball Game
TRANSP:OPAQUE
BEGIN:VALARM
TRIGGER:-PT2H
ACTION:DISPLAY
DESCRIPTION:Kowalik/Rodriguez vs. Tegeler/Tegeler
END:VALARM
END:VEVENT
BEGIN:VEVENT
UID:pupc-72378822-20260205T182000@quickscores.com
DTSTAMP:20260421T125300Z
DTSTART;TZID=America/Chicago:20260205T182000
DURATION:PT0H40M0S
SUMMARY:McElfresh/McElfresh vs. Tegeler/Tegeler
DESCRIPTION:Lsl Thursday Night Low Int./rec League - Winter '26 - Paddle Up Pickleball Club
LOCATION:Court 3
CATEGORIES:QuickScores, Pickleball Game
TRANSP:OPAQUE
BEGIN:VALARM
TRIGGER:-PT2H
ACTION:DISPLAY
DESCRIPTION:McElfresh/McElfresh vs. Tegeler/Tegeler
END:VALARM
END:VEVENT
BEGIN:VEVENT
UID:pupc-73009607-20260212T183000@quickscores.com
DTSTAMP:20260421T125300Z
DTSTART;TZID=America/Chicago:20260212T183000
DURATION:PT0H30M0S
SUMMARY:[7] Lemery/Lemery vs. [10] Tegeler/Tegeler
DESCRIPTION:Lsl Thursday Night Low Int./rec League - Winter '26 - Paddle Up Pickleball Club
LOCATION:Court 3
CATEGORIES:QuickScores, Pickleball Game
TRANSP:OPAQUE
BEGIN:VALARM
TRIGGER:-PT2H
ACTION:DISPLAY
DESCRIPTION:[7] Lemery/Lemery vs. [10] Tegeler/Tegeler
END:VALARM
END:VEVENT
END:VCALENDAR
