BEGIN:VCALENDAR
VERSION:2.0
PRODID:-//QuickScores.com//BQ Dynamic iCal Creator//EN
METHOD:PUBLISH
X-WR-CALNAME:TylerBorger/AaronHemstock - 2025 Santa Smash Men&#039;s Doubles - Dec. 20th (1:00pm Start) - Completed Tournaments 2025-2026
X-WR-CALDESC:QuickScores game calendar
X-PUBLISHED-TTL:PT24H
REFRESH-INTERVAL;VALUE=DURATION:PT24H
CALSCALE:GREGORIAN
BEGIN:VTIMEZONE
TZID:America/Chicago
X-LIC-LOCATION:America/Chicago
BEGIN:DAYLIGHT
TZNAME:CDT
TZOFFSETFROM:-0600
TZOFFSETTO:-0500
DTSTART:19700308T020000
RRULE:FREQ=YEARLY;BYMONTH=3;BYDAY=2SU
END:DAYLIGHT
BEGIN:STANDARD
TZNAME:CST
TZOFFSETFROM:-0500
TZOFFSETTO:-0600
DTSTART:19701101T020000
RRULE:FREQ=YEARLY;BYMONTH=11;BYDAY=1SU
END:STANDARD
END:VTIMEZONE
BEGIN:VEVENT
UID:pupc-72246132-20251220T133000@quickscores.com
DTSTAMP:20260425T230300Z
DTSTART;TZID=America/Chicago:20251220T133000
DURATION:PT0H20M0S
SUMMARY:TylerBorger/AaronHemstock vs. RandyCathcart/JohnHull
DESCRIPTION:2025 Santa Smash Men's Doubles - Dec. 20th (1:00pm Start) - Paddle Up Pickleball Club
LOCATION:Court 2
CATEGORIES:QuickScores, Pickleball Game
TRANSP:OPAQUE
BEGIN:VALARM
TRIGGER:-PT2H
ACTION:DISPLAY
DESCRIPTION:TylerBorger/AaronHemstock vs. RandyCathcart/JohnHull
END:VALARM
END:VEVENT
BEGIN:VEVENT
UID:pupc-72246116-20251220T135000@quickscores.com
DTSTAMP:20260425T230300Z
DTSTART;TZID=America/Chicago:20251220T135000
DURATION:PT0H20M0S
SUMMARY:TylerBorger/AaronHemstock vs. NickGibson/ChaseGibson
DESCRIPTION:2025 Santa Smash Men's Doubles - Dec. 20th (1:00pm Start) - Paddle Up Pickleball Club
LOCATION:Court 3
CATEGORIES:QuickScores, Pickleball Game
TRANSP:OPAQUE
BEGIN:VALARM
TRIGGER:-PT2H
ACTION:DISPLAY
DESCRIPTION:TylerBorger/AaronHemstock vs. NickGibson/ChaseGibson
END:VALARM
END:VEVENT
BEGIN:VEVENT
UID:pupc-72246103-20251220T143000@quickscores.com
DTSTAMP:20260425T230300Z
DTSTART;TZID=America/Chicago:20251220T143000
DURATION:PT0H20M0S
SUMMARY:Kensipe/ScottVaccaro vs. TylerBorger/AaronHemstock
DESCRIPTION:2025 Santa Smash Men's Doubles - Dec. 20th (1:00pm Start) - Paddle Up Pickleball Club
LOCATION:Court 5
CATEGORIES:QuickScores, Pickleball Game
TRANSP:OPAQUE
BEGIN:VALARM
TRIGGER:-PT2H
ACTION:DISPLAY
DESCRIPTION:Kensipe/ScottVaccaro vs. TylerBorger/AaronHemstock
END:VALARM
END:VEVENT
BEGIN:VEVENT
UID:pupc-72246145-20251220T145000@quickscores.com
DTSTAMP:20260425T230300Z
DTSTART;TZID=America/Chicago:20251220T145000
DURATION:PT0H20M0S
SUMMARY:TomHollander/RobAllsman vs. TylerBorger/AaronHemstock
DESCRIPTION:2025 Santa Smash Men's Doubles - Dec. 20th (1:00pm Start) - Paddle Up Pickleball Club
LOCATION:Court 7
CATEGORIES:QuickScores, Pickleball Game
TRANSP:OPAQUE
BEGIN:VALARM
TRIGGER:-PT2H
ACTION:DISPLAY
DESCRIPTION:TomHollander/RobAllsman vs. TylerBorger/AaronHemstock
END:VALARM
END:VEVENT
BEGIN:VEVENT
UID:pupc-72246161-20251220T153000@quickscores.com
DTSTAMP:20260425T230300Z
DTSTART;TZID=America/Chicago:20251220T153000
DURATION:PT0H20M0S
SUMMARY:JonathanHarris/DanRath vs. TylerBorger/AaronHemstock
DESCRIPTION:2025 Santa Smash Men's Doubles - Dec. 20th (1:00pm Start) - Paddle Up Pickleball Club
LOCATION:Court 7
CATEGORIES:QuickScores, Pickleball Game
TRANSP:OPAQUE
BEGIN:VALARM
TRIGGER:-PT2H
ACTION:DISPLAY
DESCRIPTION:JonathanHarris/DanRath vs. TylerBorger/AaronHemstock
END:VALARM
END:VEVENT
BEGIN:VEVENT
UID:pupc-72246174-20251220T161000@quickscores.com
DTSTAMP:20260425T230300Z
DTSTART;TZID=America/Chicago:20251220T161000
DURATION:PT0H20M0S
SUMMARY:TylerBorger/AaronHemstock vs. ClayTummins/TrevorWelter
DESCRIPTION:2025 Santa Smash Men's Doubles - Dec. 20th (1:00pm Start) - Paddle Up Pickleball Club
LOCATION:Court 9
CATEGORIES:QuickScores, Pickleball Game
TRANSP:OPAQUE
BEGIN:VALARM
TRIGGER:-PT2H
ACTION:DISPLAY
DESCRIPTION:TylerBorger/AaronHemstock vs. ClayTummins/TrevorWelter
END:VALARM
END:VEVENT
END:VCALENDAR
