BEGIN:VCALENDAR
VERSION:2.0
PRODID:-//QuickScores.com//BQ Dynamic iCal Creator//EN
METHOD:PUBLISH
X-WR-CALNAME:MayurOstwal/RaviC - 2025 Santa Smash Men&#039;s Doubles - Dec. 20th (1:00pm Start) - Completed Tournaments 2025-2026
X-WR-CALDESC:QuickScores game calendar
X-PUBLISHED-TTL:PT24H
REFRESH-INTERVAL;VALUE=DURATION:PT24H
CALSCALE:GREGORIAN
BEGIN:VTIMEZONE
TZID:America/Chicago
X-LIC-LOCATION:America/Chicago
BEGIN:DAYLIGHT
TZNAME:CDT
TZOFFSETFROM:-0600
TZOFFSETTO:-0500
DTSTART:19700308T020000
RRULE:FREQ=YEARLY;BYMONTH=3;BYDAY=2SU
END:DAYLIGHT
BEGIN:STANDARD
TZNAME:CST
TZOFFSETFROM:-0500
TZOFFSETTO:-0600
DTSTART:19701101T020000
RRULE:FREQ=YEARLY;BYMONTH=11;BYDAY=1SU
END:STANDARD
END:VTIMEZONE
BEGIN:VEVENT
UID:pupc-72246127-20251220T131000@quickscores.com
DTSTAMP:20260425T072600Z
DTSTART;TZID=America/Chicago:20251220T131000
DURATION:PT0H20M0S
SUMMARY:MayurOstwal/RaviC vs. JeffLash/GregChappel
DESCRIPTION:2025 Santa Smash Men's Doubles - Dec. 20th (1:00pm Start) - Paddle Up Pickleball Club
LOCATION:Court 2
CATEGORIES:QuickScores, Pickleball Game
TRANSP:OPAQUE
BEGIN:VALARM
TRIGGER:-PT2H
ACTION:DISPLAY
DESCRIPTION:MayurOstwal/RaviC vs. JeffLash/GregChappel
END:VALARM
END:VEVENT
BEGIN:VEVENT
UID:pupc-72246115-20251220T135000@quickscores.com
DTSTAMP:20260425T072600Z
DTSTART;TZID=America/Chicago:20251220T135000
DURATION:PT0H20M0S
SUMMARY:MayurOstwal/RaviC vs. ScottHarvatin/RyanHarvatin
DESCRIPTION:2025 Santa Smash Men's Doubles - Dec. 20th (1:00pm Start) - Paddle Up Pickleball Club
LOCATION:Court 5
CATEGORIES:QuickScores, Pickleball Game
TRANSP:OPAQUE
BEGIN:VALARM
TRIGGER:-PT2H
ACTION:DISPLAY
DESCRIPTION:MayurOstwal/RaviC vs. ScottHarvatin/RyanHarvatin
END:VALARM
END:VEVENT
BEGIN:VEVENT
UID:pupc-72246143-20251220T143000@quickscores.com
DTSTAMP:20260425T072600Z
DTSTART;TZID=America/Chicago:20251220T143000
DURATION:PT0H20M0S
SUMMARY:MasonTolle/GavinDavidson vs. MayurOstwal/RaviC
DESCRIPTION:2025 Santa Smash Men's Doubles - Dec. 20th (1:00pm Start) - Paddle Up Pickleball Club
LOCATION:Court 8
CATEGORIES:QuickScores, Pickleball Game
TRANSP:OPAQUE
BEGIN:VALARM
TRIGGER:-PT2H
ACTION:DISPLAY
DESCRIPTION:MasonTolle/GavinDavidson vs. MayurOstwal/RaviC
END:VALARM
END:VEVENT
BEGIN:VEVENT
UID:pupc-72246154-20251220T151000@quickscores.com
DTSTAMP:20260425T072600Z
DTSTART;TZID=America/Chicago:20251220T151000
DURATION:PT0H20M0S
SUMMARY:DaveReinhardt/SamStreett vs. MayurOstwal/RaviC
DESCRIPTION:2025 Santa Smash Men's Doubles - Dec. 20th (1:00pm Start) - Paddle Up Pickleball Club
LOCATION:Court 1
CATEGORIES:QuickScores, Pickleball Game
TRANSP:OPAQUE
BEGIN:VALARM
TRIGGER:-PT2H
ACTION:DISPLAY
DESCRIPTION:DaveReinhardt/SamStreett vs. MayurOstwal/RaviC
END:VALARM
END:VEVENT
BEGIN:VEVENT
UID:pupc-72246170-20251220T155000@quickscores.com
DTSTAMP:20260425T072600Z
DTSTART;TZID=America/Chicago:20251220T155000
DURATION:PT0H20M0S
SUMMARY:SharanTejKodumuru/SaiRamReddy vs. MayurOstwal/RaviC
DESCRIPTION:2025 Santa Smash Men's Doubles - Dec. 20th (1:00pm Start) - Paddle Up Pickleball Club
LOCATION:Court 4
CATEGORIES:QuickScores, Pickleball Game
TRANSP:OPAQUE
BEGIN:VALARM
TRIGGER:-PT2H
ACTION:DISPLAY
DESCRIPTION:SharanTejKodumuru/SaiRamReddy vs. MayurOstwal/RaviC
END:VALARM
END:VEVENT
BEGIN:VEVENT
UID:pupc-72246100-20251220T161000@quickscores.com
DTSTAMP:20260425T072600Z
DTSTART;TZID=America/Chicago:20251220T161000
DURATION:PT0H20M0S
SUMMARY:MayurOstwal/RaviC vs. RoyceWibbenmeyer/BrennonWibbenmeyer
DESCRIPTION:2025 Santa Smash Men's Doubles - Dec. 20th (1:00pm Start) - Paddle Up Pickleball Club
LOCATION:Court 1
CATEGORIES:QuickScores, Pickleball Game
TRANSP:OPAQUE
BEGIN:VALARM
TRIGGER:-PT2H
ACTION:DISPLAY
DESCRIPTION:MayurOstwal/RaviC vs. RoyceWibbenmeyer/BrennonWibbenmeyer
END:VALARM
END:VEVENT
END:VCALENDAR
