BEGIN:VCALENDAR
VERSION:2.0
PRODID:-//QuickScores.com//BQ Dynamic iCal Creator//EN
METHOD:PUBLISH
X-WR-CALNAME:TyeMalone/TrevorMalone - 2025 Santa Smash Men&#039;s Doubles - Dec. 20th (1:00pm Start) - Completed Tournaments 2025-2026
X-WR-CALDESC:QuickScores game calendar
X-PUBLISHED-TTL:PT24H
REFRESH-INTERVAL;VALUE=DURATION:PT24H
CALSCALE:GREGORIAN
BEGIN:VTIMEZONE
TZID:America/Chicago
X-LIC-LOCATION:America/Chicago
BEGIN:DAYLIGHT
TZNAME:CDT
TZOFFSETFROM:-0600
TZOFFSETTO:-0500
DTSTART:19700308T020000
RRULE:FREQ=YEARLY;BYMONTH=3;BYDAY=2SU
END:DAYLIGHT
BEGIN:STANDARD
TZNAME:CST
TZOFFSETFROM:-0500
TZOFFSETTO:-0600
DTSTART:19701101T020000
RRULE:FREQ=YEARLY;BYMONTH=11;BYDAY=1SU
END:STANDARD
END:VTIMEZONE
BEGIN:VEVENT
UID:pupc-72246163-20251220T133000@quickscores.com
DTSTAMP:20260425T123300Z
DTSTART;TZID=America/Chicago:20251220T133000
DURATION:PT0H20M0S
SUMMARY:TyeMalone/TrevorMalone vs. TerryAllan/JasonJones
DESCRIPTION:2025 Santa Smash Men's Doubles - Dec. 20th (1:00pm Start) - Paddle Up Pickleball Club
LOCATION:Court 1
CATEGORIES:QuickScores, Pickleball Game
TRANSP:OPAQUE
BEGIN:VALARM
TRIGGER:-PT2H
ACTION:DISPLAY
DESCRIPTION:TyeMalone/TrevorMalone vs. TerryAllan/JasonJones
END:VALARM
END:VEVENT
BEGIN:VEVENT
UID:pupc-72246120-20251220T141000@quickscores.com
DTSTAMP:20260425T123300Z
DTSTART;TZID=America/Chicago:20251220T141000
DURATION:PT0H20M0S
SUMMARY:MichealBerry/BrettZimmer vs. TyeMalone/TrevorMalone
DESCRIPTION:2025 Santa Smash Men's Doubles - Dec. 20th (1:00pm Start) - Paddle Up Pickleball Club
LOCATION:Court 4
CATEGORIES:QuickScores, Pickleball Game
TRANSP:OPAQUE
BEGIN:VALARM
TRIGGER:-PT2H
ACTION:DISPLAY
DESCRIPTION:MichealBerry/BrettZimmer vs. TyeMalone/TrevorMalone
END:VALARM
END:VEVENT
BEGIN:VEVENT
UID:pupc-72246136-20251220T145000@quickscores.com
DTSTAMP:20260425T123300Z
DTSTART;TZID=America/Chicago:20251220T145000
DURATION:PT0H20M0S
SUMMARY:TyeMalone/TrevorMalone vs. ChrisMiles/DanBuck
DESCRIPTION:2025 Santa Smash Men's Doubles - Dec. 20th (1:00pm Start) - Paddle Up Pickleball Club
LOCATION:Court 2
CATEGORIES:QuickScores, Pickleball Game
TRANSP:OPAQUE
BEGIN:VALARM
TRIGGER:-PT2H
ACTION:DISPLAY
DESCRIPTION:TyeMalone/TrevorMalone vs. ChrisMiles/DanBuck
END:VALARM
END:VEVENT
BEGIN:VEVENT
UID:pupc-72246093-20251220T151000@quickscores.com
DTSTAMP:20260425T123300Z
DTSTART;TZID=America/Chicago:20251220T151000
DURATION:PT0H20M0S
SUMMARY:NickBorger/MattLandolt vs. TyeMalone/TrevorMalone
DESCRIPTION:2025 Santa Smash Men's Doubles - Dec. 20th (1:00pm Start) - Paddle Up Pickleball Club
LOCATION:Court 3
CATEGORIES:QuickScores, Pickleball Game
TRANSP:OPAQUE
BEGIN:VALARM
TRIGGER:-PT2H
ACTION:DISPLAY
DESCRIPTION:NickBorger/MattLandolt vs. TyeMalone/TrevorMalone
END:VALARM
END:VEVENT
BEGIN:VEVENT
UID:pupc-72246176-20251220T155000@quickscores.com
DTSTAMP:20260425T123300Z
DTSTART;TZID=America/Chicago:20251220T155000
DURATION:PT0H20M0S
SUMMARY:TyeMalone/TrevorMalone vs. LukeBovee/NathanReichert
DESCRIPTION:2025 Santa Smash Men's Doubles - Dec. 20th (1:00pm Start) - Paddle Up Pickleball Club
LOCATION:Court 3
CATEGORIES:QuickScores, Pickleball Game
TRANSP:OPAQUE
BEGIN:VALARM
TRIGGER:-PT2H
ACTION:DISPLAY
DESCRIPTION:TyeMalone/TrevorMalone vs. LukeBovee/NathanReichert
END:VALARM
END:VEVENT
BEGIN:VEVENT
UID:pupc-72246108-20251220T161000@quickscores.com
DTSTAMP:20260425T123300Z
DTSTART;TZID=America/Chicago:20251220T161000
DURATION:PT0H20M0S
SUMMARY:JohnTuason/BlaineArmbruster vs. TyeMalone/TrevorMalone
DESCRIPTION:2025 Santa Smash Men's Doubles - Dec. 20th (1:00pm Start) - Paddle Up Pickleball Club
LOCATION:Court 2
CATEGORIES:QuickScores, Pickleball Game
TRANSP:OPAQUE
BEGIN:VALARM
TRIGGER:-PT2H
ACTION:DISPLAY
DESCRIPTION:JohnTuason/BlaineArmbruster vs. TyeMalone/TrevorMalone
END:VALARM
END:VEVENT
END:VCALENDAR
