BEGIN:VCALENDAR
VERSION:2.0
PRODID:-//QuickScores.com//BQ Dynamic iCal Creator//EN
METHOD:PUBLISH
X-WR-CALNAME:Illinois 1 -PeterSmith/AdhityanTamilselvan/KaitlynDeVries/AvaDziedzic - University Of Missouri Vs. University Of Illinois (12/6) - Quincy - Completed Tournaments 2024-25
X-WR-CALDESC:QuickScores game calendar
X-PUBLISHED-TTL:PT24H
REFRESH-INTERVAL;VALUE=DURATION:PT24H
CALSCALE:GREGORIAN
BEGIN:VTIMEZONE
TZID:America/Chicago
X-LIC-LOCATION:America/Chicago
BEGIN:DAYLIGHT
TZNAME:CDT
TZOFFSETFROM:-0600
TZOFFSETTO:-0500
DTSTART:19700308T020000
RRULE:FREQ=YEARLY;BYMONTH=3;BYDAY=2SU
END:DAYLIGHT
BEGIN:STANDARD
TZNAME:CST
TZOFFSETFROM:-0500
TZOFFSETTO:-0600
DTSTART:19701101T020000
RRULE:FREQ=YEARLY;BYMONTH=11;BYDAY=1SU
END:STANDARD
END:VTIMEZONE
BEGIN:VEVENT
UID:pupc-71987304-20251206T132000@quickscores.com
DTSTAMP:20260423T223500Z
DTSTART;TZID=America/Chicago:20251206T132000
DURATION:PT0H40M0S
SUMMARY:Mizzou 3 - AndrewMay/PhilipVincent/JentryShouman/J vs. Illinois 1 -PeterSmith/AdhityanTamilselvan/Kaitlyn
DESCRIPTION:University Of Missouri Vs. University Of Illinois (12/6) - Quincy - Paddle Up Pickleball Club
LOCATION:Quincy Court 6
CATEGORIES:QuickScores, Pickleball Game
TRANSP:OPAQUE
BEGIN:VALARM
TRIGGER:-PT2H
ACTION:DISPLAY
DESCRIPTION:Mizzou 3 - AndrewMay/PhilipVincent/JentryShouman/J vs. Illinois 1 -PeterSmith/AdhityanTamilselvan/Kaitlyn
END:VALARM
END:VEVENT
BEGIN:VEVENT
UID:pupc-71987306-20251206T144000@quickscores.com
DTSTAMP:20260423T223500Z
DTSTART;TZID=America/Chicago:20251206T144000
DURATION:PT0H40M0S
SUMMARY:Illinois 1 -PeterSmith/AdhityanTamilselvan/Kaitlyn vs. Mizzou 1 - CadenDavis/BenBecker/KayleeSmith/Stafan
DESCRIPTION:University Of Missouri Vs. University Of Illinois (12/6) - Quincy - Paddle Up Pickleball Club
LOCATION:Quincy Court 2
CATEGORIES:QuickScores, Pickleball Game
TRANSP:OPAQUE
BEGIN:VALARM
TRIGGER:-PT2H
ACTION:DISPLAY
DESCRIPTION:Illinois 1 -PeterSmith/AdhityanTamilselvan/Kaitlyn vs. Mizzou 1 - CadenDavis/BenBecker/KayleeSmith/Stafan
END:VALARM
END:VEVENT
BEGIN:VEVENT
UID:pupc-71987310-20251206T160000@quickscores.com
DTSTAMP:20260423T223500Z
DTSTART;TZID=America/Chicago:20251206T160000
DURATION:PT0H40M0S
SUMMARY:Mizzou 2 - CoenLoethen/AarushDeshpande/IsabelKing/ vs. Illinois 1 -PeterSmith/AdhityanTamilselvan/Kaitlyn
DESCRIPTION:University Of Missouri Vs. University Of Illinois (12/6) - Quincy - Paddle Up Pickleball Club
LOCATION:Quincy Court 2
CATEGORIES:QuickScores, Pickleball Game
TRANSP:OPAQUE
BEGIN:VALARM
TRIGGER:-PT2H
ACTION:DISPLAY
DESCRIPTION:Mizzou 2 - CoenLoethen/AarushDeshpande/IsabelKing/ vs. Illinois 1 -PeterSmith/AdhityanTamilselvan/Kaitlyn
END:VALARM
END:VEVENT
END:VCALENDAR
