BEGIN:VCALENDAR
VERSION:2.0
PRODID:-//QuickScores.com//BQ Dynamic iCal Creator//EN
METHOD:PUBLISH
X-WR-CALNAME:Ola/Ola - Chst Pupc Mixed Doubles Championship League - Earlywinter25 - Completed Leagues 2025
X-WR-CALDESC:QuickScores game calendar
X-PUBLISHED-TTL:PT24H
REFRESH-INTERVAL;VALUE=DURATION:PT24H
CALSCALE:GREGORIAN
BEGIN:VTIMEZONE
TZID:America/Chicago
X-LIC-LOCATION:America/Chicago
BEGIN:DAYLIGHT
TZNAME:CDT
TZOFFSETFROM:-0600
TZOFFSETTO:-0500
DTSTART:19700308T020000
RRULE:FREQ=YEARLY;BYMONTH=3;BYDAY=2SU
END:DAYLIGHT
BEGIN:STANDARD
TZNAME:CST
TZOFFSETFROM:-0500
TZOFFSETTO:-0600
DTSTART:19701101T020000
RRULE:FREQ=YEARLY;BYMONTH=11;BYDAY=1SU
END:STANDARD
END:VTIMEZONE
BEGIN:VEVENT
UID:pupc-71664936-20251109T190000@quickscores.com
DTSTAMP:20260423T002000Z
DTSTART;TZID=America/Chicago:20251109T190000
DURATION:PT0H40M0S
SUMMARY:Markham/Markham vs. Ola/Ola
DESCRIPTION:Chst Pupc Mixed Doubles Championship League - Earlywinter25 - Paddle Up Pickleball Club
LOCATION:CHST Court 3
CATEGORIES:QuickScores, Pickleball Game
TRANSP:OPAQUE
BEGIN:VALARM
TRIGGER:-PT2H
ACTION:DISPLAY
DESCRIPTION:Markham/Markham vs. Ola/Ola
END:VALARM
END:VEVENT
BEGIN:VEVENT
UID:pupc-71664942-20251109T195500@quickscores.com
DTSTAMP:20260423T002000Z
DTSTART;TZID=America/Chicago:20251109T195500
DURATION:PT0H40M0S
SUMMARY:Ola/Ola vs. Groeller/Fesser
DESCRIPTION:Chst Pupc Mixed Doubles Championship League - Earlywinter25 - Paddle Up Pickleball Club
LOCATION:CHST Court 3
CATEGORIES:QuickScores, Pickleball Game
TRANSP:OPAQUE
BEGIN:VALARM
TRIGGER:-PT2H
ACTION:DISPLAY
DESCRIPTION:Ola/Ola vs. Groeller/Fesser
END:VALARM
END:VEVENT
BEGIN:VEVENT
UID:pupc-71664949-20251123T190000@quickscores.com
DTSTAMP:20260423T002000Z
DTSTART;TZID=America/Chicago:20251123T190000
DURATION:PT0H40M0S
SUMMARY:Ola/Ola vs. DeLuca/Sevilla
DESCRIPTION:Chst Pupc Mixed Doubles Championship League - Earlywinter25 - Paddle Up Pickleball Club
LOCATION:CHST Court 1
CATEGORIES:QuickScores, Pickleball Game
TRANSP:OPAQUE
BEGIN:VALARM
TRIGGER:-PT2H
ACTION:DISPLAY
DESCRIPTION:Ola/Ola vs. DeLuca/Sevilla
END:VALARM
END:VEVENT
BEGIN:VEVENT
UID:pupc-71664948-20251123T195500@quickscores.com
DTSTAMP:20260423T002000Z
DTSTART;TZID=America/Chicago:20251123T195500
DURATION:PT0H40M0S
SUMMARY:Windham/Reque vs. Ola/Ola
DESCRIPTION:Chst Pupc Mixed Doubles Championship League - Earlywinter25 - Paddle Up Pickleball Club
LOCATION:CHST Court 1
CATEGORIES:QuickScores, Pickleball Game
TRANSP:OPAQUE
BEGIN:VALARM
TRIGGER:-PT2H
ACTION:DISPLAY
DESCRIPTION:Windham/Reque vs. Ola/Ola
END:VALARM
END:VEVENT
BEGIN:VEVENT
UID:pupc-71664964-20251130T190000@quickscores.com
DTSTAMP:20260423T002000Z
DTSTART;TZID=America/Chicago:20251130T190000
DURATION:PT0H40M0S
SUMMARY:Ola/Ola vs. Kruse/Alwood
DESCRIPTION:Chst Pupc Mixed Doubles Championship League - Earlywinter25 - Paddle Up Pickleball Club
LOCATION:CHST Court 4
CATEGORIES:QuickScores, Pickleball Game
TRANSP:OPAQUE
BEGIN:VALARM
TRIGGER:-PT2H
ACTION:DISPLAY
DESCRIPTION:Ola/Ola vs. Kruse/Alwood
END:VALARM
END:VEVENT
BEGIN:VEVENT
UID:pupc-71664963-20251130T195500@quickscores.com
DTSTAMP:20260423T002000Z
DTSTART;TZID=America/Chicago:20251130T195500
DURATION:PT0H40M0S
SUMMARY:Ola/Ola vs. Behlmann/Liston
DESCRIPTION:Chst Pupc Mixed Doubles Championship League - Earlywinter25 - Paddle Up Pickleball Club
LOCATION:CHST Court 2
CATEGORIES:QuickScores, Pickleball Game
TRANSP:OPAQUE
BEGIN:VALARM
TRIGGER:-PT2H
ACTION:DISPLAY
DESCRIPTION:Ola/Ola vs. Behlmann/Liston
END:VALARM
END:VEVENT
BEGIN:VEVENT
UID:pupc-71664972-20251207T190000@quickscores.com
DTSTAMP:20260423T002000Z
DTSTART;TZID=America/Chicago:20251207T190000
DURATION:PT0H40M0S
SUMMARY:Ola/Ola vs. Richert/Richert
DESCRIPTION:Chst Pupc Mixed Doubles Championship League - Earlywinter25 - Paddle Up Pickleball Club
LOCATION:CHST Court 4
CATEGORIES:QuickScores, Pickleball Game
TRANSP:OPAQUE
BEGIN:VALARM
TRIGGER:-PT2H
ACTION:DISPLAY
DESCRIPTION:Ola/Ola vs. Richert/Richert
END:VALARM
END:VEVENT
BEGIN:VEVENT
UID:pupc-71664969-20251207T195500@quickscores.com
DTSTAMP:20260423T002000Z
DTSTART;TZID=America/Chicago:20251207T195500
DURATION:PT0H40M0S
SUMMARY:Ola/Ola vs. Schmidt/Schmidt
DESCRIPTION:Chst Pupc Mixed Doubles Championship League - Earlywinter25 - Paddle Up Pickleball Club
LOCATION:CHST Court 2
CATEGORIES:QuickScores, Pickleball Game
TRANSP:OPAQUE
BEGIN:VALARM
TRIGGER:-PT2H
ACTION:DISPLAY
DESCRIPTION:Ola/Ola vs. Schmidt/Schmidt
END:VALARM
END:VEVENT
BEGIN:VEVENT
UID:pupc-71664976-20251214T190000@quickscores.com
DTSTAMP:20260423T002000Z
DTSTART;TZID=America/Chicago:20251214T190000
DURATION:PT0H40M0S
SUMMARY:DeLuca/Sevilla vs. Ola/Ola
DESCRIPTION:Chst Pupc Mixed Doubles Championship League - Earlywinter25 - Paddle Up Pickleball Club
LOCATION:CHST Court 3
CATEGORIES:QuickScores, Pickleball Game
TRANSP:OPAQUE
BEGIN:VALARM
TRIGGER:-PT2H
ACTION:DISPLAY
DESCRIPTION:DeLuca/Sevilla vs. Ola/Ola
END:VALARM
END:VEVENT
BEGIN:VEVENT
UID:pupc-71664984-20251214T195500@quickscores.com
DTSTAMP:20260423T002000Z
DTSTART;TZID=America/Chicago:20251214T195500
DURATION:PT0H40M0S
SUMMARY:Ola/Ola vs. Landolt/Nowak
DESCRIPTION:Chst Pupc Mixed Doubles Championship League - Earlywinter25 - Paddle Up Pickleball Club
LOCATION:CHST Court 2
CATEGORIES:QuickScores, Pickleball Game
TRANSP:OPAQUE
BEGIN:VALARM
TRIGGER:-PT2H
ACTION:DISPLAY
DESCRIPTION:Ola/Ola vs. Landolt/Nowak
END:VALARM
END:VEVENT
BEGIN:VEVENT
UID:pupc-72154679-20251221T190000@quickscores.com
DTSTAMP:20260423T002000Z
DTSTART;TZID=America/Chicago:20251221T190000
DURATION:PT0H30M0S
SUMMARY:[3] Ola/Ola vs. [6] Landolt/Nowak
DESCRIPTION:Chst Pupc Mixed Doubles Championship League - Earlywinter25 - Paddle Up Pickleball Club
LOCATION:CHST Court 4
CATEGORIES:QuickScores, Pickleball Game
TRANSP:OPAQUE
BEGIN:VALARM
TRIGGER:-PT2H
ACTION:DISPLAY
DESCRIPTION:[3] Ola/Ola vs. [6] Landolt/Nowak
END:VALARM
END:VEVENT
END:VCALENDAR
