BEGIN:VCALENDAR
VERSION:2.0
PRODID:-//QuickScores.com//BQ Dynamic iCal Creator//EN
METHOD:PUBLISH
X-WR-CALNAME:Van Matre/Haave - Chst Pupc Mixed Doubles Championship League - Earlywinter25 - Completed Leagues 2025
X-WR-CALDESC:QuickScores game calendar
X-PUBLISHED-TTL:PT24H
REFRESH-INTERVAL;VALUE=DURATION:PT24H
CALSCALE:GREGORIAN
BEGIN:VTIMEZONE
TZID:America/Chicago
X-LIC-LOCATION:America/Chicago
BEGIN:DAYLIGHT
TZNAME:CDT
TZOFFSETFROM:-0600
TZOFFSETTO:-0500
DTSTART:19700308T020000
RRULE:FREQ=YEARLY;BYMONTH=3;BYDAY=2SU
END:DAYLIGHT
BEGIN:STANDARD
TZNAME:CST
TZOFFSETFROM:-0500
TZOFFSETTO:-0600
DTSTART:19701101T020000
RRULE:FREQ=YEARLY;BYMONTH=11;BYDAY=1SU
END:STANDARD
END:VTIMEZONE
BEGIN:VEVENT
UID:pupc-71664940-20251109T190000@quickscores.com
DTSTAMP:20260422T050200Z
DTSTART;TZID=America/Chicago:20251109T190000
DURATION:PT0H40M0S
SUMMARY:Van Matre/Haave vs. DeLuca/Sevilla
DESCRIPTION:Chst Pupc Mixed Doubles Championship League - Earlywinter25 - Paddle Up Pickleball Club
LOCATION:CHST Court 2
CATEGORIES:QuickScores, Pickleball Game
TRANSP:OPAQUE
BEGIN:VALARM
TRIGGER:-PT2H
ACTION:DISPLAY
DESCRIPTION:Van Matre/Haave vs. DeLuca/Sevilla
END:VALARM
END:VEVENT
BEGIN:VEVENT
UID:pupc-71664945-20251109T195500@quickscores.com
DTSTAMP:20260422T050200Z
DTSTART;TZID=America/Chicago:20251109T195500
DURATION:PT0H40M0S
SUMMARY:Van Matre/Haave vs. Landolt/Nowak
DESCRIPTION:Chst Pupc Mixed Doubles Championship League - Earlywinter25 - Paddle Up Pickleball Club
LOCATION:CHST Court 6
CATEGORIES:QuickScores, Pickleball Game
TRANSP:OPAQUE
BEGIN:VALARM
TRIGGER:-PT2H
ACTION:DISPLAY
DESCRIPTION:Van Matre/Haave vs. Landolt/Nowak
END:VALARM
END:VEVENT
BEGIN:VEVENT
UID:pupc-71664952-20251123T190000@quickscores.com
DTSTAMP:20260422T050200Z
DTSTART;TZID=America/Chicago:20251123T190000
DURATION:PT0H40M0S
SUMMARY:Van Matre/Haave vs. Windham/Reque
DESCRIPTION:Chst Pupc Mixed Doubles Championship League - Earlywinter25 - Paddle Up Pickleball Club
LOCATION:CHST Court 4
CATEGORIES:QuickScores, Pickleball Game
TRANSP:OPAQUE
BEGIN:VALARM
TRIGGER:-PT2H
ACTION:DISPLAY
DESCRIPTION:Van Matre/Haave vs. Windham/Reque
END:VALARM
END:VEVENT
BEGIN:VEVENT
UID:pupc-71691948-20251123T195500@quickscores.com
DTSTAMP:20260422T050200Z
DTSTART;TZID=America/Chicago:20251123T195500
DURATION:PT0H40M0S
SUMMARY:Van Matre/Haave vs. Kruse/Alwood
DESCRIPTION:Chst Pupc Mixed Doubles Championship League - Earlywinter25 - Paddle Up Pickleball Club
LOCATION:CHST Court 4
CATEGORIES:QuickScores, Pickleball Game
TRANSP:OPAQUE
BEGIN:VALARM
TRIGGER:-PT2H
ACTION:DISPLAY
DESCRIPTION:Van Matre/Haave vs. Kruse/Alwood
END:VALARM
END:VEVENT
BEGIN:VEVENT
UID:pupc-71664962-20251130T190000@quickscores.com
DTSTAMP:20260422T050200Z
DTSTART;TZID=America/Chicago:20251130T190000
DURATION:PT0H40M0S
SUMMARY:Schmidt/Schmidt vs. Van Matre/Haave
DESCRIPTION:Chst Pupc Mixed Doubles Championship League - Earlywinter25 - Paddle Up Pickleball Club
LOCATION:CHST Court 1
CATEGORIES:QuickScores, Pickleball Game
TRANSP:OPAQUE
BEGIN:VALARM
TRIGGER:-PT2H
ACTION:DISPLAY
DESCRIPTION:Schmidt/Schmidt vs. Van Matre/Haave
END:VALARM
END:VEVENT
BEGIN:VEVENT
UID:pupc-71664961-20251130T195500@quickscores.com
DTSTAMP:20260422T050200Z
DTSTART;TZID=America/Chicago:20251130T195500
DURATION:PT0H40M0S
SUMMARY:Richert/Richert vs. Van Matre/Haave
DESCRIPTION:Chst Pupc Mixed Doubles Championship League - Earlywinter25 - Paddle Up Pickleball Club
LOCATION:CHST Court 4
CATEGORIES:QuickScores, Pickleball Game
TRANSP:OPAQUE
BEGIN:VALARM
TRIGGER:-PT2H
ACTION:DISPLAY
DESCRIPTION:Richert/Richert vs. Van Matre/Haave
END:VALARM
END:VEVENT
BEGIN:VEVENT
UID:pupc-71691953-20251214T190000@quickscores.com
DTSTAMP:20260422T050200Z
DTSTART;TZID=America/Chicago:20251214T190000
DURATION:PT0H40M0S
SUMMARY:Van Matre/Haave vs. Behlmann/Liston
DESCRIPTION:Chst Pupc Mixed Doubles Championship League - Earlywinter25 - Paddle Up Pickleball Club
LOCATION:CHST Court 1
CATEGORIES:QuickScores, Pickleball Game
TRANSP:OPAQUE
BEGIN:VALARM
TRIGGER:-PT2H
ACTION:DISPLAY
DESCRIPTION:Van Matre/Haave vs. Behlmann/Liston
END:VALARM
END:VEVENT
BEGIN:VEVENT
UID:pupc-71664985-20251214T195500@quickscores.com
DTSTAMP:20260422T050200Z
DTSTART;TZID=America/Chicago:20251214T195500
DURATION:PT0H40M0S
SUMMARY:Kruse/Alwood vs. Van Matre/Haave
DESCRIPTION:Chst Pupc Mixed Doubles Championship League - Earlywinter25 - Paddle Up Pickleball Club
LOCATION:CHST Court 4
CATEGORIES:QuickScores, Pickleball Game
TRANSP:OPAQUE
BEGIN:VALARM
TRIGGER:-PT2H
ACTION:DISPLAY
DESCRIPTION:Kruse/Alwood vs. Van Matre/Haave
END:VALARM
END:VEVENT
BEGIN:VEVENT
UID:pupc-72154676-20251221T190000@quickscores.com
DTSTAMP:20260422T050200Z
DTSTART;TZID=America/Chicago:20251221T190000
DURATION:PT0H30M0S
SUMMARY:[1] Van Matre/Haave vs. [8] Kruse/Alwood
DESCRIPTION:Chst Pupc Mixed Doubles Championship League - Earlywinter25 - Paddle Up Pickleball Club
LOCATION:CHST Court 1
CATEGORIES:QuickScores, Pickleball Game
TRANSP:OPAQUE
BEGIN:VALARM
TRIGGER:-PT2H
ACTION:DISPLAY
DESCRIPTION:[1] Van Matre/Haave vs. [8] Kruse/Alwood
END:VALARM
END:VEVENT
END:VCALENDAR
