BEGIN:VCALENDAR
VERSION:2.0
PRODID:-//QuickScores.com//BQ Dynamic iCal Creator//EN
METHOD:PUBLISH
X-WR-CALNAME:KStearns/RVinograd - Lsl Wednesday Rec./low Int Doubles Tm. Lg. - Early Winter 25 - Completed Leagues 2025
X-WR-CALDESC:QuickScores game calendar
X-PUBLISHED-TTL:PT24H
REFRESH-INTERVAL;VALUE=DURATION:PT24H
CALSCALE:GREGORIAN
BEGIN:VTIMEZONE
TZID:America/Chicago
X-LIC-LOCATION:America/Chicago
BEGIN:DAYLIGHT
TZNAME:CDT
TZOFFSETFROM:-0600
TZOFFSETTO:-0500
DTSTART:19700308T020000
RRULE:FREQ=YEARLY;BYMONTH=3;BYDAY=2SU
END:DAYLIGHT
BEGIN:STANDARD
TZNAME:CST
TZOFFSETFROM:-0500
TZOFFSETTO:-0600
DTSTART:19701101T020000
RRULE:FREQ=YEARLY;BYMONTH=11;BYDAY=1SU
END:STANDARD
END:VTIMEZONE
BEGIN:VEVENT
UID:pupc-71466343-20251029T180000@quickscores.com
DTSTAMP:20260422T200900Z
DTSTART;TZID=America/Chicago:20251029T180000
DURATION:PT0H40M0S
SUMMARY:KStearns/RVinograd vs. Mahoney/Trower
DESCRIPTION:Lsl Wednesday Rec./low Int Doubles Tm. Lg. - Early Winter 25 - Paddle Up Pickleball Club
LOCATION:Court 8
CATEGORIES:QuickScores, Pickleball Game
TRANSP:OPAQUE
BEGIN:VALARM
TRIGGER:-PT2H
ACTION:DISPLAY
DESCRIPTION:KStearns/RVinograd vs. Mahoney/Trower
END:VALARM
END:VEVENT
BEGIN:VEVENT
UID:pupc-71466341-20251029T192000@quickscores.com
DTSTAMP:20260422T200900Z
DTSTART;TZID=America/Chicago:20251029T192000
DURATION:PT0H40M0S
SUMMARY:DStearns/JVinograd vs. KStearns/RVinograd
DESCRIPTION:Lsl Wednesday Rec./low Int Doubles Tm. Lg. - Early Winter 25 - Paddle Up Pickleball Club
LOCATION:Court 7
CATEGORIES:QuickScores, Pickleball Game
TRANSP:OPAQUE
BEGIN:VALARM
TRIGGER:-PT2H
ACTION:DISPLAY
DESCRIPTION:DStearns/JVinograd vs. KStearns/RVinograd
END:VALARM
END:VEVENT
BEGIN:VEVENT
UID:pupc-71466348-20251105T184000@quickscores.com
DTSTAMP:20260422T200900Z
DTSTART;TZID=America/Chicago:20251105T184000
DURATION:PT0H40M0S
SUMMARY:KStearns/RVinograd vs. Bathe/Bathe
DESCRIPTION:Lsl Wednesday Rec./low Int Doubles Tm. Lg. - Early Winter 25 - Paddle Up Pickleball Club
LOCATION:Court 6
CATEGORIES:QuickScores, Pickleball Game
TRANSP:OPAQUE
BEGIN:VALARM
TRIGGER:-PT2H
ACTION:DISPLAY
DESCRIPTION:KStearns/RVinograd vs. Bathe/Bathe
END:VALARM
END:VEVENT
BEGIN:VEVENT
UID:pupc-71502736-20251105T200000@quickscores.com
DTSTAMP:20260422T200900Z
DTSTART;TZID=America/Chicago:20251105T200000
DURATION:PT0H40M0S
SUMMARY:KStearns/RVinograd vs. Denny/Nettler
DESCRIPTION:Lsl Wednesday Rec./low Int Doubles Tm. Lg. - Early Winter 25 - Paddle Up Pickleball Club
LOCATION:Court 6
CATEGORIES:QuickScores, Pickleball Game
TRANSP:OPAQUE
BEGIN:VALARM
TRIGGER:-PT2H
ACTION:DISPLAY
DESCRIPTION:KStearns/RVinograd vs. Denny/Nettler
END:VALARM
END:VEVENT
BEGIN:VEVENT
UID:pupc-71466357-20251112T180000@quickscores.com
DTSTAMP:20260422T200900Z
DTSTART;TZID=America/Chicago:20251112T180000
DURATION:PT0H40M0S
SUMMARY:KStearns/RVinograd vs. DStearns/JVinograd
DESCRIPTION:Lsl Wednesday Rec./low Int Doubles Tm. Lg. - Early Winter 25 - Paddle Up Pickleball Club
LOCATION:Court 8
CATEGORIES:QuickScores, Pickleball Game
TRANSP:OPAQUE
BEGIN:VALARM
TRIGGER:-PT2H
ACTION:DISPLAY
DESCRIPTION:KStearns/RVinograd vs. DStearns/JVinograd
END:VALARM
END:VEVENT
BEGIN:VEVENT
UID:pupc-71466354-20251112T184000@quickscores.com
DTSTAMP:20260422T200900Z
DTSTART;TZID=America/Chicago:20251112T184000
DURATION:PT0H40M0S
SUMMARY:McCarthy/Meuse vs. KStearns/RVinograd
DESCRIPTION:Lsl Wednesday Rec./low Int Doubles Tm. Lg. - Early Winter 25 - Paddle Up Pickleball Club
LOCATION:Court 8
CATEGORIES:QuickScores, Pickleball Game
TRANSP:OPAQUE
BEGIN:VALARM
TRIGGER:-PT2H
ACTION:DISPLAY
DESCRIPTION:McCarthy/Meuse vs. KStearns/RVinograd
END:VALARM
END:VEVENT
BEGIN:VEVENT
UID:pupc-71466364-20251119T180000@quickscores.com
DTSTAMP:20260422T200900Z
DTSTART;TZID=America/Chicago:20251119T180000
DURATION:PT0H40M0S
SUMMARY:KStearns/RVinograd vs. Mahoney/Trower
DESCRIPTION:Lsl Wednesday Rec./low Int Doubles Tm. Lg. - Early Winter 25 - Paddle Up Pickleball Club
LOCATION:Court 4
CATEGORIES:QuickScores, Pickleball Game
TRANSP:OPAQUE
BEGIN:VALARM
TRIGGER:-PT2H
ACTION:DISPLAY
DESCRIPTION:KStearns/RVinograd vs. Mahoney/Trower
END:VALARM
END:VEVENT
BEGIN:VEVENT
UID:pupc-71466369-20251119T184000@quickscores.com
DTSTAMP:20260422T200900Z
DTSTART;TZID=America/Chicago:20251119T184000
DURATION:PT0H40M0S
SUMMARY:McCarthy/Meuse vs. KStearns/RVinograd
DESCRIPTION:Lsl Wednesday Rec./low Int Doubles Tm. Lg. - Early Winter 25 - Paddle Up Pickleball Club
LOCATION:Court 4
CATEGORIES:QuickScores, Pickleball Game
TRANSP:OPAQUE
BEGIN:VALARM
TRIGGER:-PT2H
ACTION:DISPLAY
DESCRIPTION:McCarthy/Meuse vs. KStearns/RVinograd
END:VALARM
END:VEVENT
BEGIN:VEVENT
UID:pupc-71466363-20251126T180000@quickscores.com
DTSTAMP:20260422T200900Z
DTSTART;TZID=America/Chicago:20251126T180000
DURATION:PT0H40M0S
SUMMARY:KStearns/RVinograd vs. Gibson/Gibson
DESCRIPTION:Lsl Wednesday Rec./low Int Doubles Tm. Lg. - Early Winter 25 - Paddle Up Pickleball Club
LOCATION:Court 8
CATEGORIES:QuickScores, Pickleball Game
TRANSP:OPAQUE
BEGIN:VALARM
TRIGGER:-PT2H
ACTION:DISPLAY
DESCRIPTION:KStearns/RVinograd vs. Gibson/Gibson
END:VALARM
END:VEVENT
BEGIN:VEVENT
UID:pupc-71466360-20251126T184000@quickscores.com
DTSTAMP:20260422T200900Z
DTSTART;TZID=America/Chicago:20251126T184000
DURATION:PT0H40M0S
SUMMARY:McElfresh/Kahanec vs. KStearns/RVinograd
DESCRIPTION:Lsl Wednesday Rec./low Int Doubles Tm. Lg. - Early Winter 25 - Paddle Up Pickleball Club
LOCATION:Court 8
CATEGORIES:QuickScores, Pickleball Game
TRANSP:OPAQUE
BEGIN:VALARM
TRIGGER:-PT2H
ACTION:DISPLAY
DESCRIPTION:McElfresh/Kahanec vs. KStearns/RVinograd
END:VALARM
END:VEVENT
BEGIN:VEVENT
UID:pupc-71955644-20251203T193000@quickscores.com
DTSTAMP:20260422T200900Z
DTSTART;TZID=America/Chicago:20251203T193000
DURATION:PT0H30M0S
SUMMARY:[2] Bathe/Bathe vs. [7] KStearns/RVinograd
DESCRIPTION:Lsl Wednesday Rec./low Int Doubles Tm. Lg. - Early Winter 25 - Paddle Up Pickleball Club
LOCATION:Court 8
CATEGORIES:QuickScores, Pickleball Game
TRANSP:OPAQUE
BEGIN:VALARM
TRIGGER:-PT2H
ACTION:DISPLAY
DESCRIPTION:[2] Bathe/Bathe vs. [7] KStearns/RVinograd
END:VALARM
END:VEVENT
END:VCALENDAR
