BEGIN:VCALENDAR
VERSION:2.0
PRODID:-//QuickScores.com//BQ Dynamic iCal Creator//EN
METHOD:PUBLISH
X-WR-CALNAME:DStearns/JVinograd - Lsl Wednesday Rec./low Int Doubles Tm. Lg. - Early Winter 25 - Completed Leagues 2025
X-WR-CALDESC:QuickScores game calendar
X-PUBLISHED-TTL:PT24H
REFRESH-INTERVAL;VALUE=DURATION:PT24H
CALSCALE:GREGORIAN
BEGIN:VTIMEZONE
TZID:America/Chicago
X-LIC-LOCATION:America/Chicago
BEGIN:DAYLIGHT
TZNAME:CDT
TZOFFSETFROM:-0600
TZOFFSETTO:-0500
DTSTART:19700308T020000
RRULE:FREQ=YEARLY;BYMONTH=3;BYDAY=2SU
END:DAYLIGHT
BEGIN:STANDARD
TZNAME:CST
TZOFFSETFROM:-0500
TZOFFSETTO:-0600
DTSTART:19701101T020000
RRULE:FREQ=YEARLY;BYMONTH=11;BYDAY=1SU
END:STANDARD
END:VTIMEZONE
BEGIN:VEVENT
UID:pupc-71466342-20251029T184000@quickscores.com
DTSTAMP:20260424T204800Z
DTSTART;TZID=America/Chicago:20251029T184000
DURATION:PT0H40M0S
SUMMARY:DStearns/JVinograd vs. Mahoney/Trower
DESCRIPTION:Lsl Wednesday Rec./low Int Doubles Tm. Lg. - Early Winter 25 - Paddle Up Pickleball Club
LOCATION:Court 8
CATEGORIES:QuickScores, Pickleball Game
TRANSP:OPAQUE
BEGIN:VALARM
TRIGGER:-PT2H
ACTION:DISPLAY
DESCRIPTION:DStearns/JVinograd vs. Mahoney/Trower
END:VALARM
END:VEVENT
BEGIN:VEVENT
UID:pupc-71466341-20251029T192000@quickscores.com
DTSTAMP:20260424T204800Z
DTSTART;TZID=America/Chicago:20251029T192000
DURATION:PT0H40M0S
SUMMARY:DStearns/JVinograd vs. KStearns/RVinograd
DESCRIPTION:Lsl Wednesday Rec./low Int Doubles Tm. Lg. - Early Winter 25 - Paddle Up Pickleball Club
LOCATION:Court 7
CATEGORIES:QuickScores, Pickleball Game
TRANSP:OPAQUE
BEGIN:VALARM
TRIGGER:-PT2H
ACTION:DISPLAY
DESCRIPTION:DStearns/JVinograd vs. KStearns/RVinograd
END:VALARM
END:VEVENT
BEGIN:VEVENT
UID:pupc-71466350-20251105T180000@quickscores.com
DTSTAMP:20260424T204800Z
DTSTART;TZID=America/Chicago:20251105T180000
DURATION:PT0H40M0S
SUMMARY:Gibson/Gibson vs. DStearns/JVinograd
DESCRIPTION:Lsl Wednesday Rec./low Int Doubles Tm. Lg. - Early Winter 25 - Paddle Up Pickleball Club
LOCATION:Court 6
CATEGORIES:QuickScores, Pickleball Game
TRANSP:OPAQUE
BEGIN:VALARM
TRIGGER:-PT2H
ACTION:DISPLAY
DESCRIPTION:Gibson/Gibson vs. DStearns/JVinograd
END:VALARM
END:VEVENT
BEGIN:VEVENT
UID:pupc-71466347-20251105T192000@quickscores.com
DTSTAMP:20260424T204800Z
DTSTART;TZID=America/Chicago:20251105T192000
DURATION:PT0H40M0S
SUMMARY:DStearns/JVinograd vs. McCarthy/Meuse
DESCRIPTION:Lsl Wednesday Rec./low Int Doubles Tm. Lg. - Early Winter 25 - Paddle Up Pickleball Club
LOCATION:Court 6
CATEGORIES:QuickScores, Pickleball Game
TRANSP:OPAQUE
BEGIN:VALARM
TRIGGER:-PT2H
ACTION:DISPLAY
DESCRIPTION:DStearns/JVinograd vs. McCarthy/Meuse
END:VALARM
END:VEVENT
BEGIN:VEVENT
UID:pupc-71466357-20251112T180000@quickscores.com
DTSTAMP:20260424T204800Z
DTSTART;TZID=America/Chicago:20251112T180000
DURATION:PT0H40M0S
SUMMARY:KStearns/RVinograd vs. DStearns/JVinograd
DESCRIPTION:Lsl Wednesday Rec./low Int Doubles Tm. Lg. - Early Winter 25 - Paddle Up Pickleball Club
LOCATION:Court 8
CATEGORIES:QuickScores, Pickleball Game
TRANSP:OPAQUE
BEGIN:VALARM
TRIGGER:-PT2H
ACTION:DISPLAY
DESCRIPTION:KStearns/RVinograd vs. DStearns/JVinograd
END:VALARM
END:VEVENT
BEGIN:VEVENT
UID:pupc-71466352-20251112T192000@quickscores.com
DTSTAMP:20260424T204800Z
DTSTART;TZID=America/Chicago:20251112T192000
DURATION:PT0H40M0S
SUMMARY:DStearns/JVinograd vs. Mahoney/Trower
DESCRIPTION:Lsl Wednesday Rec./low Int Doubles Tm. Lg. - Early Winter 25 - Paddle Up Pickleball Club
LOCATION:Court 8
CATEGORIES:QuickScores, Pickleball Game
TRANSP:OPAQUE
BEGIN:VALARM
TRIGGER:-PT2H
ACTION:DISPLAY
DESCRIPTION:DStearns/JVinograd vs. Mahoney/Trower
END:VALARM
END:VEVENT
BEGIN:VEVENT
UID:pupc-71466368-20251119T192000@quickscores.com
DTSTAMP:20260424T204800Z
DTSTART;TZID=America/Chicago:20251119T192000
DURATION:PT0H40M0S
SUMMARY:Bathe/Bathe vs. DStearns/JVinograd
DESCRIPTION:Lsl Wednesday Rec./low Int Doubles Tm. Lg. - Early Winter 25 - Paddle Up Pickleball Club
LOCATION:Court 6
CATEGORIES:QuickScores, Pickleball Game
TRANSP:OPAQUE
BEGIN:VALARM
TRIGGER:-PT2H
ACTION:DISPLAY
DESCRIPTION:Bathe/Bathe vs. DStearns/JVinograd
END:VALARM
END:VEVENT
BEGIN:VEVENT
UID:pupc-71488194-20251119T200000@quickscores.com
DTSTAMP:20260424T204800Z
DTSTART;TZID=America/Chicago:20251119T200000
DURATION:PT0H40M0S
SUMMARY:DStearns/JVinograd vs. McCarthy/Meuse
DESCRIPTION:Lsl Wednesday Rec./low Int Doubles Tm. Lg. - Early Winter 25 - Paddle Up Pickleball Club
LOCATION:Court 4
CATEGORIES:QuickScores, Pickleball Game
TRANSP:OPAQUE
BEGIN:VALARM
TRIGGER:-PT2H
ACTION:DISPLAY
DESCRIPTION:DStearns/JVinograd vs. McCarthy/Meuse
END:VALARM
END:VEVENT
BEGIN:VEVENT
UID:pupc-71466358-20251126T192000@quickscores.com
DTSTAMP:20260424T204800Z
DTSTART;TZID=America/Chicago:20251126T192000
DURATION:PT0H40M0S
SUMMARY:McElfresh/Kahanec vs. DStearns/JVinograd
DESCRIPTION:Lsl Wednesday Rec./low Int Doubles Tm. Lg. - Early Winter 25 - Paddle Up Pickleball Club
LOCATION:Court 8
CATEGORIES:QuickScores, Pickleball Game
TRANSP:OPAQUE
BEGIN:VALARM
TRIGGER:-PT2H
ACTION:DISPLAY
DESCRIPTION:McElfresh/Kahanec vs. DStearns/JVinograd
END:VALARM
END:VEVENT
BEGIN:VEVENT
UID:pupc-71502738-20251126T200000@quickscores.com
DTSTAMP:20260424T204800Z
DTSTART;TZID=America/Chicago:20251126T200000
DURATION:PT0H40M0S
SUMMARY:DStearns/JVinograd vs. Mahoney/Trower
DESCRIPTION:Lsl Wednesday Rec./low Int Doubles Tm. Lg. - Early Winter 25 - Paddle Up Pickleball Club
LOCATION:Court 7
CATEGORIES:QuickScores, Pickleball Game
TRANSP:OPAQUE
BEGIN:VALARM
TRIGGER:-PT2H
ACTION:DISPLAY
DESCRIPTION:DStearns/JVinograd vs. Mahoney/Trower
END:VALARM
END:VEVENT
BEGIN:VEVENT
UID:pupc-71955645-20251203T190000@quickscores.com
DTSTAMP:20260424T204800Z
DTSTART;TZID=America/Chicago:20251203T190000
DURATION:PT0H30M0S
SUMMARY:[3] DStearns/JVinograd vs. [6] McCarthy/Meuse
DESCRIPTION:Lsl Wednesday Rec./low Int Doubles Tm. Lg. - Early Winter 25 - Paddle Up Pickleball Club
LOCATION:Court 8
CATEGORIES:QuickScores, Pickleball Game
TRANSP:OPAQUE
BEGIN:VALARM
TRIGGER:-PT2H
ACTION:DISPLAY
DESCRIPTION:[3] DStearns/JVinograd vs. [6] McCarthy/Meuse
END:VALARM
END:VEVENT
END:VCALENDAR
