BEGIN:VCALENDAR
VERSION:2.0
PRODID:-//QuickScores.com//BQ Dynamic iCal Creator//EN
METHOD:PUBLISH
X-WR-CALNAME:Gibson/Gibson - Lsl Wednesday Rec./low Int Doubles Tm. Lg. - Early Winter 25 - Completed Leagues 2025
X-WR-CALDESC:QuickScores game calendar
X-PUBLISHED-TTL:PT24H
REFRESH-INTERVAL;VALUE=DURATION:PT24H
CALSCALE:GREGORIAN
BEGIN:VTIMEZONE
TZID:America/Chicago
X-LIC-LOCATION:America/Chicago
BEGIN:DAYLIGHT
TZNAME:CDT
TZOFFSETFROM:-0600
TZOFFSETTO:-0500
DTSTART:19700308T020000
RRULE:FREQ=YEARLY;BYMONTH=3;BYDAY=2SU
END:DAYLIGHT
BEGIN:STANDARD
TZNAME:CST
TZOFFSETFROM:-0500
TZOFFSETTO:-0600
DTSTART:19701101T020000
RRULE:FREQ=YEARLY;BYMONTH=11;BYDAY=1SU
END:STANDARD
END:VTIMEZONE
BEGIN:VEVENT
UID:pupc-71466345-20251029T180000@quickscores.com
DTSTAMP:20260422T052200Z
DTSTART;TZID=America/Chicago:20251029T180000
DURATION:PT0H40M0S
SUMMARY:Denny/Nettler vs. Gibson/Gibson
DESCRIPTION:Lsl Wednesday Rec./low Int Doubles Tm. Lg. - Early Winter 25 - Paddle Up Pickleball Club
LOCATION:Court 7
CATEGORIES:QuickScores, Pickleball Game
TRANSP:OPAQUE
BEGIN:VALARM
TRIGGER:-PT2H
ACTION:DISPLAY
DESCRIPTION:Denny/Nettler vs. Gibson/Gibson
END:VALARM
END:VEVENT
BEGIN:VEVENT
UID:pupc-71466344-20251029T192000@quickscores.com
DTSTAMP:20260422T052200Z
DTSTART;TZID=America/Chicago:20251029T192000
DURATION:PT0H40M0S
SUMMARY:Gibson/Gibson vs. Bathe/Bathe
DESCRIPTION:Lsl Wednesday Rec./low Int Doubles Tm. Lg. - Early Winter 25 - Paddle Up Pickleball Club
LOCATION:Court 8
CATEGORIES:QuickScores, Pickleball Game
TRANSP:OPAQUE
BEGIN:VALARM
TRIGGER:-PT2H
ACTION:DISPLAY
DESCRIPTION:Gibson/Gibson vs. Bathe/Bathe
END:VALARM
END:VEVENT
BEGIN:VEVENT
UID:pupc-71466350-20251105T180000@quickscores.com
DTSTAMP:20260422T052200Z
DTSTART;TZID=America/Chicago:20251105T180000
DURATION:PT0H40M0S
SUMMARY:Gibson/Gibson vs. DStearns/JVinograd
DESCRIPTION:Lsl Wednesday Rec./low Int Doubles Tm. Lg. - Early Winter 25 - Paddle Up Pickleball Club
LOCATION:Court 6
CATEGORIES:QuickScores, Pickleball Game
TRANSP:OPAQUE
BEGIN:VALARM
TRIGGER:-PT2H
ACTION:DISPLAY
DESCRIPTION:Gibson/Gibson vs. DStearns/JVinograd
END:VALARM
END:VEVENT
BEGIN:VEVENT
UID:pupc-71466346-20251105T192000@quickscores.com
DTSTAMP:20260422T052200Z
DTSTART;TZID=America/Chicago:20251105T192000
DURATION:PT0H40M0S
SUMMARY:Mahoney/Trower vs. Gibson/Gibson
DESCRIPTION:Lsl Wednesday Rec./low Int Doubles Tm. Lg. - Early Winter 25 - Paddle Up Pickleball Club
LOCATION:Court 7
CATEGORIES:QuickScores, Pickleball Game
TRANSP:OPAQUE
BEGIN:VALARM
TRIGGER:-PT2H
ACTION:DISPLAY
DESCRIPTION:Mahoney/Trower vs. Gibson/Gibson
END:VALARM
END:VEVENT
BEGIN:VEVENT
UID:pupc-71466355-20251112T180000@quickscores.com
DTSTAMP:20260422T052200Z
DTSTART;TZID=America/Chicago:20251112T180000
DURATION:PT0H40M0S
SUMMARY:McElfresh/Kahanec vs. Gibson/Gibson
DESCRIPTION:Lsl Wednesday Rec./low Int Doubles Tm. Lg. - Early Winter 25 - Paddle Up Pickleball Club
LOCATION:Court 7
CATEGORIES:QuickScores, Pickleball Game
TRANSP:OPAQUE
BEGIN:VALARM
TRIGGER:-PT2H
ACTION:DISPLAY
DESCRIPTION:McElfresh/Kahanec vs. Gibson/Gibson
END:VALARM
END:VEVENT
BEGIN:VEVENT
UID:pupc-71466353-20251112T184000@quickscores.com
DTSTAMP:20260422T052200Z
DTSTART;TZID=America/Chicago:20251112T184000
DURATION:PT0H40M0S
SUMMARY:Denny/Nettler vs. Gibson/Gibson
DESCRIPTION:Lsl Wednesday Rec./low Int Doubles Tm. Lg. - Early Winter 25 - Paddle Up Pickleball Club
LOCATION:Court 7
CATEGORIES:QuickScores, Pickleball Game
TRANSP:OPAQUE
BEGIN:VALARM
TRIGGER:-PT2H
ACTION:DISPLAY
DESCRIPTION:Denny/Nettler vs. Gibson/Gibson
END:VALARM
END:VEVENT
BEGIN:VEVENT
UID:pupc-71466366-20251119T180000@quickscores.com
DTSTAMP:20260422T052200Z
DTSTART;TZID=America/Chicago:20251119T180000
DURATION:PT0H40M0S
SUMMARY:Gibson/Gibson vs. Bathe/Bathe
DESCRIPTION:Lsl Wednesday Rec./low Int Doubles Tm. Lg. - Early Winter 25 - Paddle Up Pickleball Club
LOCATION:Court 6
CATEGORIES:QuickScores, Pickleball Game
TRANSP:OPAQUE
BEGIN:VALARM
TRIGGER:-PT2H
ACTION:DISPLAY
DESCRIPTION:Gibson/Gibson vs. Bathe/Bathe
END:VALARM
END:VEVENT
BEGIN:VEVENT
UID:pupc-71466367-20251119T184000@quickscores.com
DTSTAMP:20260422T052200Z
DTSTART;TZID=America/Chicago:20251119T184000
DURATION:PT0H40M0S
SUMMARY:Gibson/Gibson vs. McElfresh/Kahanec
DESCRIPTION:Lsl Wednesday Rec./low Int Doubles Tm. Lg. - Early Winter 25 - Paddle Up Pickleball Club
LOCATION:Court 6
CATEGORIES:QuickScores, Pickleball Game
TRANSP:OPAQUE
BEGIN:VALARM
TRIGGER:-PT2H
ACTION:DISPLAY
DESCRIPTION:Gibson/Gibson vs. McElfresh/Kahanec
END:VALARM
END:VEVENT
BEGIN:VEVENT
UID:pupc-71466363-20251126T180000@quickscores.com
DTSTAMP:20260422T052200Z
DTSTART;TZID=America/Chicago:20251126T180000
DURATION:PT0H40M0S
SUMMARY:KStearns/RVinograd vs. Gibson/Gibson
DESCRIPTION:Lsl Wednesday Rec./low Int Doubles Tm. Lg. - Early Winter 25 - Paddle Up Pickleball Club
LOCATION:Court 8
CATEGORIES:QuickScores, Pickleball Game
TRANSP:OPAQUE
BEGIN:VALARM
TRIGGER:-PT2H
ACTION:DISPLAY
DESCRIPTION:KStearns/RVinograd vs. Gibson/Gibson
END:VALARM
END:VEVENT
BEGIN:VEVENT
UID:pupc-71466359-20251126T184000@quickscores.com
DTSTAMP:20260422T052200Z
DTSTART;TZID=America/Chicago:20251126T184000
DURATION:PT0H40M0S
SUMMARY:Bathe/Bathe vs. Gibson/Gibson
DESCRIPTION:Lsl Wednesday Rec./low Int Doubles Tm. Lg. - Early Winter 25 - Paddle Up Pickleball Club
LOCATION:Court 7
CATEGORIES:QuickScores, Pickleball Game
TRANSP:OPAQUE
BEGIN:VALARM
TRIGGER:-PT2H
ACTION:DISPLAY
DESCRIPTION:Bathe/Bathe vs. Gibson/Gibson
END:VALARM
END:VEVENT
BEGIN:VEVENT
UID:pupc-71955642-20251203T193000@quickscores.com
DTSTAMP:20260422T052200Z
DTSTART;TZID=America/Chicago:20251203T193000
DURATION:PT0H30M0S
SUMMARY:[1] Gibson/Gibson vs. [8] Mahoney/Trower
DESCRIPTION:Lsl Wednesday Rec./low Int Doubles Tm. Lg. - Early Winter 25 - Paddle Up Pickleball Club
LOCATION:Court 7
CATEGORIES:QuickScores, Pickleball Game
TRANSP:OPAQUE
BEGIN:VALARM
TRIGGER:-PT2H
ACTION:DISPLAY
DESCRIPTION:[1] Gibson/Gibson vs. [8] Mahoney/Trower
END:VALARM
END:VEVENT
END:VCALENDAR
