BEGIN:VCALENDAR
VERSION:2.0
PRODID:-//QuickScores.com//BQ Dynamic iCal Creator//EN
METHOD:PUBLISH
X-WR-CALNAME:Yang/Schaefer - Chst Pupc - Monday Low Int./high Int. League - Early Winter 25 - Completed Leagues 2025
X-WR-CALDESC:QuickScores game calendar
X-PUBLISHED-TTL:PT24H
REFRESH-INTERVAL;VALUE=DURATION:PT24H
CALSCALE:GREGORIAN
BEGIN:VTIMEZONE
TZID:America/Chicago
X-LIC-LOCATION:America/Chicago
BEGIN:DAYLIGHT
TZNAME:CDT
TZOFFSETFROM:-0600
TZOFFSETTO:-0500
DTSTART:19700308T020000
RRULE:FREQ=YEARLY;BYMONTH=3;BYDAY=2SU
END:DAYLIGHT
BEGIN:STANDARD
TZNAME:CST
TZOFFSETFROM:-0500
TZOFFSETTO:-0600
DTSTART:19701101T020000
RRULE:FREQ=YEARLY;BYMONTH=11;BYDAY=1SU
END:STANDARD
END:VTIMEZONE
BEGIN:VEVENT
UID:pupc-71430443-20251027T194000@quickscores.com
DTSTAMP:20260425T052200Z
DTSTART;TZID=America/Chicago:20251027T194000
DURATION:PT0H40M0S
SUMMARY:Leeker/Tipton vs. Yang/Schaefer
DESCRIPTION:Chst Pupc - Monday Low Int./high Int. League - Early Winter 25 - Paddle Up Pickleball Club
LOCATION:CHST Court 2
CATEGORIES:QuickScores, Pickleball Game
TRANSP:OPAQUE
BEGIN:VALARM
TRIGGER:-PT2H
ACTION:DISPLAY
DESCRIPTION:Leeker/Tipton vs. Yang/Schaefer
END:VALARM
END:VEVENT
BEGIN:VEVENT
UID:pupc-71430444-20251027T210000@quickscores.com
DTSTAMP:20260425T052200Z
DTSTART;TZID=America/Chicago:20251027T210000
DURATION:PT0H40M0S
SUMMARY:Yang/Schaefer vs. Lanter/Lanter
DESCRIPTION:Chst Pupc - Monday Low Int./high Int. League - Early Winter 25 - Paddle Up Pickleball Club
LOCATION:CHST Court 2
CATEGORIES:QuickScores, Pickleball Game
TRANSP:OPAQUE
BEGIN:VALARM
TRIGGER:-PT2H
ACTION:DISPLAY
DESCRIPTION:Yang/Schaefer vs. Lanter/Lanter
END:VALARM
END:VEVENT
BEGIN:VEVENT
UID:pupc-71430451-20251103T202000@quickscores.com
DTSTAMP:20260425T052200Z
DTSTART;TZID=America/Chicago:20251103T202000
DURATION:PT0H40M0S
SUMMARY:Cage/Lansing vs. Yang/Schaefer
DESCRIPTION:Chst Pupc - Monday Low Int./high Int. League - Early Winter 25 - Paddle Up Pickleball Club
LOCATION:CHST Court 2
CATEGORIES:QuickScores, Pickleball Game
TRANSP:OPAQUE
BEGIN:VALARM
TRIGGER:-PT2H
ACTION:DISPLAY
DESCRIPTION:Cage/Lansing vs. Yang/Schaefer
END:VALARM
END:VEVENT
BEGIN:VEVENT
UID:pupc-71430450-20251103T210000@quickscores.com
DTSTAMP:20260425T052200Z
DTSTART;TZID=America/Chicago:20251103T210000
DURATION:PT0H40M0S
SUMMARY:Coffelt/Bolinger vs. Yang/Schaefer
DESCRIPTION:Chst Pupc - Monday Low Int./high Int. League - Early Winter 25 - Paddle Up Pickleball Club
LOCATION:CHST Court 2
CATEGORIES:QuickScores, Pickleball Game
TRANSP:OPAQUE
BEGIN:VALARM
TRIGGER:-PT2H
ACTION:DISPLAY
DESCRIPTION:Coffelt/Bolinger vs. Yang/Schaefer
END:VALARM
END:VEVENT
BEGIN:VEVENT
UID:pupc-71430470-20251110T174000@quickscores.com
DTSTAMP:20260425T052200Z
DTSTART;TZID=America/Chicago:20251110T174000
DURATION:PT0H40M0S
SUMMARY:Yang/Schaefer vs. Dickherber/O'Connell
DESCRIPTION:Chst Pupc - Monday Low Int./high Int. League - Early Winter 25 - Paddle Up Pickleball Club
LOCATION:CHST Court 3
CATEGORIES:QuickScores, Pickleball Game
TRANSP:OPAQUE
BEGIN:VALARM
TRIGGER:-PT2H
ACTION:DISPLAY
DESCRIPTION:Yang/Schaefer vs. Dickherber/O'Connell
END:VALARM
END:VEVENT
BEGIN:VEVENT
UID:pupc-71430469-20251110T182000@quickscores.com
DTSTAMP:20260425T052200Z
DTSTART;TZID=America/Chicago:20251110T182000
DURATION:PT0H40M0S
SUMMARY:Yang/Schaefer vs. Schaefer/Weber
DESCRIPTION:Chst Pupc - Monday Low Int./high Int. League - Early Winter 25 - Paddle Up Pickleball Club
LOCATION:CHST Court 1
CATEGORIES:QuickScores, Pickleball Game
TRANSP:OPAQUE
BEGIN:VALARM
TRIGGER:-PT2H
ACTION:DISPLAY
DESCRIPTION:Yang/Schaefer vs. Schaefer/Weber
END:VALARM
END:VEVENT
BEGIN:VEVENT
UID:pupc-71430478-20251117T194000@quickscores.com
DTSTAMP:20260425T052200Z
DTSTART;TZID=America/Chicago:20251117T194000
DURATION:PT0H40M0S
SUMMARY:Wu/Wu vs. Yang/Schaefer
DESCRIPTION:Chst Pupc - Monday Low Int./high Int. League - Early Winter 25 - Paddle Up Pickleball Club
LOCATION:CHST Court 2
CATEGORIES:QuickScores, Pickleball Game
TRANSP:OPAQUE
BEGIN:VALARM
TRIGGER:-PT2H
ACTION:DISPLAY
DESCRIPTION:Wu/Wu vs. Yang/Schaefer
END:VALARM
END:VEVENT
BEGIN:VEVENT
UID:pupc-71430482-20251117T202000@quickscores.com
DTSTAMP:20260425T052200Z
DTSTART;TZID=America/Chicago:20251117T202000
DURATION:PT0H40M0S
SUMMARY:Yang/Schaefer vs. Fisher/Wilson
DESCRIPTION:Chst Pupc - Monday Low Int./high Int. League - Early Winter 25 - Paddle Up Pickleball Club
LOCATION:CHST Court 1
CATEGORIES:QuickScores, Pickleball Game
TRANSP:OPAQUE
BEGIN:VALARM
TRIGGER:-PT2H
ACTION:DISPLAY
DESCRIPTION:Yang/Schaefer vs. Fisher/Wilson
END:VALARM
END:VEVENT
BEGIN:VEVENT
UID:pupc-71430496-20251124T182000@quickscores.com
DTSTAMP:20260425T052200Z
DTSTART;TZID=America/Chicago:20251124T182000
DURATION:PT0H40M0S
SUMMARY:Yang/Schaefer vs. Smith/Weber
DESCRIPTION:Chst Pupc - Monday Low Int./high Int. League - Early Winter 25 - Paddle Up Pickleball Club
LOCATION:CHST Court 1
CATEGORIES:QuickScores, Pickleball Game
TRANSP:OPAQUE
BEGIN:VALARM
TRIGGER:-PT2H
ACTION:DISPLAY
DESCRIPTION:Yang/Schaefer vs. Smith/Weber
END:VALARM
END:VEVENT
BEGIN:VEVENT
UID:pupc-71430487-20251124T190000@quickscores.com
DTSTAMP:20260425T052200Z
DTSTART;TZID=America/Chicago:20251124T190000
DURATION:PT0H40M0S
SUMMARY:Coffelt/Bolinger vs. Yang/Schaefer
DESCRIPTION:Chst Pupc - Monday Low Int./high Int. League - Early Winter 25 - Paddle Up Pickleball Club
LOCATION:CHST Court 2
CATEGORIES:QuickScores, Pickleball Game
TRANSP:OPAQUE
BEGIN:VALARM
TRIGGER:-PT2H
ACTION:DISPLAY
DESCRIPTION:Coffelt/Bolinger vs. Yang/Schaefer
END:VALARM
END:VEVENT
BEGIN:VEVENT
UID:pupc-71919576-20251208T174000@quickscores.com
DTSTAMP:20260425T052200Z
DTSTART;TZID=America/Chicago:20251208T174000
DURATION:PT0H30M0S
SUMMARY:[6] JCrawford/JRohrbach vs. [11] Yang/Schaefer
DESCRIPTION:Chst Pupc - Monday Low Int./high Int. League - Early Winter 25 - Paddle Up Pickleball Club
LOCATION:CHST Court 2
CATEGORIES:QuickScores, Pickleball Game
TRANSP:OPAQUE
BEGIN:VALARM
TRIGGER:-PT2H
ACTION:DISPLAY
DESCRIPTION:[6] JCrawford/JRohrbach vs. [11] Yang/Schaefer
END:VALARM
END:VEVENT
END:VCALENDAR
