BEGIN:VCALENDAR
VERSION:2.0
PRODID:-//QuickScores.com//BQ Dynamic iCal Creator//EN
METHOD:PUBLISH
X-WR-CALNAME:Dickherber/O&#039;Connell - Chst Pupc - Monday Low Int./high Int. League - Early Winter 25 - Completed Leagues 2025
X-WR-CALDESC:QuickScores game calendar
X-PUBLISHED-TTL:PT24H
REFRESH-INTERVAL;VALUE=DURATION:PT24H
CALSCALE:GREGORIAN
BEGIN:VTIMEZONE
TZID:America/Chicago
X-LIC-LOCATION:America/Chicago
BEGIN:DAYLIGHT
TZNAME:CDT
TZOFFSETFROM:-0600
TZOFFSETTO:-0500
DTSTART:19700308T020000
RRULE:FREQ=YEARLY;BYMONTH=3;BYDAY=2SU
END:DAYLIGHT
BEGIN:STANDARD
TZNAME:CST
TZOFFSETFROM:-0500
TZOFFSETTO:-0600
DTSTART:19701101T020000
RRULE:FREQ=YEARLY;BYMONTH=11;BYDAY=1SU
END:STANDARD
END:VTIMEZONE
BEGIN:VEVENT
UID:pupc-71430439-20251027T174000@quickscores.com
DTSTAMP:20260425T092900Z
DTSTART;TZID=America/Chicago:20251027T174000
DURATION:PT0H40M0S
SUMMARY:Dickherber/O'Connell vs. Cage/Lansing
DESCRIPTION:Chst Pupc - Monday Low Int./high Int. League - Early Winter 25 - Paddle Up Pickleball Club
LOCATION:CHST Court 3
CATEGORIES:QuickScores, Pickleball Game
TRANSP:OPAQUE
BEGIN:VALARM
TRIGGER:-PT2H
ACTION:DISPLAY
DESCRIPTION:Dickherber/O'Connell vs. Cage/Lansing
END:VALARM
END:VEVENT
BEGIN:VEVENT
UID:pupc-71430438-20251027T182000@quickscores.com
DTSTAMP:20260425T092900Z
DTSTART;TZID=America/Chicago:20251027T182000
DURATION:PT0H40M0S
SUMMARY:JCrawford/JRohrbach vs. Dickherber/O'Connell
DESCRIPTION:Chst Pupc - Monday Low Int./high Int. League - Early Winter 25 - Paddle Up Pickleball Club
LOCATION:CHST Court 1
CATEGORIES:QuickScores, Pickleball Game
TRANSP:OPAQUE
BEGIN:VALARM
TRIGGER:-PT2H
ACTION:DISPLAY
DESCRIPTION:JCrawford/JRohrbach vs. Dickherber/O'Connell
END:VALARM
END:VEVENT
BEGIN:VEVENT
UID:pupc-71430456-20251103T174000@quickscores.com
DTSTAMP:20260425T092900Z
DTSTART;TZID=America/Chicago:20251103T174000
DURATION:PT0H40M0S
SUMMARY:Dickherber/O'Connell vs. Odell/Rogalski
DESCRIPTION:Chst Pupc - Monday Low Int./high Int. League - Early Winter 25 - Paddle Up Pickleball Club
LOCATION:CHST Court 1
CATEGORIES:QuickScores, Pickleball Game
TRANSP:OPAQUE
BEGIN:VALARM
TRIGGER:-PT2H
ACTION:DISPLAY
DESCRIPTION:Dickherber/O'Connell vs. Odell/Rogalski
END:VALARM
END:VEVENT
BEGIN:VEVENT
UID:pupc-71430457-20251103T182000@quickscores.com
DTSTAMP:20260425T092900Z
DTSTART;TZID=America/Chicago:20251103T182000
DURATION:PT0H40M0S
SUMMARY:Schaefer/Weber vs. Dickherber/O'Connell
DESCRIPTION:Chst Pupc - Monday Low Int./high Int. League - Early Winter 25 - Paddle Up Pickleball Club
LOCATION:CHST Court 1
CATEGORIES:QuickScores, Pickleball Game
TRANSP:OPAQUE
BEGIN:VALARM
TRIGGER:-PT2H
ACTION:DISPLAY
DESCRIPTION:Schaefer/Weber vs. Dickherber/O'Connell
END:VALARM
END:VEVENT
BEGIN:VEVENT
UID:pupc-71430470-20251110T174000@quickscores.com
DTSTAMP:20260425T092900Z
DTSTART;TZID=America/Chicago:20251110T174000
DURATION:PT0H40M0S
SUMMARY:Yang/Schaefer vs. Dickherber/O'Connell
DESCRIPTION:Chst Pupc - Monday Low Int./high Int. League - Early Winter 25 - Paddle Up Pickleball Club
LOCATION:CHST Court 3
CATEGORIES:QuickScores, Pickleball Game
TRANSP:OPAQUE
BEGIN:VALARM
TRIGGER:-PT2H
ACTION:DISPLAY
DESCRIPTION:Yang/Schaefer vs. Dickherber/O'Connell
END:VALARM
END:VEVENT
BEGIN:VEVENT
UID:pupc-71430471-20251110T182000@quickscores.com
DTSTAMP:20260425T092900Z
DTSTART;TZID=America/Chicago:20251110T182000
DURATION:PT0H40M0S
SUMMARY:Lanter/Lanter vs. Dickherber/O'Connell
DESCRIPTION:Chst Pupc - Monday Low Int./high Int. League - Early Winter 25 - Paddle Up Pickleball Club
LOCATION:CHST Court 2
CATEGORIES:QuickScores, Pickleball Game
TRANSP:OPAQUE
BEGIN:VALARM
TRIGGER:-PT2H
ACTION:DISPLAY
DESCRIPTION:Lanter/Lanter vs. Dickherber/O'Connell
END:VALARM
END:VEVENT
BEGIN:VEVENT
UID:pupc-71430472-20251117T174000@quickscores.com
DTSTAMP:20260425T092900Z
DTSTART;TZID=America/Chicago:20251117T174000
DURATION:PT0H40M0S
SUMMARY:Smith/Weber vs. Dickherber/O'Connell
DESCRIPTION:Chst Pupc - Monday Low Int./high Int. League - Early Winter 25 - Paddle Up Pickleball Club
LOCATION:CHST Court 1
CATEGORIES:QuickScores, Pickleball Game
TRANSP:OPAQUE
BEGIN:VALARM
TRIGGER:-PT2H
ACTION:DISPLAY
DESCRIPTION:Smith/Weber vs. Dickherber/O'Connell
END:VALARM
END:VEVENT
BEGIN:VEVENT
UID:pupc-71430477-20251117T190000@quickscores.com
DTSTAMP:20260425T092900Z
DTSTART;TZID=America/Chicago:20251117T190000
DURATION:PT0H40M0S
SUMMARY:Dickherber/O'Connell vs. Wu/Wu
DESCRIPTION:Chst Pupc - Monday Low Int./high Int. League - Early Winter 25 - Paddle Up Pickleball Club
LOCATION:CHST Court 2
CATEGORIES:QuickScores, Pickleball Game
TRANSP:OPAQUE
BEGIN:VALARM
TRIGGER:-PT2H
ACTION:DISPLAY
DESCRIPTION:Dickherber/O'Connell vs. Wu/Wu
END:VALARM
END:VEVENT
BEGIN:VEVENT
UID:pupc-71512058-20251124T202000@quickscores.com
DTSTAMP:20260425T092900Z
DTSTART;TZID=America/Chicago:20251124T202000
DURATION:PT0H40M0S
SUMMARY:Dickherber/O'Connell vs. Stamper/Kornfeld2
DESCRIPTION:Chst Pupc - Monday Low Int./high Int. League - Early Winter 25 - Paddle Up Pickleball Club
LOCATION:CHST Court 3
CATEGORIES:QuickScores, Pickleball Game
TRANSP:OPAQUE
BEGIN:VALARM
TRIGGER:-PT2H
ACTION:DISPLAY
DESCRIPTION:Dickherber/O'Connell vs. Stamper/Kornfeld2
END:VALARM
END:VEVENT
BEGIN:VEVENT
UID:pupc-71430489-20251124T210000@quickscores.com
DTSTAMP:20260425T092900Z
DTSTART;TZID=America/Chicago:20251124T210000
DURATION:PT0H40M0S
SUMMARY:Dickherber/O'Connell vs. Leeker/Tipton
DESCRIPTION:Chst Pupc - Monday Low Int./high Int. League - Early Winter 25 - Paddle Up Pickleball Club
LOCATION:CHST Court 2
CATEGORIES:QuickScores, Pickleball Game
TRANSP:OPAQUE
BEGIN:VALARM
TRIGGER:-PT2H
ACTION:DISPLAY
DESCRIPTION:Dickherber/O'Connell vs. Leeker/Tipton
END:VALARM
END:VEVENT
BEGIN:VEVENT
UID:pupc-71919572-20251208T174000@quickscores.com
DTSTAMP:20260425T092900Z
DTSTART;TZID=America/Chicago:20251208T174000
DURATION:PT0H30M0S
SUMMARY:[5] Dickherber/O'Connell vs. [12] Schaefer/Weber
DESCRIPTION:Chst Pupc - Monday Low Int./high Int. League - Early Winter 25 - Paddle Up Pickleball Club
LOCATION:CHST Court 1
CATEGORIES:QuickScores, Pickleball Game
TRANSP:OPAQUE
BEGIN:VALARM
TRIGGER:-PT2H
ACTION:DISPLAY
DESCRIPTION:[5] Dickherber/O'Connell vs. [12] Schaefer/Weber
END:VALARM
END:VEVENT
END:VCALENDAR
