BEGIN:VCALENDAR
VERSION:2.0
PRODID:-//QuickScores.com//BQ Dynamic iCal Creator//EN
METHOD:PUBLISH
X-WR-CALNAME:LibbyListon/TaraFesser - Komen Pickleball For The Cure Women&#039;s Championship Division - 10/11 (9:00am Start) - Completed Tournaments 2025-2026
X-WR-CALDESC:QuickScores game calendar
X-PUBLISHED-TTL:PT24H
REFRESH-INTERVAL;VALUE=DURATION:PT24H
CALSCALE:GREGORIAN
BEGIN:VTIMEZONE
TZID:America/Chicago
X-LIC-LOCATION:America/Chicago
BEGIN:DAYLIGHT
TZNAME:CDT
TZOFFSETFROM:-0600
TZOFFSETTO:-0500
DTSTART:19700308T020000
RRULE:FREQ=YEARLY;BYMONTH=3;BYDAY=2SU
END:DAYLIGHT
BEGIN:STANDARD
TZNAME:CST
TZOFFSETFROM:-0500
TZOFFSETTO:-0600
DTSTART:19701101T020000
RRULE:FREQ=YEARLY;BYMONTH=11;BYDAY=1SU
END:STANDARD
END:VTIMEZONE
BEGIN:VEVENT
UID:pupc-71314587-20251011T093000@quickscores.com
DTSTAMP:20260423T173400Z
DTSTART;TZID=America/Chicago:20251011T093000
DURATION:PT0H20M0S
SUMMARY:MaryKruse/MandyBurgeson vs. LibbyListon/TaraFesser
DESCRIPTION:Komen Pickleball For The Cure Women's Championship Division - 10/11 (9:00am Start) - Paddle Up Pickleball Club
LOCATION:Court 4
CATEGORIES:QuickScores, Pickleball Game
TRANSP:OPAQUE
BEGIN:VALARM
TRIGGER:-PT2H
ACTION:DISPLAY
DESCRIPTION:MaryKruse/MandyBurgeson vs. LibbyListon/TaraFesser
END:VALARM
END:VEVENT
BEGIN:VEVENT
UID:pupc-71314588-20251011T101000@quickscores.com
DTSTAMP:20260423T173400Z
DTSTART;TZID=America/Chicago:20251011T101000
DURATION:PT0H20M0S
SUMMARY:LibbyListon/TaraFesser vs. KayleighTrokey/PaigeReque
DESCRIPTION:Komen Pickleball For The Cure Women's Championship Division - 10/11 (9:00am Start) - Paddle Up Pickleball Club
LOCATION:Court 4
CATEGORIES:QuickScores, Pickleball Game
TRANSP:OPAQUE
BEGIN:VALARM
TRIGGER:-PT2H
ACTION:DISPLAY
DESCRIPTION:LibbyListon/TaraFesser vs. KayleighTrokey/PaigeReque
END:VALARM
END:VEVENT
BEGIN:VEVENT
UID:pupc-71314591-20251011T105000@quickscores.com
DTSTAMP:20260423T173400Z
DTSTART;TZID=America/Chicago:20251011T105000
DURATION:PT0H20M0S
SUMMARY:LibbyListon/TaraFesser vs. KellyRichert/AmySmith
DESCRIPTION:Komen Pickleball For The Cure Women's Championship Division - 10/11 (9:00am Start) - Paddle Up Pickleball Club
LOCATION:Court 2
CATEGORIES:QuickScores, Pickleball Game
TRANSP:OPAQUE
BEGIN:VALARM
TRIGGER:-PT2H
ACTION:DISPLAY
DESCRIPTION:LibbyListon/TaraFesser vs. KellyRichert/AmySmith
END:VALARM
END:VEVENT
END:VCALENDAR
