BEGIN:VCALENDAR
VERSION:2.0
PRODID:-//QuickScores.com//BQ Dynamic iCal Creator//EN
METHOD:PUBLISH
X-WR-CALNAME:PaigeReque/BrianWilley - Komen Pickleball For The Cure Championship Open Division - 10/11 (5:30pm Start) - Completed Tournaments 2025-2026
X-WR-CALDESC:QuickScores game calendar
X-PUBLISHED-TTL:PT24H
REFRESH-INTERVAL;VALUE=DURATION:PT24H
CALSCALE:GREGORIAN
BEGIN:VTIMEZONE
TZID:America/Chicago
X-LIC-LOCATION:America/Chicago
BEGIN:DAYLIGHT
TZNAME:CDT
TZOFFSETFROM:-0600
TZOFFSETTO:-0500
DTSTART:19700308T020000
RRULE:FREQ=YEARLY;BYMONTH=3;BYDAY=2SU
END:DAYLIGHT
BEGIN:STANDARD
TZNAME:CST
TZOFFSETFROM:-0500
TZOFFSETTO:-0600
DTSTART:19701101T020000
RRULE:FREQ=YEARLY;BYMONTH=11;BYDAY=1SU
END:STANDARD
END:VTIMEZONE
BEGIN:VEVENT
UID:pupc-71308009-20251011T174000@quickscores.com
DTSTAMP:20260425T065300Z
DTSTART;TZID=America/Chicago:20251011T174000
DURATION:PT0H20M0S
SUMMARY:PaigeReque/BrianWilley vs. MattFleming/PrestonBehlmann
DESCRIPTION:Komen Pickleball For The Cure Championship Open Division - 10/11 (5:30pm Start) - Paddle Up Pickleball Club
LOCATION:Court 1
CATEGORIES:QuickScores, Pickleball Game
TRANSP:OPAQUE
BEGIN:VALARM
TRIGGER:-PT2H
ACTION:DISPLAY
DESCRIPTION:PaigeReque/BrianWilley vs. MattFleming/PrestonBehlmann
END:VALARM
END:VEVENT
BEGIN:VEVENT
UID:pupc-71308013-20251011T180000@quickscores.com
DTSTAMP:20260425T065300Z
DTSTART;TZID=America/Chicago:20251011T180000
DURATION:PT0H20M0S
SUMMARY:JustinXu/BarryZhang vs. PaigeReque/BrianWilley
DESCRIPTION:Komen Pickleball For The Cure Championship Open Division - 10/11 (5:30pm Start) - Paddle Up Pickleball Club
LOCATION:Court 6
CATEGORIES:QuickScores, Pickleball Game
TRANSP:OPAQUE
BEGIN:VALARM
TRIGGER:-PT2H
ACTION:DISPLAY
DESCRIPTION:JustinXu/BarryZhang vs. PaigeReque/BrianWilley
END:VALARM
END:VEVENT
BEGIN:VEVENT
UID:pupc-71308020-20251011T184000@quickscores.com
DTSTAMP:20260425T065300Z
DTSTART;TZID=America/Chicago:20251011T184000
DURATION:PT0H20M0S
SUMMARY:MatthewLandolt/SeanListon vs. PaigeReque/BrianWilley
DESCRIPTION:Komen Pickleball For The Cure Championship Open Division - 10/11 (5:30pm Start) - Paddle Up Pickleball Club
LOCATION:Court 1
CATEGORIES:QuickScores, Pickleball Game
TRANSP:OPAQUE
BEGIN:VALARM
TRIGGER:-PT2H
ACTION:DISPLAY
DESCRIPTION:MatthewLandolt/SeanListon vs. PaigeReque/BrianWilley
END:VALARM
END:VEVENT
BEGIN:VEVENT
UID:pupc-71308022-20251011T190000@quickscores.com
DTSTAMP:20260425T065300Z
DTSTART;TZID=America/Chicago:20251011T190000
DURATION:PT0H20M0S
SUMMARY:PaigeReque/BrianWilley vs. GarrettHallemeier/BrettMell
DESCRIPTION:Komen Pickleball For The Cure Championship Open Division - 10/11 (5:30pm Start) - Paddle Up Pickleball Club
LOCATION:Court 2
CATEGORIES:QuickScores, Pickleball Game
TRANSP:OPAQUE
BEGIN:VALARM
TRIGGER:-PT2H
ACTION:DISPLAY
DESCRIPTION:PaigeReque/BrianWilley vs. GarrettHallemeier/BrettMell
END:VALARM
END:VEVENT
END:VCALENDAR
