BEGIN:VCALENDAR
VERSION:2.0
PRODID:-//QuickScores.com//BQ Dynamic iCal Creator//EN
METHOD:PUBLISH
X-WR-CALNAME:SteveDuBois/LonnieNeckerman - Komen Pickleball For The Cure Mens Doubles - 10/11 (1:00pm Start) - Completed Tournaments 2025-2026
X-WR-CALDESC:QuickScores game calendar
X-PUBLISHED-TTL:PT24H
REFRESH-INTERVAL;VALUE=DURATION:PT24H
CALSCALE:GREGORIAN
BEGIN:VTIMEZONE
TZID:America/Chicago
X-LIC-LOCATION:America/Chicago
BEGIN:DAYLIGHT
TZNAME:CDT
TZOFFSETFROM:-0600
TZOFFSETTO:-0500
DTSTART:19700308T020000
RRULE:FREQ=YEARLY;BYMONTH=3;BYDAY=2SU
END:DAYLIGHT
BEGIN:STANDARD
TZNAME:CST
TZOFFSETFROM:-0500
TZOFFSETTO:-0600
DTSTART:19701101T020000
RRULE:FREQ=YEARLY;BYMONTH=11;BYDAY=1SU
END:STANDARD
END:VTIMEZONE
BEGIN:VEVENT
UID:pupc-71318604-20251011T131000@quickscores.com
DTSTAMP:20260423T120600Z
DTSTART;TZID=America/Chicago:20251011T131000
DURATION:PT0H20M0S
SUMMARY:SeanYates/AidanGuion vs. SteveDuBois/LonnieNeckerman
DESCRIPTION:Komen Pickleball For The Cure Mens Doubles - 10/11 (1:00pm Start) - Paddle Up Pickleball Club
LOCATION:Court 2
CATEGORIES:QuickScores, Pickleball Game
TRANSP:OPAQUE
BEGIN:VALARM
TRIGGER:-PT2H
ACTION:DISPLAY
DESCRIPTION:SeanYates/AidanGuion vs. SteveDuBois/LonnieNeckerman
END:VALARM
END:VEVENT
BEGIN:VEVENT
UID:pupc-71318630-20251011T133000@quickscores.com
DTSTAMP:20260423T120600Z
DTSTART;TZID=America/Chicago:20251011T133000
DURATION:PT0H20M0S
SUMMARY:SteveDuBois/LonnieNeckerman vs. BrianMcgee/TonyVaughn
DESCRIPTION:Komen Pickleball For The Cure Mens Doubles - 10/11 (1:00pm Start) - Paddle Up Pickleball Club
LOCATION:Court 8
CATEGORIES:QuickScores, Pickleball Game
TRANSP:OPAQUE
BEGIN:VALARM
TRIGGER:-PT2H
ACTION:DISPLAY
DESCRIPTION:SteveDuBois/LonnieNeckerman vs. BrianMcgee/TonyVaughn
END:VALARM
END:VEVENT
BEGIN:VEVENT
UID:pupc-71318621-20251011T135000@quickscores.com
DTSTAMP:20260423T120600Z
DTSTART;TZID=America/Chicago:20251011T135000
DURATION:PT0H20M0S
SUMMARY:SteveDuBois/LonnieNeckerman vs. ShivDalla/MichaelRubeiz
DESCRIPTION:Komen Pickleball For The Cure Mens Doubles - 10/11 (1:00pm Start) - Paddle Up Pickleball Club
LOCATION:Court 4
CATEGORIES:QuickScores, Pickleball Game
TRANSP:OPAQUE
BEGIN:VALARM
TRIGGER:-PT2H
ACTION:DISPLAY
DESCRIPTION:SteveDuBois/LonnieNeckerman vs. ShivDalla/MichaelRubeiz
END:VALARM
END:VEVENT
BEGIN:VEVENT
UID:pupc-71318631-20251011T141000@quickscores.com
DTSTAMP:20260423T120600Z
DTSTART;TZID=America/Chicago:20251011T141000
DURATION:PT0H20M0S
SUMMARY:BrianMcgee/TonyVaughn vs. SteveDuBois/LonnieNeckerman
DESCRIPTION:Komen Pickleball For The Cure Mens Doubles - 10/11 (1:00pm Start) - Paddle Up Pickleball Club
LOCATION:Court 9
CATEGORIES:QuickScores, Pickleball Game
TRANSP:OPAQUE
BEGIN:VALARM
TRIGGER:-PT2H
ACTION:DISPLAY
DESCRIPTION:BrianMcgee/TonyVaughn vs. SteveDuBois/LonnieNeckerman
END:VALARM
END:VEVENT
BEGIN:VEVENT
UID:pupc-71318620-20251011T143000@quickscores.com
DTSTAMP:20260423T120600Z
DTSTART;TZID=America/Chicago:20251011T143000
DURATION:PT0H20M0S
SUMMARY:ShivDalla/MichaelRubeiz vs. SteveDuBois/LonnieNeckerman
DESCRIPTION:Komen Pickleball For The Cure Mens Doubles - 10/11 (1:00pm Start) - Paddle Up Pickleball Club
LOCATION:Court 8
CATEGORIES:QuickScores, Pickleball Game
TRANSP:OPAQUE
BEGIN:VALARM
TRIGGER:-PT2H
ACTION:DISPLAY
DESCRIPTION:ShivDalla/MichaelRubeiz vs. SteveDuBois/LonnieNeckerman
END:VALARM
END:VEVENT
BEGIN:VEVENT
UID:pupc-71318609-20251011T145000@quickscores.com
DTSTAMP:20260423T120600Z
DTSTART;TZID=America/Chicago:20251011T145000
DURATION:PT0H20M0S
SUMMARY:SteveDuBois/LonnieNeckerman vs. TomHollander/StefanMarin
DESCRIPTION:Komen Pickleball For The Cure Mens Doubles - 10/11 (1:00pm Start) - Paddle Up Pickleball Club
LOCATION:Court 5
CATEGORIES:QuickScores, Pickleball Game
TRANSP:OPAQUE
BEGIN:VALARM
TRIGGER:-PT2H
ACTION:DISPLAY
DESCRIPTION:SteveDuBois/LonnieNeckerman vs. TomHollander/StefanMarin
END:VALARM
END:VEVENT
END:VCALENDAR
