BEGIN:VCALENDAR
VERSION:2.0
PRODID:-//QuickScores.com//BQ Dynamic iCal Creator//EN
METHOD:PUBLISH
X-WR-CALNAME:Dinks and Drinks (Moriarity/Moriarity) - Nerinx Hall Tournament - 9/19 - Completed Tournaments 2024-25
X-WR-CALDESC:QuickScores game calendar
X-PUBLISHED-TTL:PT24H
REFRESH-INTERVAL;VALUE=DURATION:PT24H
CALSCALE:GREGORIAN
BEGIN:VTIMEZONE
TZID:America/Chicago
X-LIC-LOCATION:America/Chicago
BEGIN:DAYLIGHT
TZNAME:CDT
TZOFFSETFROM:-0600
TZOFFSETTO:-0500
DTSTART:19700308T020000
RRULE:FREQ=YEARLY;BYMONTH=3;BYDAY=2SU
END:DAYLIGHT
BEGIN:STANDARD
TZNAME:CST
TZOFFSETFROM:-0500
TZOFFSETTO:-0600
DTSTART:19701101T020000
RRULE:FREQ=YEARLY;BYMONTH=11;BYDAY=1SU
END:STANDARD
END:VTIMEZONE
BEGIN:VEVENT
UID:pupc-71037900-20250919T160000@quickscores.com
DTSTAMP:20260425T202700Z
DTSTART;TZID=America/Chicago:20250919T160000
DURATION:PT0H20M0S
SUMMARY:Dinks and Drinks (Moriarity/Moriarity) vs. Doherty Sisters (Grzesiowski/Iffrig)
DESCRIPTION:Nerinx Hall Tournament - 9/19 - Paddle Up Pickleball Club
LOCATION:Court 5
CATEGORIES:QuickScores, Pickleball Game
TRANSP:OPAQUE
BEGIN:VALARM
TRIGGER:-PT2H
ACTION:DISPLAY
DESCRIPTION:Dinks and Drinks (Moriarity/Moriarity) vs. Doherty Sisters (Grzesiowski/Iffrig)
END:VALARM
END:VEVENT
BEGIN:VEVENT
UID:pupc-71037909-20250919T162000@quickscores.com
DTSTAMP:20260425T202700Z
DTSTART;TZID=America/Chicago:20250919T162000
DURATION:PT0H20M0S
SUMMARY:Dewey, Dinkem & Howe (Beaudoin/Beaudoin) vs. Dinks and Drinks (Moriarity/Moriarity)
DESCRIPTION:Nerinx Hall Tournament - 9/19 - Paddle Up Pickleball Club
LOCATION:Court 4
CATEGORIES:QuickScores, Pickleball Game
TRANSP:OPAQUE
BEGIN:VALARM
TRIGGER:-PT2H
ACTION:DISPLAY
DESCRIPTION:Dewey, Dinkem & Howe (Beaudoin/Beaudoin) vs. Dinks and Drinks (Moriarity/Moriarity)
END:VALARM
END:VEVENT
BEGIN:VEVENT
UID:pupc-71037915-20250919T164000@quickscores.com
DTSTAMP:20260425T202700Z
DTSTART;TZID=America/Chicago:20250919T164000
DURATION:PT0H20M0S
SUMMARY:Jen & Jen (Ehret/Phillips) vs. Dinks and Drinks (Moriarity/Moriarity)
DESCRIPTION:Nerinx Hall Tournament - 9/19 - Paddle Up Pickleball Club
LOCATION:Court 6
CATEGORIES:QuickScores, Pickleball Game
TRANSP:OPAQUE
BEGIN:VALARM
TRIGGER:-PT2H
ACTION:DISPLAY
DESCRIPTION:Jen & Jen (Ehret/Phillips) vs. Dinks and Drinks (Moriarity/Moriarity)
END:VALARM
END:VEVENT
BEGIN:VEVENT
UID:pupc-71037925-20250919T172000@quickscores.com
DTSTAMP:20260425T202700Z
DTSTART;TZID=America/Chicago:20250919T172000
DURATION:PT0H20M0S
SUMMARY:Dinks and Drinks (Moriarity/Moriarity) vs. The Big Dill and Little Gherkin (Meyers/Ohmer)
DESCRIPTION:Nerinx Hall Tournament - 9/19 - Paddle Up Pickleball Club
LOCATION:Court 2
CATEGORIES:QuickScores, Pickleball Game
TRANSP:OPAQUE
BEGIN:VALARM
TRIGGER:-PT2H
ACTION:DISPLAY
DESCRIPTION:Dinks and Drinks (Moriarity/Moriarity) vs. The Big Dill and Little Gherkin (Meyers/Ohmer)
END:VALARM
END:VEVENT
END:VCALENDAR
