BEGIN:VCALENDAR
VERSION:2.0
PRODID:-//QuickScores.com//BQ Dynamic iCal Creator//EN
METHOD:PUBLISH
X-WR-CALNAME:Team 2 - Moorman Park - Wednesday Low/high Intermediate League - Fall25 - Completed Leagues 2025
X-WR-CALDESC:QuickScores game calendar
X-PUBLISHED-TTL:PT24H
REFRESH-INTERVAL;VALUE=DURATION:PT24H
CALSCALE:GREGORIAN
BEGIN:VTIMEZONE
TZID:America/Chicago
X-LIC-LOCATION:America/Chicago
BEGIN:DAYLIGHT
TZNAME:CDT
TZOFFSETFROM:-0600
TZOFFSETTO:-0500
DTSTART:19700308T020000
RRULE:FREQ=YEARLY;BYMONTH=3;BYDAY=2SU
END:DAYLIGHT
BEGIN:STANDARD
TZNAME:CST
TZOFFSETFROM:-0500
TZOFFSETTO:-0600
DTSTART:19701101T020000
RRULE:FREQ=YEARLY;BYMONTH=11;BYDAY=1SU
END:STANDARD
END:VTIMEZONE
BEGIN:VEVENT
UID:pupc-70877422-20250910T180000@quickscores.com
DTSTAMP:20260423T163900Z
DTSTART;TZID=America/Chicago:20250910T180000
DURATION:PT0H40M0S
SUMMARY:Team 2 vs. Team 3
DESCRIPTION:Moorman Park - Wednesday Low/high Intermediate League - Fall25 - Paddle Up Pickleball Club
LOCATION:Moorman 5
CATEGORIES:QuickScores, Pickleball Game
TRANSP:OPAQUE
BEGIN:VALARM
TRIGGER:-PT2H
ACTION:DISPLAY
DESCRIPTION:Team 2 vs. Team 3
END:VALARM
END:VEVENT
BEGIN:VEVENT
UID:pupc-70877424-20250910T192000@quickscores.com
DTSTAMP:20260423T163900Z
DTSTART;TZID=America/Chicago:20250910T192000
DURATION:PT0H40M0S
SUMMARY:Team 2 vs. Team 4
DESCRIPTION:Moorman Park - Wednesday Low/high Intermediate League - Fall25 - Paddle Up Pickleball Club
LOCATION:Moorman 5
CATEGORIES:QuickScores, Pickleball Game
TRANSP:OPAQUE
BEGIN:VALARM
TRIGGER:-PT2H
ACTION:DISPLAY
DESCRIPTION:Team 2 vs. Team 4
END:VALARM
END:VEVENT
BEGIN:VEVENT
UID:pupc-70877425-20250917T180000@quickscores.com
DTSTAMP:20260423T163900Z
DTSTART;TZID=America/Chicago:20250917T180000
DURATION:PT0H40M0S
SUMMARY:Team 1 vs. Team 2
DESCRIPTION:Moorman Park - Wednesday Low/high Intermediate League - Fall25 - Paddle Up Pickleball Club
LOCATION:Moorman 5
CATEGORIES:QuickScores, Pickleball Game
TRANSP:OPAQUE
BEGIN:VALARM
TRIGGER:-PT2H
ACTION:DISPLAY
DESCRIPTION:Team 1 vs. Team 2
END:VALARM
END:VEVENT
BEGIN:VEVENT
UID:pupc-70877428-20250917T192000@quickscores.com
DTSTAMP:20260423T163900Z
DTSTART;TZID=America/Chicago:20250917T192000
DURATION:PT0H40M0S
SUMMARY:Team 2 vs. Team 3
DESCRIPTION:Moorman Park - Wednesday Low/high Intermediate League - Fall25 - Paddle Up Pickleball Club
LOCATION:Moorman 5
CATEGORIES:QuickScores, Pickleball Game
TRANSP:OPAQUE
BEGIN:VALARM
TRIGGER:-PT2H
ACTION:DISPLAY
DESCRIPTION:Team 2 vs. Team 3
END:VALARM
END:VEVENT
BEGIN:VEVENT
UID:pupc-70877430-20250924T184000@quickscores.com
DTSTAMP:20260423T163900Z
DTSTART;TZID=America/Chicago:20250924T184000
DURATION:PT0H40M0S
SUMMARY:Team 2 vs. Team 4
DESCRIPTION:Moorman Park - Wednesday Low/high Intermediate League - Fall25 - Paddle Up Pickleball Club
LOCATION:Moorman 5
CATEGORIES:QuickScores, Pickleball Game
TRANSP:OPAQUE
BEGIN:VALARM
TRIGGER:-PT2H
ACTION:DISPLAY
DESCRIPTION:Team 2 vs. Team 4
END:VALARM
END:VEVENT
BEGIN:VEVENT
UID:pupc-70877431-20250924T192000@quickscores.com
DTSTAMP:20260423T163900Z
DTSTART;TZID=America/Chicago:20250924T192000
DURATION:PT0H40M0S
SUMMARY:Team 1 vs. Team 2
DESCRIPTION:Moorman Park - Wednesday Low/high Intermediate League - Fall25 - Paddle Up Pickleball Club
LOCATION:Moorman 5
CATEGORIES:QuickScores, Pickleball Game
TRANSP:OPAQUE
BEGIN:VALARM
TRIGGER:-PT2H
ACTION:DISPLAY
DESCRIPTION:Team 1 vs. Team 2
END:VALARM
END:VEVENT
BEGIN:VEVENT
UID:pupc-70877691-20251008T180000@quickscores.com
DTSTAMP:20260423T163900Z
DTSTART;TZID=America/Chicago:20251008T180000
DURATION:PT0H40M0S
SUMMARY:Team 2 vs. Team 3
DESCRIPTION:Moorman Park - Wednesday Low/high Intermediate League - Fall25 - Paddle Up Pickleball Club
LOCATION:Moorman 5
CATEGORIES:QuickScores, Pickleball Game
TRANSP:OPAQUE
BEGIN:VALARM
TRIGGER:-PT2H
ACTION:DISPLAY
DESCRIPTION:Team 2 vs. Team 3
END:VALARM
END:VEVENT
BEGIN:VEVENT
UID:pupc-70877692-20251008T192000@quickscores.com
DTSTAMP:20260423T163900Z
DTSTART;TZID=America/Chicago:20251008T192000
DURATION:PT0H40M0S
SUMMARY:Team 1 vs. Team 2
DESCRIPTION:Moorman Park - Wednesday Low/high Intermediate League - Fall25 - Paddle Up Pickleball Club
LOCATION:Moorman 3
CATEGORIES:QuickScores, Pickleball Game
TRANSP:OPAQUE
BEGIN:VALARM
TRIGGER:-PT2H
ACTION:DISPLAY
DESCRIPTION:Team 1 vs. Team 2
END:VALARM
END:VEVENT
BEGIN:VEVENT
UID:pupc-70827311-20251015T180000@quickscores.com
DTSTAMP:20260423T163900Z
DTSTART;TZID=America/Chicago:20251015T180000
DURATION:PT0H40M0S
SUMMARY:Team 2 vs. Team 1
DESCRIPTION:Moorman Park - Wednesday Low/high Intermediate League - Fall25 - Paddle Up Pickleball Club
LOCATION:Moorman 6
CATEGORIES:QuickScores, Pickleball Game
TRANSP:OPAQUE
BEGIN:VALARM
TRIGGER:-PT2H
ACTION:DISPLAY
DESCRIPTION:Team 2 vs. Team 1
END:VALARM
END:VEVENT
BEGIN:VEVENT
UID:pupc-70877689-20251015T192000@quickscores.com
DTSTAMP:20260423T163900Z
DTSTART;TZID=America/Chicago:20251015T192000
DURATION:PT0H40M0S
SUMMARY:Team 2 vs. Team 4
DESCRIPTION:Moorman Park - Wednesday Low/high Intermediate League - Fall25 - Paddle Up Pickleball Club
LOCATION:Moorman 5
CATEGORIES:QuickScores, Pickleball Game
TRANSP:OPAQUE
BEGIN:VALARM
TRIGGER:-PT2H
ACTION:DISPLAY
DESCRIPTION:Team 2 vs. Team 4
END:VALARM
END:VEVENT
END:VCALENDAR
