BEGIN:VCALENDAR
VERSION:2.0
PRODID:-//QuickScores.com//BQ Dynamic iCal Creator//EN
METHOD:PUBLISH
X-WR-CALNAME:ChristineTessereau/MattSimon - Friday Night Tournament - 9/5 - Completed Tournaments 2024-25
X-WR-CALDESC:QuickScores game calendar
X-PUBLISHED-TTL:PT24H
REFRESH-INTERVAL;VALUE=DURATION:PT24H
CALSCALE:GREGORIAN
BEGIN:VTIMEZONE
TZID:America/Chicago
X-LIC-LOCATION:America/Chicago
BEGIN:DAYLIGHT
TZNAME:CDT
TZOFFSETFROM:-0600
TZOFFSETTO:-0500
DTSTART:19700308T020000
RRULE:FREQ=YEARLY;BYMONTH=3;BYDAY=2SU
END:DAYLIGHT
BEGIN:STANDARD
TZNAME:CST
TZOFFSETFROM:-0500
TZOFFSETTO:-0600
DTSTART:19701101T020000
RRULE:FREQ=YEARLY;BYMONTH=11;BYDAY=1SU
END:STANDARD
END:VTIMEZONE
BEGIN:VEVENT
UID:pupc-70857895-20250905T182000@quickscores.com
DTSTAMP:20260425T153200Z
DTSTART;TZID=America/Chicago:20250905T182000
DURATION:PT0H20M0S
SUMMARY:TateHowell/LaurenMilburn vs. ChristineTessereau/MattSimon
DESCRIPTION:Friday Night Tournament - 9/5 - Paddle Up Pickleball Club
LOCATION:FMG Court 2
CATEGORIES:QuickScores, Pickleball Game
TRANSP:OPAQUE
BEGIN:VALARM
TRIGGER:-PT2H
ACTION:DISPLAY
DESCRIPTION:TateHowell/LaurenMilburn vs. ChristineTessereau/MattSimon
END:VALARM
END:VEVENT
BEGIN:VEVENT
UID:pupc-70857897-20250905T184000@quickscores.com
DTSTAMP:20260425T153200Z
DTSTART;TZID=America/Chicago:20250905T184000
DURATION:PT0H20M0S
SUMMARY:ChristineTessereau/MattSimon vs. AlexMalloy/JacobHuber
DESCRIPTION:Friday Night Tournament - 9/5 - Paddle Up Pickleball Club
LOCATION:FMG Court 1
CATEGORIES:QuickScores, Pickleball Game
TRANSP:OPAQUE
BEGIN:VALARM
TRIGGER:-PT2H
ACTION:DISPLAY
DESCRIPTION:ChristineTessereau/MattSimon vs. AlexMalloy/JacobHuber
END:VALARM
END:VEVENT
BEGIN:VEVENT
UID:pupc-70857902-20250905T190000@quickscores.com
DTSTAMP:20260425T153200Z
DTSTART;TZID=America/Chicago:20250905T190000
DURATION:PT0H20M0S
SUMMARY:ChristineTessereau/MattSimon vs. TracyTrupka/MiaTrupka
DESCRIPTION:Friday Night Tournament - 9/5 - Paddle Up Pickleball Club
LOCATION:FMG Court 1
CATEGORIES:QuickScores, Pickleball Game
TRANSP:OPAQUE
BEGIN:VALARM
TRIGGER:-PT2H
ACTION:DISPLAY
DESCRIPTION:ChristineTessereau/MattSimon vs. TracyTrupka/MiaTrupka
END:VALARM
END:VEVENT
BEGIN:VEVENT
UID:pupc-70857903-20250905T192000@quickscores.com
DTSTAMP:20260425T153200Z
DTSTART;TZID=America/Chicago:20250905T192000
DURATION:PT0H20M0S
SUMMARY:ChristineTessereau/MattSimon vs. AustenPitkanen/JesseReidelberger
DESCRIPTION:Friday Night Tournament - 9/5 - Paddle Up Pickleball Club
LOCATION:FMG Court 1
CATEGORIES:QuickScores, Pickleball Game
TRANSP:OPAQUE
BEGIN:VALARM
TRIGGER:-PT2H
ACTION:DISPLAY
DESCRIPTION:ChristineTessereau/MattSimon vs. AustenPitkanen/JesseReidelberger
END:VALARM
END:VEVENT
END:VCALENDAR
