BEGIN:VCALENDAR
VERSION:2.0
PRODID:-//QuickScores.com//BQ Dynamic iCal Creator//EN
METHOD:PUBLISH
X-WR-CALNAME:Boualavong/Ebbing - Moorman Park - Wednesday Low/high Intermediate League - Fall25 - Completed Leagues 2025
X-WR-CALDESC:QuickScores game calendar
X-PUBLISHED-TTL:PT24H
REFRESH-INTERVAL;VALUE=DURATION:PT24H
CALSCALE:GREGORIAN
BEGIN:VTIMEZONE
TZID:America/Chicago
X-LIC-LOCATION:America/Chicago
BEGIN:DAYLIGHT
TZNAME:CDT
TZOFFSETFROM:-0600
TZOFFSETTO:-0500
DTSTART:19700308T020000
RRULE:FREQ=YEARLY;BYMONTH=3;BYDAY=2SU
END:DAYLIGHT
BEGIN:STANDARD
TZNAME:CST
TZOFFSETFROM:-0500
TZOFFSETTO:-0600
DTSTART:19701101T020000
RRULE:FREQ=YEARLY;BYMONTH=11;BYDAY=1SU
END:STANDARD
END:VTIMEZONE
BEGIN:VEVENT
UID:pupc-70827292-20250910T180000@quickscores.com
DTSTAMP:20260421T061500Z
DTSTART;TZID=America/Chicago:20250910T180000
DURATION:PT0H40M0S
SUMMARY:Hollensteiner/Maas vs. Boualavong/Ebbing
DESCRIPTION:Moorman Park - Wednesday Low/high Intermediate League - Fall25 - Paddle Up Pickleball Club
LOCATION:Moorman 4
CATEGORIES:QuickScores, Pickleball Game
TRANSP:OPAQUE
BEGIN:VALARM
TRIGGER:-PT2H
ACTION:DISPLAY
DESCRIPTION:Hollensteiner/Maas vs. Boualavong/Ebbing
END:VALARM
END:VEVENT
BEGIN:VEVENT
UID:pupc-70827291-20250910T192000@quickscores.com
DTSTAMP:20260421T061500Z
DTSTART;TZID=America/Chicago:20250910T192000
DURATION:PT0H40M0S
SUMMARY:Cramer/Cramer vs. Boualavong/Ebbing
DESCRIPTION:Moorman Park - Wednesday Low/high Intermediate League - Fall25 - Paddle Up Pickleball Club
LOCATION:Moorman 6
CATEGORIES:QuickScores, Pickleball Game
TRANSP:OPAQUE
BEGIN:VALARM
TRIGGER:-PT2H
ACTION:DISPLAY
DESCRIPTION:Cramer/Cramer vs. Boualavong/Ebbing
END:VALARM
END:VEVENT
BEGIN:VEVENT
UID:pupc-70827298-20250917T184000@quickscores.com
DTSTAMP:20260421T061500Z
DTSTART;TZID=America/Chicago:20250917T184000
DURATION:PT0H40M0S
SUMMARY:Griffard/Albert vs. Boualavong/Ebbing
DESCRIPTION:Moorman Park - Wednesday Low/high Intermediate League - Fall25 - Paddle Up Pickleball Club
LOCATION:Moorman 4
CATEGORIES:QuickScores, Pickleball Game
TRANSP:OPAQUE
BEGIN:VALARM
TRIGGER:-PT2H
ACTION:DISPLAY
DESCRIPTION:Griffard/Albert vs. Boualavong/Ebbing
END:VALARM
END:VEVENT
BEGIN:VEVENT
UID:pupc-70827299-20250917T192000@quickscores.com
DTSTAMP:20260421T061500Z
DTSTART;TZID=America/Chicago:20250917T192000
DURATION:PT0H40M0S
SUMMARY:Boualavong/Ebbing vs. Cain/Koester
DESCRIPTION:Moorman Park - Wednesday Low/high Intermediate League - Fall25 - Paddle Up Pickleball Club
LOCATION:Moorman 4
CATEGORIES:QuickScores, Pickleball Game
TRANSP:OPAQUE
BEGIN:VALARM
TRIGGER:-PT2H
ACTION:DISPLAY
DESCRIPTION:Boualavong/Ebbing vs. Cain/Koester
END:VALARM
END:VEVENT
BEGIN:VEVENT
UID:pupc-70877568-20250924T180000@quickscores.com
DTSTAMP:20260421T061500Z
DTSTART;TZID=America/Chicago:20250924T180000
DURATION:PT0H40M0S
SUMMARY:Boualavong/Ebbing vs. Harris/Harris
DESCRIPTION:Moorman Park - Wednesday Low/high Intermediate League - Fall25 - Paddle Up Pickleball Club
LOCATION:Moorman 3
CATEGORIES:QuickScores, Pickleball Game
TRANSP:OPAQUE
BEGIN:VALARM
TRIGGER:-PT2H
ACTION:DISPLAY
DESCRIPTION:Boualavong/Ebbing vs. Harris/Harris
END:VALARM
END:VEVENT
BEGIN:VEVENT
UID:pupc-70827303-20250924T184000@quickscores.com
DTSTAMP:20260421T061500Z
DTSTART;TZID=America/Chicago:20250924T184000
DURATION:PT0H40M0S
SUMMARY:Boualavong/Ebbing vs. Cramer/Cramer
DESCRIPTION:Moorman Park - Wednesday Low/high Intermediate League - Fall25 - Paddle Up Pickleball Club
LOCATION:Moorman 4
CATEGORIES:QuickScores, Pickleball Game
TRANSP:OPAQUE
BEGIN:VALARM
TRIGGER:-PT2H
ACTION:DISPLAY
DESCRIPTION:Boualavong/Ebbing vs. Cramer/Cramer
END:VALARM
END:VEVENT
BEGIN:VEVENT
UID:pupc-70827320-20251008T180000@quickscores.com
DTSTAMP:20260421T061500Z
DTSTART;TZID=America/Chicago:20251008T180000
DURATION:PT0H40M0S
SUMMARY:Terry/Terry vs. Boualavong/Ebbing
DESCRIPTION:Moorman Park - Wednesday Low/high Intermediate League - Fall25 - Paddle Up Pickleball Club
LOCATION:Moorman 4
CATEGORIES:QuickScores, Pickleball Game
TRANSP:OPAQUE
BEGIN:VALARM
TRIGGER:-PT2H
ACTION:DISPLAY
DESCRIPTION:Terry/Terry vs. Boualavong/Ebbing
END:VALARM
END:VEVENT
BEGIN:VEVENT
UID:pupc-70827315-20251008T192000@quickscores.com
DTSTAMP:20260421T061500Z
DTSTART;TZID=America/Chicago:20251008T192000
DURATION:PT0H40M0S
SUMMARY:Boualavong/Ebbing vs. Harris/Harris
DESCRIPTION:Moorman Park - Wednesday Low/high Intermediate League - Fall25 - Paddle Up Pickleball Club
LOCATION:Moorman 6
CATEGORIES:QuickScores, Pickleball Game
TRANSP:OPAQUE
BEGIN:VALARM
TRIGGER:-PT2H
ACTION:DISPLAY
DESCRIPTION:Boualavong/Ebbing vs. Harris/Harris
END:VALARM
END:VEVENT
BEGIN:VEVENT
UID:pupc-70827309-20251015T180000@quickscores.com
DTSTAMP:20260421T061500Z
DTSTART;TZID=America/Chicago:20251015T180000
DURATION:PT0H40M0S
SUMMARY:Boualavong/Ebbing vs. Hollensteiner/Maas
DESCRIPTION:Moorman Park - Wednesday Low/high Intermediate League - Fall25 - Paddle Up Pickleball Club
LOCATION:Moorman 4
CATEGORIES:QuickScores, Pickleball Game
TRANSP:OPAQUE
BEGIN:VALARM
TRIGGER:-PT2H
ACTION:DISPLAY
DESCRIPTION:Boualavong/Ebbing vs. Hollensteiner/Maas
END:VALARM
END:VEVENT
BEGIN:VEVENT
UID:pupc-70827313-20251015T184000@quickscores.com
DTSTAMP:20260421T061500Z
DTSTART;TZID=America/Chicago:20251015T184000
DURATION:PT0H40M0S
SUMMARY:Cain/Koester vs. Boualavong/Ebbing
DESCRIPTION:Moorman Park - Wednesday Low/high Intermediate League - Fall25 - Paddle Up Pickleball Club
LOCATION:Moorman 4
CATEGORIES:QuickScores, Pickleball Game
TRANSP:OPAQUE
BEGIN:VALARM
TRIGGER:-PT2H
ACTION:DISPLAY
DESCRIPTION:Cain/Koester vs. Boualavong/Ebbing
END:VALARM
END:VEVENT
END:VCALENDAR
