BEGIN:VCALENDAR
VERSION:2.0
PRODID:-//QuickScores.com//BQ Dynamic iCal Creator//EN
METHOD:PUBLISH
X-WR-CALNAME:Heaney/Rockamann - Ddtc - Monday High Int. Lg. - Fall25 - Completed Leagues 2025
X-WR-CALDESC:QuickScores game calendar
X-PUBLISHED-TTL:PT24H
REFRESH-INTERVAL;VALUE=DURATION:PT24H
CALSCALE:GREGORIAN
BEGIN:VTIMEZONE
TZID:America/Chicago
X-LIC-LOCATION:America/Chicago
BEGIN:DAYLIGHT
TZNAME:CDT
TZOFFSETFROM:-0600
TZOFFSETTO:-0500
DTSTART:19700308T020000
RRULE:FREQ=YEARLY;BYMONTH=3;BYDAY=2SU
END:DAYLIGHT
BEGIN:STANDARD
TZNAME:CST
TZOFFSETFROM:-0500
TZOFFSETTO:-0600
DTSTART:19701101T020000
RRULE:FREQ=YEARLY;BYMONTH=11;BYDAY=1SU
END:STANDARD
END:VTIMEZONE
BEGIN:VEVENT
UID:pupc-70794214-20250908T174000@quickscores.com
DTSTAMP:20260424T224600Z
DTSTART;TZID=America/Chicago:20250908T174000
DURATION:PT0H40M0S
SUMMARY:Huether/Crissup vs. Heaney/Rockamann
DESCRIPTION:Ddtc - Monday High Int. Lg. - Fall25 - Paddle Up Pickleball Club
LOCATION:DDTC Court 11S
CATEGORIES:QuickScores, Pickleball Game
TRANSP:OPAQUE
BEGIN:VALARM
TRIGGER:-PT2H
ACTION:DISPLAY
DESCRIPTION:Huether/Crissup vs. Heaney/Rockamann
END:VALARM
END:VEVENT
BEGIN:VEVENT
UID:pupc-70794215-20250908T182000@quickscores.com
DTSTAMP:20260424T224600Z
DTSTART;TZID=America/Chicago:20250908T182000
DURATION:PT0H40M0S
SUMMARY:Cage/Lansing vs. Heaney/Rockamann
DESCRIPTION:Ddtc - Monday High Int. Lg. - Fall25 - Paddle Up Pickleball Club
LOCATION:DDTC Court 11S
CATEGORIES:QuickScores, Pickleball Game
TRANSP:OPAQUE
BEGIN:VALARM
TRIGGER:-PT2H
ACTION:DISPLAY
DESCRIPTION:Cage/Lansing vs. Heaney/Rockamann
END:VALARM
END:VEVENT
BEGIN:VEVENT
UID:pupc-70794233-20250915T174000@quickscores.com
DTSTAMP:20260424T224600Z
DTSTART;TZID=America/Chicago:20250915T174000
DURATION:PT0H40M0S
SUMMARY:Heaney/Rockamann vs. Wofford/Putnam
DESCRIPTION:Ddtc - Monday High Int. Lg. - Fall25 - Paddle Up Pickleball Club
LOCATION:DDTC Court 13S
CATEGORIES:QuickScores, Pickleball Game
TRANSP:OPAQUE
BEGIN:VALARM
TRIGGER:-PT2H
ACTION:DISPLAY
DESCRIPTION:Heaney/Rockamann vs. Wofford/Putnam
END:VALARM
END:VEVENT
BEGIN:VEVENT
UID:pupc-70794234-20250915T182000@quickscores.com
DTSTAMP:20260424T224600Z
DTSTART;TZID=America/Chicago:20250915T182000
DURATION:PT0H40M0S
SUMMARY:Heaney/Rockamann vs. Vandercar/Hughes
DESCRIPTION:Ddtc - Monday High Int. Lg. - Fall25 - Paddle Up Pickleball Club
LOCATION:DDTC Court 12S
CATEGORIES:QuickScores, Pickleball Game
TRANSP:OPAQUE
BEGIN:VALARM
TRIGGER:-PT2H
ACTION:DISPLAY
DESCRIPTION:Heaney/Rockamann vs. Vandercar/Hughes
END:VALARM
END:VEVENT
BEGIN:VEVENT
UID:pupc-70794254-20250922T182000@quickscores.com
DTSTAMP:20260424T224600Z
DTSTART;TZID=America/Chicago:20250922T182000
DURATION:PT0H40M0S
SUMMARY:Heaney/Rockamann vs. Tin/McQueen
DESCRIPTION:Ddtc - Monday High Int. Lg. - Fall25 - Paddle Up Pickleball Club
LOCATION:DDTC Court 11S
CATEGORIES:QuickScores, Pickleball Game
TRANSP:OPAQUE
BEGIN:VALARM
TRIGGER:-PT2H
ACTION:DISPLAY
DESCRIPTION:Heaney/Rockamann vs. Tin/McQueen
END:VALARM
END:VEVENT
BEGIN:VEVENT
UID:pupc-70794255-20250922T190000@quickscores.com
DTSTAMP:20260424T224600Z
DTSTART;TZID=America/Chicago:20250922T190000
DURATION:PT0H40M0S
SUMMARY:Ruzicka/Hays vs. Heaney/Rockamann
DESCRIPTION:Ddtc - Monday High Int. Lg. - Fall25 - Paddle Up Pickleball Club
LOCATION:DDTC Court 11S
CATEGORIES:QuickScores, Pickleball Game
TRANSP:OPAQUE
BEGIN:VALARM
TRIGGER:-PT2H
ACTION:DISPLAY
DESCRIPTION:Ruzicka/Hays vs. Heaney/Rockamann
END:VALARM
END:VEVENT
BEGIN:VEVENT
UID:pupc-70794298-20251006T174000@quickscores.com
DTSTAMP:20260424T224600Z
DTSTART;TZID=America/Chicago:20251006T174000
DURATION:PT0H40M0S
SUMMARY:Parr/George vs. Heaney/Rockamann
DESCRIPTION:Ddtc - Monday High Int. Lg. - Fall25 - Paddle Up Pickleball Club
LOCATION:DDTC Court 13S
CATEGORIES:QuickScores, Pickleball Game
TRANSP:OPAQUE
BEGIN:VALARM
TRIGGER:-PT2H
ACTION:DISPLAY
DESCRIPTION:Parr/George vs. Heaney/Rockamann
END:VALARM
END:VEVENT
BEGIN:VEVENT
UID:pupc-70794299-20251006T182000@quickscores.com
DTSTAMP:20260424T224600Z
DTSTART;TZID=America/Chicago:20251006T182000
DURATION:PT0H40M0S
SUMMARY:Heaney/Rockamann vs. Kirkpatrick/Kirkpatrick
DESCRIPTION:Ddtc - Monday High Int. Lg. - Fall25 - Paddle Up Pickleball Club
LOCATION:DDTC Court 12S
CATEGORIES:QuickScores, Pickleball Game
TRANSP:OPAQUE
BEGIN:VALARM
TRIGGER:-PT2H
ACTION:DISPLAY
DESCRIPTION:Heaney/Rockamann vs. Kirkpatrick/Kirkpatrick
END:VALARM
END:VEVENT
END:VCALENDAR
