BEGIN:VCALENDAR
VERSION:2.0
PRODID:-//QuickScores.com//BQ Dynamic iCal Creator//EN
METHOD:PUBLISH
X-WR-CALNAME:Kirkpatrick/Kirkpatrick - Ddtc - Monday High Int. Lg. - Fall25 - Completed Leagues 2025
X-WR-CALDESC:QuickScores game calendar
X-PUBLISHED-TTL:PT24H
REFRESH-INTERVAL;VALUE=DURATION:PT24H
CALSCALE:GREGORIAN
BEGIN:VTIMEZONE
TZID:America/Chicago
X-LIC-LOCATION:America/Chicago
BEGIN:DAYLIGHT
TZNAME:CDT
TZOFFSETFROM:-0600
TZOFFSETTO:-0500
DTSTART:19700308T020000
RRULE:FREQ=YEARLY;BYMONTH=3;BYDAY=2SU
END:DAYLIGHT
BEGIN:STANDARD
TZNAME:CST
TZOFFSETFROM:-0500
TZOFFSETTO:-0600
DTSTART:19701101T020000
RRULE:FREQ=YEARLY;BYMONTH=11;BYDAY=1SU
END:STANDARD
END:VTIMEZONE
BEGIN:VEVENT
UID:pupc-70794224-20250908T194000@quickscores.com
DTSTAMP:20260424T090900Z
DTSTART;TZID=America/Chicago:20250908T194000
DURATION:PT0H40M0S
SUMMARY:Wu/Dalla vs. Kirkpatrick/Kirkpatrick
DESCRIPTION:Ddtc - Monday High Int. Lg. - Fall25 - Paddle Up Pickleball Club
LOCATION:DDTC Court 12S
CATEGORIES:QuickScores, Pickleball Game
TRANSP:OPAQUE
BEGIN:VALARM
TRIGGER:-PT2H
ACTION:DISPLAY
DESCRIPTION:Wu/Dalla vs. Kirkpatrick/Kirkpatrick
END:VALARM
END:VEVENT
BEGIN:VEVENT
UID:pupc-70794223-20250908T210000@quickscores.com
DTSTAMP:20260424T090900Z
DTSTART;TZID=America/Chicago:20250908T210000
DURATION:PT0H40M0S
SUMMARY:Parr/George vs. Kirkpatrick/Kirkpatrick
DESCRIPTION:Ddtc - Monday High Int. Lg. - Fall25 - Paddle Up Pickleball Club
LOCATION:DDTC Court 12S
CATEGORIES:QuickScores, Pickleball Game
TRANSP:OPAQUE
BEGIN:VALARM
TRIGGER:-PT2H
ACTION:DISPLAY
DESCRIPTION:Parr/George vs. Kirkpatrick/Kirkpatrick
END:VALARM
END:VEVENT
BEGIN:VEVENT
UID:pupc-70794231-20250915T174000@quickscores.com
DTSTAMP:20260424T090900Z
DTSTART;TZID=America/Chicago:20250915T174000
DURATION:PT0H40M0S
SUMMARY:Kirkpatrick/Kirkpatrick vs. Tin/McQueen
DESCRIPTION:Ddtc - Monday High Int. Lg. - Fall25 - Paddle Up Pickleball Club
LOCATION:DDTC Court 21
CATEGORIES:QuickScores, Pickleball Game
TRANSP:OPAQUE
BEGIN:VALARM
TRIGGER:-PT2H
ACTION:DISPLAY
DESCRIPTION:Kirkpatrick/Kirkpatrick vs. Tin/McQueen
END:VALARM
END:VEVENT
BEGIN:VEVENT
UID:pupc-70794230-20250915T190000@quickscores.com
DTSTAMP:20260424T090900Z
DTSTART;TZID=America/Chicago:20250915T190000
DURATION:PT0H40M0S
SUMMARY:Kirkpatrick/Kirkpatrick vs. Beachem/Hutchens
DESCRIPTION:Ddtc - Monday High Int. Lg. - Fall25 - Paddle Up Pickleball Club
LOCATION:DDTC Court 21
CATEGORIES:QuickScores, Pickleball Game
TRANSP:OPAQUE
BEGIN:VALARM
TRIGGER:-PT2H
ACTION:DISPLAY
DESCRIPTION:Kirkpatrick/Kirkpatrick vs. Beachem/Hutchens
END:VALARM
END:VEVENT
BEGIN:VEVENT
UID:pupc-70794249-20250922T174000@quickscores.com
DTSTAMP:20260424T090900Z
DTSTART;TZID=America/Chicago:20250922T174000
DURATION:PT0H40M0S
SUMMARY:Panzitta/Hatzigeorgiou vs. Kirkpatrick/Kirkpatrick
DESCRIPTION:Ddtc - Monday High Int. Lg. - Fall25 - Paddle Up Pickleball Club
LOCATION:DDTC Court 21
CATEGORIES:QuickScores, Pickleball Game
TRANSP:OPAQUE
BEGIN:VALARM
TRIGGER:-PT2H
ACTION:DISPLAY
DESCRIPTION:Panzitta/Hatzigeorgiou vs. Kirkpatrick/Kirkpatrick
END:VALARM
END:VEVENT
BEGIN:VEVENT
UID:pupc-70794250-20250922T182000@quickscores.com
DTSTAMP:20260424T090900Z
DTSTART;TZID=America/Chicago:20250922T182000
DURATION:PT0H40M0S
SUMMARY:Karstens/Moody vs. Kirkpatrick/Kirkpatrick
DESCRIPTION:Ddtc - Monday High Int. Lg. - Fall25 - Paddle Up Pickleball Club
LOCATION:DDTC Court 21
CATEGORIES:QuickScores, Pickleball Game
TRANSP:OPAQUE
BEGIN:VALARM
TRIGGER:-PT2H
ACTION:DISPLAY
DESCRIPTION:Karstens/Moody vs. Kirkpatrick/Kirkpatrick
END:VALARM
END:VEVENT
BEGIN:VEVENT
UID:pupc-70794270-20250929T190000@quickscores.com
DTSTAMP:20260424T090900Z
DTSTART;TZID=America/Chicago:20250929T190000
DURATION:PT0H40M0S
SUMMARY:Kirkpatrick/Kirkpatrick vs. Rosehill/Lang
DESCRIPTION:Ddtc - Monday High Int. Lg. - Fall25 - Paddle Up Pickleball Club
LOCATION:DDTC Court 11S
CATEGORIES:QuickScores, Pickleball Game
TRANSP:OPAQUE
BEGIN:VALARM
TRIGGER:-PT2H
ACTION:DISPLAY
DESCRIPTION:Kirkpatrick/Kirkpatrick vs. Rosehill/Lang
END:VALARM
END:VEVENT
BEGIN:VEVENT
UID:pupc-70794272-20250929T202000@quickscores.com
DTSTAMP:20260424T090900Z
DTSTART;TZID=America/Chicago:20250929T202000
DURATION:PT0H40M0S
SUMMARY:Kirkpatrick/Kirkpatrick vs. Tin/McQueen
DESCRIPTION:Ddtc - Monday High Int. Lg. - Fall25 - Paddle Up Pickleball Club
LOCATION:DDTC Court 11S
CATEGORIES:QuickScores, Pickleball Game
TRANSP:OPAQUE
BEGIN:VALARM
TRIGGER:-PT2H
ACTION:DISPLAY
DESCRIPTION:Kirkpatrick/Kirkpatrick vs. Tin/McQueen
END:VALARM
END:VEVENT
BEGIN:VEVENT
UID:pupc-70794300-20251006T174000@quickscores.com
DTSTAMP:20260424T090900Z
DTSTART;TZID=America/Chicago:20251006T174000
DURATION:PT0H40M0S
SUMMARY:Kirkpatrick/Kirkpatrick vs. Gorman/Gorman
DESCRIPTION:Ddtc - Monday High Int. Lg. - Fall25 - Paddle Up Pickleball Club
LOCATION:DDTC Court 11S
CATEGORIES:QuickScores, Pickleball Game
TRANSP:OPAQUE
BEGIN:VALARM
TRIGGER:-PT2H
ACTION:DISPLAY
DESCRIPTION:Kirkpatrick/Kirkpatrick vs. Gorman/Gorman
END:VALARM
END:VEVENT
BEGIN:VEVENT
UID:pupc-70794299-20251006T182000@quickscores.com
DTSTAMP:20260424T090900Z
DTSTART;TZID=America/Chicago:20251006T182000
DURATION:PT0H40M0S
SUMMARY:Heaney/Rockamann vs. Kirkpatrick/Kirkpatrick
DESCRIPTION:Ddtc - Monday High Int. Lg. - Fall25 - Paddle Up Pickleball Club
LOCATION:DDTC Court 12S
CATEGORIES:QuickScores, Pickleball Game
TRANSP:OPAQUE
BEGIN:VALARM
TRIGGER:-PT2H
ACTION:DISPLAY
DESCRIPTION:Heaney/Rockamann vs. Kirkpatrick/Kirkpatrick
END:VALARM
END:VEVENT
BEGIN:VEVENT
UID:pupc-71248908-20251013T181000@quickscores.com
DTSTAMP:20260424T090900Z
DTSTART;TZID=America/Chicago:20251013T181000
DURATION:PT0H30M0S
SUMMARY:[2] Kirkpatrick/Kirkpatrick vs. [15] Parr/George
DESCRIPTION:Ddtc - Monday High Int. Lg. - Fall25 - Paddle Up Pickleball Club
LOCATION:DDTC Court 14N
CATEGORIES:QuickScores, Pickleball Game
TRANSP:OPAQUE
BEGIN:VALARM
TRIGGER:-PT2H
ACTION:DISPLAY
DESCRIPTION:[2] Kirkpatrick/Kirkpatrick vs. [15] Parr/George
END:VALARM
END:VEVENT
END:VCALENDAR
