BEGIN:VCALENDAR
VERSION:2.0
PRODID:-//QuickScores.com//BQ Dynamic iCal Creator//EN
METHOD:PUBLISH
X-WR-CALNAME:Ruzicka/Hays - Ddtc - Monday High Int. Lg. - Fall25 - Completed Leagues 2025
X-WR-CALDESC:QuickScores game calendar
X-PUBLISHED-TTL:PT24H
REFRESH-INTERVAL;VALUE=DURATION:PT24H
CALSCALE:GREGORIAN
BEGIN:VTIMEZONE
TZID:America/Chicago
X-LIC-LOCATION:America/Chicago
BEGIN:DAYLIGHT
TZNAME:CDT
TZOFFSETFROM:-0600
TZOFFSETTO:-0500
DTSTART:19700308T020000
RRULE:FREQ=YEARLY;BYMONTH=3;BYDAY=2SU
END:DAYLIGHT
BEGIN:STANDARD
TZNAME:CST
TZOFFSETFROM:-0500
TZOFFSETTO:-0600
DTSTART:19701101T020000
RRULE:FREQ=YEARLY;BYMONTH=11;BYDAY=1SU
END:STANDARD
END:VTIMEZONE
BEGIN:VEVENT
UID:pupc-70794220-20250908T202000@quickscores.com
DTSTAMP:20260425T134500Z
DTSTART;TZID=America/Chicago:20250908T202000
DURATION:PT0H40M0S
SUMMARY:Rule/Tredway vs. Ruzicka/Hays
DESCRIPTION:Ddtc - Monday High Int. Lg. - Fall25 - Paddle Up Pickleball Club
LOCATION:DDTC Court 21
CATEGORIES:QuickScores, Pickleball Game
TRANSP:OPAQUE
BEGIN:VALARM
TRIGGER:-PT2H
ACTION:DISPLAY
DESCRIPTION:Rule/Tredway vs. Ruzicka/Hays
END:VALARM
END:VEVENT
BEGIN:VEVENT
UID:pupc-70794219-20250908T210000@quickscores.com
DTSTAMP:20260425T134500Z
DTSTART;TZID=America/Chicago:20250908T210000
DURATION:PT0H40M0S
SUMMARY:Panzitta/Hatzigeorgiou vs. Ruzicka/Hays
DESCRIPTION:Ddtc - Monday High Int. Lg. - Fall25 - Paddle Up Pickleball Club
LOCATION:DDTC Court 11S
CATEGORIES:QuickScores, Pickleball Game
TRANSP:OPAQUE
BEGIN:VALARM
TRIGGER:-PT2H
ACTION:DISPLAY
DESCRIPTION:Panzitta/Hatzigeorgiou vs. Ruzicka/Hays
END:VALARM
END:VEVENT
BEGIN:VEVENT
UID:pupc-70794237-20250915T190000@quickscores.com
DTSTAMP:20260425T134500Z
DTSTART;TZID=America/Chicago:20250915T190000
DURATION:PT0H40M0S
SUMMARY:Ruzicka/Hays vs. Hawkins/Stadom
DESCRIPTION:Ddtc - Monday High Int. Lg. - Fall25 - Paddle Up Pickleball Club
LOCATION:DDTC Court 11S
CATEGORIES:QuickScores, Pickleball Game
TRANSP:OPAQUE
BEGIN:VALARM
TRIGGER:-PT2H
ACTION:DISPLAY
DESCRIPTION:Ruzicka/Hays vs. Hawkins/Stadom
END:VALARM
END:VEVENT
BEGIN:VEVENT
UID:pupc-70794238-20250915T194000@quickscores.com
DTSTAMP:20260425T134500Z
DTSTART;TZID=America/Chicago:20250915T194000
DURATION:PT0H40M0S
SUMMARY:Cage/Lansing vs. Ruzicka/Hays
DESCRIPTION:Ddtc - Monday High Int. Lg. - Fall25 - Paddle Up Pickleball Club
LOCATION:DDTC Court 11S
CATEGORIES:QuickScores, Pickleball Game
TRANSP:OPAQUE
BEGIN:VALARM
TRIGGER:-PT2H
ACTION:DISPLAY
DESCRIPTION:Cage/Lansing vs. Ruzicka/Hays
END:VALARM
END:VEVENT
BEGIN:VEVENT
UID:pupc-70794255-20250922T190000@quickscores.com
DTSTAMP:20260425T134500Z
DTSTART;TZID=America/Chicago:20250922T190000
DURATION:PT0H40M0S
SUMMARY:Ruzicka/Hays vs. Heaney/Rockamann
DESCRIPTION:Ddtc - Monday High Int. Lg. - Fall25 - Paddle Up Pickleball Club
LOCATION:DDTC Court 11S
CATEGORIES:QuickScores, Pickleball Game
TRANSP:OPAQUE
BEGIN:VALARM
TRIGGER:-PT2H
ACTION:DISPLAY
DESCRIPTION:Ruzicka/Hays vs. Heaney/Rockamann
END:VALARM
END:VEVENT
BEGIN:VEVENT
UID:pupc-70794256-20250922T194000@quickscores.com
DTSTAMP:20260425T134500Z
DTSTART;TZID=America/Chicago:20250922T194000
DURATION:PT0H40M0S
SUMMARY:Ruzicka/Hays vs. Wu/Dalla
DESCRIPTION:Ddtc - Monday High Int. Lg. - Fall25 - Paddle Up Pickleball Club
LOCATION:DDTC Court 11S
CATEGORIES:QuickScores, Pickleball Game
TRANSP:OPAQUE
BEGIN:VALARM
TRIGGER:-PT2H
ACTION:DISPLAY
DESCRIPTION:Ruzicka/Hays vs. Wu/Dalla
END:VALARM
END:VEVENT
BEGIN:VEVENT
UID:pupc-70794274-20250929T202000@quickscores.com
DTSTAMP:20260425T134500Z
DTSTART;TZID=America/Chicago:20250929T202000
DURATION:PT0H40M0S
SUMMARY:Ruzicka/Hays vs. Beachem/Hutchens
DESCRIPTION:Ddtc - Monday High Int. Lg. - Fall25 - Paddle Up Pickleball Club
LOCATION:DDTC Court 21
CATEGORIES:QuickScores, Pickleball Game
TRANSP:OPAQUE
BEGIN:VALARM
TRIGGER:-PT2H
ACTION:DISPLAY
DESCRIPTION:Ruzicka/Hays vs. Beachem/Hutchens
END:VALARM
END:VEVENT
BEGIN:VEVENT
UID:pupc-70794273-20250929T210000@quickscores.com
DTSTAMP:20260425T134500Z
DTSTART;TZID=America/Chicago:20250929T210000
DURATION:PT0H40M0S
SUMMARY:Tin/McQueen vs. Ruzicka/Hays
DESCRIPTION:Ddtc - Monday High Int. Lg. - Fall25 - Paddle Up Pickleball Club
LOCATION:DDTC Court 11S
CATEGORIES:QuickScores, Pickleball Game
TRANSP:OPAQUE
BEGIN:VALARM
TRIGGER:-PT2H
ACTION:DISPLAY
DESCRIPTION:Tin/McQueen vs. Ruzicka/Hays
END:VALARM
END:VEVENT
BEGIN:VEVENT
UID:pupc-70794292-20251006T194000@quickscores.com
DTSTAMP:20260425T134500Z
DTSTART;TZID=America/Chicago:20251006T194000
DURATION:PT0H40M0S
SUMMARY:Ruzicka/Hays vs. Karstens/Moody
DESCRIPTION:Ddtc - Monday High Int. Lg. - Fall25 - Paddle Up Pickleball Club
LOCATION:DDTC Court 12S
CATEGORIES:QuickScores, Pickleball Game
TRANSP:OPAQUE
BEGIN:VALARM
TRIGGER:-PT2H
ACTION:DISPLAY
DESCRIPTION:Ruzicka/Hays vs. Karstens/Moody
END:VALARM
END:VEVENT
BEGIN:VEVENT
UID:pupc-70794291-20251006T210000@quickscores.com
DTSTAMP:20260425T134500Z
DTSTART;TZID=America/Chicago:20251006T210000
DURATION:PT0H40M0S
SUMMARY:Vandercar/Hughes vs. Ruzicka/Hays
DESCRIPTION:Ddtc - Monday High Int. Lg. - Fall25 - Paddle Up Pickleball Club
LOCATION:DDTC Court 12S
CATEGORIES:QuickScores, Pickleball Game
TRANSP:OPAQUE
BEGIN:VALARM
TRIGGER:-PT2H
ACTION:DISPLAY
DESCRIPTION:Vandercar/Hughes vs. Ruzicka/Hays
END:VALARM
END:VEVENT
BEGIN:VEVENT
UID:pupc-71248911-20251013T184000@quickscores.com
DTSTAMP:20260425T134500Z
DTSTART;TZID=America/Chicago:20251013T184000
DURATION:PT0H30M0S
SUMMARY:[6] Panzitta/Hatzigeorgiou vs. [11] Ruzicka/Hays
DESCRIPTION:Ddtc - Monday High Int. Lg. - Fall25 - Paddle Up Pickleball Club
LOCATION:DDTC Court 14S
CATEGORIES:QuickScores, Pickleball Game
TRANSP:OPAQUE
BEGIN:VALARM
TRIGGER:-PT2H
ACTION:DISPLAY
DESCRIPTION:[6] Panzitta/Hatzigeorgiou vs. [11] Ruzicka/Hays
END:VALARM
END:VEVENT
END:VCALENDAR
