BEGIN:VCALENDAR
VERSION:2.0
PRODID:-//QuickScores.com//BQ Dynamic iCal Creator//EN
METHOD:PUBLISH
X-WR-CALNAME:Spangler/Murdock - Ddtc - Monday High Int. Lg. - Fall25 - Completed Leagues 2025
X-WR-CALDESC:QuickScores game calendar
X-PUBLISHED-TTL:PT24H
REFRESH-INTERVAL;VALUE=DURATION:PT24H
CALSCALE:GREGORIAN
BEGIN:VTIMEZONE
TZID:America/Chicago
X-LIC-LOCATION:America/Chicago
BEGIN:DAYLIGHT
TZNAME:CDT
TZOFFSETFROM:-0600
TZOFFSETTO:-0500
DTSTART:19700308T020000
RRULE:FREQ=YEARLY;BYMONTH=3;BYDAY=2SU
END:DAYLIGHT
BEGIN:STANDARD
TZNAME:CST
TZOFFSETFROM:-0500
TZOFFSETTO:-0600
DTSTART:19701101T020000
RRULE:FREQ=YEARLY;BYMONTH=11;BYDAY=1SU
END:STANDARD
END:VTIMEZONE
BEGIN:VEVENT
UID:pupc-70794222-20250908T202000@quickscores.com
DTSTAMP:20260424T064000Z
DTSTART;TZID=America/Chicago:20250908T202000
DURATION:PT0H40M0S
SUMMARY:Parr/George vs. Spangler/Murdock
DESCRIPTION:Ddtc - Monday High Int. Lg. - Fall25 - Paddle Up Pickleball Club
LOCATION:DDTC Court 12S
CATEGORIES:QuickScores, Pickleball Game
TRANSP:OPAQUE
BEGIN:VALARM
TRIGGER:-PT2H
ACTION:DISPLAY
DESCRIPTION:Parr/George vs. Spangler/Murdock
END:VALARM
END:VEVENT
BEGIN:VEVENT
UID:pupc-70794221-20250908T210000@quickscores.com
DTSTAMP:20260424T064000Z
DTSTART;TZID=America/Chicago:20250908T210000
DURATION:PT0H40M0S
SUMMARY:Rule/Tredway vs. Spangler/Murdock
DESCRIPTION:Ddtc - Monday High Int. Lg. - Fall25 - Paddle Up Pickleball Club
LOCATION:DDTC Court 21
CATEGORIES:QuickScores, Pickleball Game
TRANSP:OPAQUE
BEGIN:VALARM
TRIGGER:-PT2H
ACTION:DISPLAY
DESCRIPTION:Rule/Tredway vs. Spangler/Murdock
END:VALARM
END:VEVENT
BEGIN:VEVENT
UID:pupc-70794243-20250915T202000@quickscores.com
DTSTAMP:20260424T064000Z
DTSTART;TZID=America/Chicago:20250915T202000
DURATION:PT0H40M0S
SUMMARY:Spangler/Murdock vs. Panzitta/Hatzigeorgiou
DESCRIPTION:Ddtc - Monday High Int. Lg. - Fall25 - Paddle Up Pickleball Club
LOCATION:DDTC Court 12S
CATEGORIES:QuickScores, Pickleball Game
TRANSP:OPAQUE
BEGIN:VALARM
TRIGGER:-PT2H
ACTION:DISPLAY
DESCRIPTION:Spangler/Murdock vs. Panzitta/Hatzigeorgiou
END:VALARM
END:VEVENT
BEGIN:VEVENT
UID:pupc-70794242-20250915T210000@quickscores.com
DTSTAMP:20260424T064000Z
DTSTART;TZID=America/Chicago:20250915T210000
DURATION:PT0H40M0S
SUMMARY:Spangler/Murdock vs. Wu/Dalla
DESCRIPTION:Ddtc - Monday High Int. Lg. - Fall25 - Paddle Up Pickleball Club
LOCATION:DDTC Court 21
CATEGORIES:QuickScores, Pickleball Game
TRANSP:OPAQUE
BEGIN:VALARM
TRIGGER:-PT2H
ACTION:DISPLAY
DESCRIPTION:Spangler/Murdock vs. Wu/Dalla
END:VALARM
END:VEVENT
BEGIN:VEVENT
UID:pupc-70794259-20250922T202000@quickscores.com
DTSTAMP:20260424T064000Z
DTSTART;TZID=America/Chicago:20250922T202000
DURATION:PT0H40M0S
SUMMARY:Hawkins/Stadom vs. Spangler/Murdock
DESCRIPTION:Ddtc - Monday High Int. Lg. - Fall25 - Paddle Up Pickleball Club
LOCATION:DDTC Court 21
CATEGORIES:QuickScores, Pickleball Game
TRANSP:OPAQUE
BEGIN:VALARM
TRIGGER:-PT2H
ACTION:DISPLAY
DESCRIPTION:Hawkins/Stadom vs. Spangler/Murdock
END:VALARM
END:VEVENT
BEGIN:VEVENT
UID:pupc-70794258-20250922T210000@quickscores.com
DTSTAMP:20260424T064000Z
DTSTART;TZID=America/Chicago:20250922T210000
DURATION:PT0H40M0S
SUMMARY:Spangler/Murdock vs. Beachem/Hutchens
DESCRIPTION:Ddtc - Monday High Int. Lg. - Fall25 - Paddle Up Pickleball Club
LOCATION:DDTC Court 11S
CATEGORIES:QuickScores, Pickleball Game
TRANSP:OPAQUE
BEGIN:VALARM
TRIGGER:-PT2H
ACTION:DISPLAY
DESCRIPTION:Spangler/Murdock vs. Beachem/Hutchens
END:VALARM
END:VEVENT
BEGIN:VEVENT
UID:pupc-70794281-20250929T190000@quickscores.com
DTSTAMP:20260424T064000Z
DTSTART;TZID=America/Chicago:20250929T190000
DURATION:PT0H40M0S
SUMMARY:Wu/Dalla vs. Spangler/Murdock
DESCRIPTION:Ddtc - Monday High Int. Lg. - Fall25 - Paddle Up Pickleball Club
LOCATION:DDTC Court 21
CATEGORIES:QuickScores, Pickleball Game
TRANSP:OPAQUE
BEGIN:VALARM
TRIGGER:-PT2H
ACTION:DISPLAY
DESCRIPTION:Wu/Dalla vs. Spangler/Murdock
END:VALARM
END:VEVENT
BEGIN:VEVENT
UID:pupc-70794280-20250929T194000@quickscores.com
DTSTAMP:20260424T064000Z
DTSTART;TZID=America/Chicago:20250929T194000
DURATION:PT0H40M0S
SUMMARY:Spangler/Murdock vs. Karstens/Moody
DESCRIPTION:Ddtc - Monday High Int. Lg. - Fall25 - Paddle Up Pickleball Club
LOCATION:DDTC Court 21
CATEGORIES:QuickScores, Pickleball Game
TRANSP:OPAQUE
BEGIN:VALARM
TRIGGER:-PT2H
ACTION:DISPLAY
DESCRIPTION:Spangler/Murdock vs. Karstens/Moody
END:VALARM
END:VEVENT
BEGIN:VEVENT
UID:pupc-70794296-20251006T174000@quickscores.com
DTSTAMP:20260424T064000Z
DTSTART;TZID=America/Chicago:20251006T174000
DURATION:PT0H40M0S
SUMMARY:Spangler/Murdock vs. Rosehill/Lang
DESCRIPTION:Ddtc - Monday High Int. Lg. - Fall25 - Paddle Up Pickleball Club
LOCATION:DDTC Court 21
CATEGORIES:QuickScores, Pickleball Game
TRANSP:OPAQUE
BEGIN:VALARM
TRIGGER:-PT2H
ACTION:DISPLAY
DESCRIPTION:Spangler/Murdock vs. Rosehill/Lang
END:VALARM
END:VEVENT
BEGIN:VEVENT
UID:pupc-70794295-20251006T190000@quickscores.com
DTSTAMP:20260424T064000Z
DTSTART;TZID=America/Chicago:20251006T190000
DURATION:PT0H40M0S
SUMMARY:Tin/McQueen vs. Spangler/Murdock
DESCRIPTION:Ddtc - Monday High Int. Lg. - Fall25 - Paddle Up Pickleball Club
LOCATION:DDTC Court 21
CATEGORIES:QuickScores, Pickleball Game
TRANSP:OPAQUE
BEGIN:VALARM
TRIGGER:-PT2H
ACTION:DISPLAY
DESCRIPTION:Tin/McQueen vs. Spangler/Murdock
END:VALARM
END:VEVENT
BEGIN:VEVENT
UID:pupc-71248905-20251013T184000@quickscores.com
DTSTAMP:20260424T064000Z
DTSTART;TZID=America/Chicago:20251013T184000
DURATION:PT0H30M0S
SUMMARY:[8] Spangler/Murdock vs. [9] Rule/Tredway
DESCRIPTION:Ddtc - Monday High Int. Lg. - Fall25 - Paddle Up Pickleball Club
LOCATION:DDTC Court 13N
CATEGORIES:QuickScores, Pickleball Game
TRANSP:OPAQUE
BEGIN:VALARM
TRIGGER:-PT2H
ACTION:DISPLAY
DESCRIPTION:[8] Spangler/Murdock vs. [9] Rule/Tredway
END:VALARM
END:VEVENT
END:VCALENDAR
