BEGIN:VCALENDAR
VERSION:2.0
PRODID:-//QuickScores.com//BQ Dynamic iCal Creator//EN
METHOD:PUBLISH
X-WR-CALNAME:Huether/Crissup - Ddtc - Monday High Int. Lg. - Fall25 - Completed Leagues 2025
X-WR-CALDESC:QuickScores game calendar
X-PUBLISHED-TTL:PT24H
REFRESH-INTERVAL;VALUE=DURATION:PT24H
CALSCALE:GREGORIAN
BEGIN:VTIMEZONE
TZID:America/Chicago
X-LIC-LOCATION:America/Chicago
BEGIN:DAYLIGHT
TZNAME:CDT
TZOFFSETFROM:-0600
TZOFFSETTO:-0500
DTSTART:19700308T020000
RRULE:FREQ=YEARLY;BYMONTH=3;BYDAY=2SU
END:DAYLIGHT
BEGIN:STANDARD
TZNAME:CST
TZOFFSETFROM:-0500
TZOFFSETTO:-0600
DTSTART:19701101T020000
RRULE:FREQ=YEARLY;BYMONTH=11;BYDAY=1SU
END:STANDARD
END:VTIMEZONE
BEGIN:VEVENT
UID:pupc-70794214-20250908T174000@quickscores.com
DTSTAMP:20260424T023100Z
DTSTART;TZID=America/Chicago:20250908T174000
DURATION:PT0H40M0S
SUMMARY:Huether/Crissup vs. Heaney/Rockamann
DESCRIPTION:Ddtc - Monday High Int. Lg. - Fall25 - Paddle Up Pickleball Club
LOCATION:DDTC Court 11S
CATEGORIES:QuickScores, Pickleball Game
TRANSP:OPAQUE
BEGIN:VALARM
TRIGGER:-PT2H
ACTION:DISPLAY
DESCRIPTION:Huether/Crissup vs. Heaney/Rockamann
END:VALARM
END:VEVENT
BEGIN:VEVENT
UID:pupc-70794213-20250908T182000@quickscores.com
DTSTAMP:20260424T023100Z
DTSTART;TZID=America/Chicago:20250908T182000
DURATION:PT0H40M0S
SUMMARY:Tin/McQueen vs. Huether/Crissup
DESCRIPTION:Ddtc - Monday High Int. Lg. - Fall25 - Paddle Up Pickleball Club
LOCATION:DDTC Court 12S
CATEGORIES:QuickScores, Pickleball Game
TRANSP:OPAQUE
BEGIN:VALARM
TRIGGER:-PT2H
ACTION:DISPLAY
DESCRIPTION:Tin/McQueen vs. Huether/Crissup
END:VALARM
END:VEVENT
BEGIN:VEVENT
UID:pupc-70794235-20250915T174000@quickscores.com
DTSTAMP:20260424T023100Z
DTSTART;TZID=America/Chicago:20250915T174000
DURATION:PT0H40M0S
SUMMARY:Vandercar/Hughes vs. Huether/Crissup
DESCRIPTION:Ddtc - Monday High Int. Lg. - Fall25 - Paddle Up Pickleball Club
LOCATION:DDTC Court 11S
CATEGORIES:QuickScores, Pickleball Game
TRANSP:OPAQUE
BEGIN:VALARM
TRIGGER:-PT2H
ACTION:DISPLAY
DESCRIPTION:Vandercar/Hughes vs. Huether/Crissup
END:VALARM
END:VEVENT
BEGIN:VEVENT
UID:pupc-70794236-20250915T182000@quickscores.com
DTSTAMP:20260424T023100Z
DTSTART;TZID=America/Chicago:20250915T182000
DURATION:PT0H40M0S
SUMMARY:Hawkins/Stadom vs. Huether/Crissup
DESCRIPTION:Ddtc - Monday High Int. Lg. - Fall25 - Paddle Up Pickleball Club
LOCATION:DDTC Court 11S
CATEGORIES:QuickScores, Pickleball Game
TRANSP:OPAQUE
BEGIN:VALARM
TRIGGER:-PT2H
ACTION:DISPLAY
DESCRIPTION:Hawkins/Stadom vs. Huether/Crissup
END:VALARM
END:VEVENT
BEGIN:VEVENT
UID:pupc-70794248-20250922T190000@quickscores.com
DTSTAMP:20260424T023100Z
DTSTART;TZID=America/Chicago:20250922T190000
DURATION:PT0H40M0S
SUMMARY:Panzitta/Hatzigeorgiou vs. Huether/Crissup
DESCRIPTION:Ddtc - Monday High Int. Lg. - Fall25 - Paddle Up Pickleball Club
LOCATION:DDTC Court 21
CATEGORIES:QuickScores, Pickleball Game
TRANSP:OPAQUE
BEGIN:VALARM
TRIGGER:-PT2H
ACTION:DISPLAY
DESCRIPTION:Panzitta/Hatzigeorgiou vs. Huether/Crissup
END:VALARM
END:VEVENT
BEGIN:VEVENT
UID:pupc-70794247-20250922T194000@quickscores.com
DTSTAMP:20260424T023100Z
DTSTART;TZID=America/Chicago:20250922T194000
DURATION:PT0H40M0S
SUMMARY:Gorman/Gorman vs. Huether/Crissup
DESCRIPTION:Ddtc - Monday High Int. Lg. - Fall25 - Paddle Up Pickleball Club
LOCATION:DDTC Court 21
CATEGORIES:QuickScores, Pickleball Game
TRANSP:OPAQUE
BEGIN:VALARM
TRIGGER:-PT2H
ACTION:DISPLAY
DESCRIPTION:Gorman/Gorman vs. Huether/Crissup
END:VALARM
END:VEVENT
BEGIN:VEVENT
UID:pupc-70794278-20250929T194000@quickscores.com
DTSTAMP:20260424T023100Z
DTSTART;TZID=America/Chicago:20250929T194000
DURATION:PT0H40M0S
SUMMARY:Huether/Crissup vs. Rule/Tredway
DESCRIPTION:Ddtc - Monday High Int. Lg. - Fall25 - Paddle Up Pickleball Club
LOCATION:DDTC Court 12S
CATEGORIES:QuickScores, Pickleball Game
TRANSP:OPAQUE
BEGIN:VALARM
TRIGGER:-PT2H
ACTION:DISPLAY
DESCRIPTION:Huether/Crissup vs. Rule/Tredway
END:VALARM
END:VEVENT
BEGIN:VEVENT
UID:pupc-70794277-20250929T210000@quickscores.com
DTSTAMP:20260424T023100Z
DTSTART;TZID=America/Chicago:20250929T210000
DURATION:PT0H40M0S
SUMMARY:Huether/Crissup vs. Cage/Lansing
DESCRIPTION:Ddtc - Monday High Int. Lg. - Fall25 - Paddle Up Pickleball Club
LOCATION:DDTC Court 12S
CATEGORIES:QuickScores, Pickleball Game
TRANSP:OPAQUE
BEGIN:VALARM
TRIGGER:-PT2H
ACTION:DISPLAY
DESCRIPTION:Huether/Crissup vs. Cage/Lansing
END:VALARM
END:VEVENT
BEGIN:VEVENT
UID:pupc-70794286-20251006T202000@quickscores.com
DTSTAMP:20260424T023100Z
DTSTART;TZID=America/Chicago:20251006T202000
DURATION:PT0H40M0S
SUMMARY:Huether/Crissup vs. Wu/Dalla
DESCRIPTION:Ddtc - Monday High Int. Lg. - Fall25 - Paddle Up Pickleball Club
LOCATION:DDTC Court 11S
CATEGORIES:QuickScores, Pickleball Game
TRANSP:OPAQUE
BEGIN:VALARM
TRIGGER:-PT2H
ACTION:DISPLAY
DESCRIPTION:Huether/Crissup vs. Wu/Dalla
END:VALARM
END:VEVENT
BEGIN:VEVENT
UID:pupc-70794287-20251006T210000@quickscores.com
DTSTAMP:20260424T023100Z
DTSTART;TZID=America/Chicago:20251006T210000
DURATION:PT0H40M0S
SUMMARY:Huether/Crissup vs. Wofford/Putnam
DESCRIPTION:Ddtc - Monday High Int. Lg. - Fall25 - Paddle Up Pickleball Club
LOCATION:DDTC Court 11S
CATEGORIES:QuickScores, Pickleball Game
TRANSP:OPAQUE
BEGIN:VALARM
TRIGGER:-PT2H
ACTION:DISPLAY
DESCRIPTION:Huether/Crissup vs. Wofford/Putnam
END:VALARM
END:VEVENT
BEGIN:VEVENT
UID:pupc-71248909-20251013T174000@quickscores.com
DTSTAMP:20260424T023100Z
DTSTART;TZID=America/Chicago:20251013T174000
DURATION:PT0H30M0S
SUMMARY:[7] Huether/Crissup vs. [10] Karstens/Moody
DESCRIPTION:Ddtc - Monday High Int. Lg. - Fall25 - Paddle Up Pickleball Club
LOCATION:DDTC Court 14N
CATEGORIES:QuickScores, Pickleball Game
TRANSP:OPAQUE
BEGIN:VALARM
TRIGGER:-PT2H
ACTION:DISPLAY
DESCRIPTION:[7] Huether/Crissup vs. [10] Karstens/Moody
END:VALARM
END:VEVENT
END:VCALENDAR
