BEGIN:VCALENDAR
VERSION:2.0
PRODID:-//QuickScores.com//BQ Dynamic iCal Creator//EN
METHOD:PUBLISH
X-WR-CALNAME:Rule/Tredway - Ddtc - Monday High Int. Lg. - Fall25 - Completed Leagues 2025
X-WR-CALDESC:QuickScores game calendar
X-PUBLISHED-TTL:PT24H
REFRESH-INTERVAL;VALUE=DURATION:PT24H
CALSCALE:GREGORIAN
BEGIN:VTIMEZONE
TZID:America/Chicago
X-LIC-LOCATION:America/Chicago
BEGIN:DAYLIGHT
TZNAME:CDT
TZOFFSETFROM:-0600
TZOFFSETTO:-0500
DTSTART:19700308T020000
RRULE:FREQ=YEARLY;BYMONTH=3;BYDAY=2SU
END:DAYLIGHT
BEGIN:STANDARD
TZNAME:CST
TZOFFSETFROM:-0500
TZOFFSETTO:-0600
DTSTART:19701101T020000
RRULE:FREQ=YEARLY;BYMONTH=11;BYDAY=1SU
END:STANDARD
END:VTIMEZONE
BEGIN:VEVENT
UID:pupc-70794220-20250908T202000@quickscores.com
DTSTAMP:20260424T010600Z
DTSTART;TZID=America/Chicago:20250908T202000
DURATION:PT0H40M0S
SUMMARY:Rule/Tredway vs. Ruzicka/Hays
DESCRIPTION:Ddtc - Monday High Int. Lg. - Fall25 - Paddle Up Pickleball Club
LOCATION:DDTC Court 21
CATEGORIES:QuickScores, Pickleball Game
TRANSP:OPAQUE
BEGIN:VALARM
TRIGGER:-PT2H
ACTION:DISPLAY
DESCRIPTION:Rule/Tredway vs. Ruzicka/Hays
END:VALARM
END:VEVENT
BEGIN:VEVENT
UID:pupc-70794221-20250908T210000@quickscores.com
DTSTAMP:20260424T010600Z
DTSTART;TZID=America/Chicago:20250908T210000
DURATION:PT0H40M0S
SUMMARY:Rule/Tredway vs. Spangler/Murdock
DESCRIPTION:Ddtc - Monday High Int. Lg. - Fall25 - Paddle Up Pickleball Club
LOCATION:DDTC Court 21
CATEGORIES:QuickScores, Pickleball Game
TRANSP:OPAQUE
BEGIN:VALARM
TRIGGER:-PT2H
ACTION:DISPLAY
DESCRIPTION:Rule/Tredway vs. Spangler/Murdock
END:VALARM
END:VEVENT
BEGIN:VEVENT
UID:pupc-70794246-20250915T190000@quickscores.com
DTSTAMP:20260424T010600Z
DTSTART;TZID=America/Chicago:20250915T190000
DURATION:PT0H40M0S
SUMMARY:Rule/Tredway vs. Gorman/Gorman
DESCRIPTION:Ddtc - Monday High Int. Lg. - Fall25 - Paddle Up Pickleball Club
LOCATION:DDTC Court 12S
CATEGORIES:QuickScores, Pickleball Game
TRANSP:OPAQUE
BEGIN:VALARM
TRIGGER:-PT2H
ACTION:DISPLAY
DESCRIPTION:Rule/Tredway vs. Gorman/Gorman
END:VALARM
END:VEVENT
BEGIN:VEVENT
UID:pupc-70794245-20250915T194000@quickscores.com
DTSTAMP:20260424T010600Z
DTSTART;TZID=America/Chicago:20250915T194000
DURATION:PT0H40M0S
SUMMARY:Parr/George vs. Rule/Tredway
DESCRIPTION:Ddtc - Monday High Int. Lg. - Fall25 - Paddle Up Pickleball Club
LOCATION:DDTC Court 12S
CATEGORIES:QuickScores, Pickleball Game
TRANSP:OPAQUE
BEGIN:VALARM
TRIGGER:-PT2H
ACTION:DISPLAY
DESCRIPTION:Parr/George vs. Rule/Tredway
END:VALARM
END:VEVENT
BEGIN:VEVENT
UID:pupc-70794263-20250922T194000@quickscores.com
DTSTAMP:20260424T010600Z
DTSTART;TZID=America/Chicago:20250922T194000
DURATION:PT0H40M0S
SUMMARY:Rule/Tredway vs. Rosehill/Lang
DESCRIPTION:Ddtc - Monday High Int. Lg. - Fall25 - Paddle Up Pickleball Club
LOCATION:DDTC Court 12S
CATEGORIES:QuickScores, Pickleball Game
TRANSP:OPAQUE
BEGIN:VALARM
TRIGGER:-PT2H
ACTION:DISPLAY
DESCRIPTION:Rule/Tredway vs. Rosehill/Lang
END:VALARM
END:VEVENT
BEGIN:VEVENT
UID:pupc-70794262-20250922T210000@quickscores.com
DTSTAMP:20260424T010600Z
DTSTART;TZID=America/Chicago:20250922T210000
DURATION:PT0H40M0S
SUMMARY:Rule/Tredway vs. Cage/Lansing
DESCRIPTION:Ddtc - Monday High Int. Lg. - Fall25 - Paddle Up Pickleball Club
LOCATION:DDTC Court 12S
CATEGORIES:QuickScores, Pickleball Game
TRANSP:OPAQUE
BEGIN:VALARM
TRIGGER:-PT2H
ACTION:DISPLAY
DESCRIPTION:Rule/Tredway vs. Cage/Lansing
END:VALARM
END:VEVENT
BEGIN:VEVENT
UID:pupc-70794279-20250929T190000@quickscores.com
DTSTAMP:20260424T010600Z
DTSTART;TZID=America/Chicago:20250929T190000
DURATION:PT0H40M0S
SUMMARY:Karstens/Moody vs. Rule/Tredway
DESCRIPTION:Ddtc - Monday High Int. Lg. - Fall25 - Paddle Up Pickleball Club
LOCATION:DDTC Court 12S
CATEGORIES:QuickScores, Pickleball Game
TRANSP:OPAQUE
BEGIN:VALARM
TRIGGER:-PT2H
ACTION:DISPLAY
DESCRIPTION:Karstens/Moody vs. Rule/Tredway
END:VALARM
END:VEVENT
BEGIN:VEVENT
UID:pupc-70794278-20250929T194000@quickscores.com
DTSTAMP:20260424T010600Z
DTSTART;TZID=America/Chicago:20250929T194000
DURATION:PT0H40M0S
SUMMARY:Huether/Crissup vs. Rule/Tredway
DESCRIPTION:Ddtc - Monday High Int. Lg. - Fall25 - Paddle Up Pickleball Club
LOCATION:DDTC Court 12S
CATEGORIES:QuickScores, Pickleball Game
TRANSP:OPAQUE
BEGIN:VALARM
TRIGGER:-PT2H
ACTION:DISPLAY
DESCRIPTION:Huether/Crissup vs. Rule/Tredway
END:VALARM
END:VEVENT
BEGIN:VEVENT
UID:pupc-70794290-20251006T202000@quickscores.com
DTSTAMP:20260424T010600Z
DTSTART;TZID=America/Chicago:20251006T202000
DURATION:PT0H40M0S
SUMMARY:Rule/Tredway vs. Vandercar/Hughes
DESCRIPTION:Ddtc - Monday High Int. Lg. - Fall25 - Paddle Up Pickleball Club
LOCATION:DDTC Court 12S
CATEGORIES:QuickScores, Pickleball Game
TRANSP:OPAQUE
BEGIN:VALARM
TRIGGER:-PT2H
ACTION:DISPLAY
DESCRIPTION:Rule/Tredway vs. Vandercar/Hughes
END:VALARM
END:VEVENT
BEGIN:VEVENT
UID:pupc-70794289-20251006T210000@quickscores.com
DTSTAMP:20260424T010600Z
DTSTART;TZID=America/Chicago:20251006T210000
DURATION:PT0H40M0S
SUMMARY:Beachem/Hutchens vs. Rule/Tredway
DESCRIPTION:Ddtc - Monday High Int. Lg. - Fall25 - Paddle Up Pickleball Club
LOCATION:DDTC Court 21
CATEGORIES:QuickScores, Pickleball Game
TRANSP:OPAQUE
BEGIN:VALARM
TRIGGER:-PT2H
ACTION:DISPLAY
DESCRIPTION:Beachem/Hutchens vs. Rule/Tredway
END:VALARM
END:VEVENT
BEGIN:VEVENT
UID:pupc-71248905-20251013T184000@quickscores.com
DTSTAMP:20260424T010600Z
DTSTART;TZID=America/Chicago:20251013T184000
DURATION:PT0H30M0S
SUMMARY:[8] Spangler/Murdock vs. [9] Rule/Tredway
DESCRIPTION:Ddtc - Monday High Int. Lg. - Fall25 - Paddle Up Pickleball Club
LOCATION:DDTC Court 13N
CATEGORIES:QuickScores, Pickleball Game
TRANSP:OPAQUE
BEGIN:VALARM
TRIGGER:-PT2H
ACTION:DISPLAY
DESCRIPTION:[8] Spangler/Murdock vs. [9] Rule/Tredway
END:VALARM
END:VEVENT
END:VCALENDAR
