BEGIN:VCALENDAR
VERSION:2.0
PRODID:-//QuickScores.com//BQ Dynamic iCal Creator//EN
METHOD:PUBLISH
X-WR-CALNAME:Wofford/Putnam - Ddtc - Monday High Int. Lg. - Fall25 - Completed Leagues 2025
X-WR-CALDESC:QuickScores game calendar
X-PUBLISHED-TTL:PT24H
REFRESH-INTERVAL;VALUE=DURATION:PT24H
CALSCALE:GREGORIAN
BEGIN:VTIMEZONE
TZID:America/Chicago
X-LIC-LOCATION:America/Chicago
BEGIN:DAYLIGHT
TZNAME:CDT
TZOFFSETFROM:-0600
TZOFFSETTO:-0500
DTSTART:19700308T020000
RRULE:FREQ=YEARLY;BYMONTH=3;BYDAY=2SU
END:DAYLIGHT
BEGIN:STANDARD
TZNAME:CST
TZOFFSETFROM:-0500
TZOFFSETTO:-0600
DTSTART:19701101T020000
RRULE:FREQ=YEARLY;BYMONTH=11;BYDAY=1SU
END:STANDARD
END:VTIMEZONE
BEGIN:VEVENT
UID:pupc-70794217-20250908T194000@quickscores.com
DTSTAMP:20260424T165500Z
DTSTART;TZID=America/Chicago:20250908T194000
DURATION:PT0H40M0S
SUMMARY:Wofford/Putnam vs. Hawkins/Stadom
DESCRIPTION:Ddtc - Monday High Int. Lg. - Fall25 - Paddle Up Pickleball Club
LOCATION:DDTC Court 11S
CATEGORIES:QuickScores, Pickleball Game
TRANSP:OPAQUE
BEGIN:VALARM
TRIGGER:-PT2H
ACTION:DISPLAY
DESCRIPTION:Wofford/Putnam vs. Hawkins/Stadom
END:VALARM
END:VEVENT
BEGIN:VEVENT
UID:pupc-70794218-20250908T202000@quickscores.com
DTSTAMP:20260424T165500Z
DTSTART;TZID=America/Chicago:20250908T202000
DURATION:PT0H40M0S
SUMMARY:Wofford/Putnam vs. Panzitta/Hatzigeorgiou
DESCRIPTION:Ddtc - Monday High Int. Lg. - Fall25 - Paddle Up Pickleball Club
LOCATION:DDTC Court 11S
CATEGORIES:QuickScores, Pickleball Game
TRANSP:OPAQUE
BEGIN:VALARM
TRIGGER:-PT2H
ACTION:DISPLAY
DESCRIPTION:Wofford/Putnam vs. Panzitta/Hatzigeorgiou
END:VALARM
END:VEVENT
BEGIN:VEVENT
UID:pupc-70794233-20250915T174000@quickscores.com
DTSTAMP:20260424T165500Z
DTSTART;TZID=America/Chicago:20250915T174000
DURATION:PT0H40M0S
SUMMARY:Heaney/Rockamann vs. Wofford/Putnam
DESCRIPTION:Ddtc - Monday High Int. Lg. - Fall25 - Paddle Up Pickleball Club
LOCATION:DDTC Court 13S
CATEGORIES:QuickScores, Pickleball Game
TRANSP:OPAQUE
BEGIN:VALARM
TRIGGER:-PT2H
ACTION:DISPLAY
DESCRIPTION:Heaney/Rockamann vs. Wofford/Putnam
END:VALARM
END:VEVENT
BEGIN:VEVENT
UID:pupc-70794232-20250915T182000@quickscores.com
DTSTAMP:20260424T165500Z
DTSTART;TZID=America/Chicago:20250915T182000
DURATION:PT0H40M0S
SUMMARY:Wofford/Putnam vs. Tin/McQueen
DESCRIPTION:Ddtc - Monday High Int. Lg. - Fall25 - Paddle Up Pickleball Club
LOCATION:DDTC Court 21
CATEGORIES:QuickScores, Pickleball Game
TRANSP:OPAQUE
BEGIN:VALARM
TRIGGER:-PT2H
ACTION:DISPLAY
DESCRIPTION:Wofford/Putnam vs. Tin/McQueen
END:VALARM
END:VEVENT
BEGIN:VEVENT
UID:pupc-70794251-20250922T174000@quickscores.com
DTSTAMP:20260424T165500Z
DTSTART;TZID=America/Chicago:20250922T174000
DURATION:PT0H40M0S
SUMMARY:Karstens/Moody vs. Wofford/Putnam
DESCRIPTION:Ddtc - Monday High Int. Lg. - Fall25 - Paddle Up Pickleball Club
LOCATION:DDTC Court 13S
CATEGORIES:QuickScores, Pickleball Game
TRANSP:OPAQUE
BEGIN:VALARM
TRIGGER:-PT2H
ACTION:DISPLAY
DESCRIPTION:Karstens/Moody vs. Wofford/Putnam
END:VALARM
END:VEVENT
BEGIN:VEVENT
UID:pupc-70794252-20250922T182000@quickscores.com
DTSTAMP:20260424T165500Z
DTSTART;TZID=America/Chicago:20250922T182000
DURATION:PT0H40M0S
SUMMARY:Parr/George vs. Wofford/Putnam
DESCRIPTION:Ddtc - Monday High Int. Lg. - Fall25 - Paddle Up Pickleball Club
LOCATION:DDTC Court 12S
CATEGORIES:QuickScores, Pickleball Game
TRANSP:OPAQUE
BEGIN:VALARM
TRIGGER:-PT2H
ACTION:DISPLAY
DESCRIPTION:Parr/George vs. Wofford/Putnam
END:VALARM
END:VEVENT
BEGIN:VEVENT
UID:pupc-70794282-20250929T174000@quickscores.com
DTSTAMP:20260424T165500Z
DTSTART;TZID=America/Chicago:20250929T174000
DURATION:PT0H40M0S
SUMMARY:Gorman/Gorman vs. Wofford/Putnam
DESCRIPTION:Ddtc - Monday High Int. Lg. - Fall25 - Paddle Up Pickleball Club
LOCATION:DDTC Court 21
CATEGORIES:QuickScores, Pickleball Game
TRANSP:OPAQUE
BEGIN:VALARM
TRIGGER:-PT2H
ACTION:DISPLAY
DESCRIPTION:Gorman/Gorman vs. Wofford/Putnam
END:VALARM
END:VEVENT
BEGIN:VEVENT
UID:pupc-70794267-20250929T182000@quickscores.com
DTSTAMP:20260424T165500Z
DTSTART;TZID=America/Chicago:20250929T182000
DURATION:PT0H40M0S
SUMMARY:Vandercar/Hughes vs. Wofford/Putnam
DESCRIPTION:Ddtc - Monday High Int. Lg. - Fall25 - Paddle Up Pickleball Club
LOCATION:DDTC Court 12S
CATEGORIES:QuickScores, Pickleball Game
TRANSP:OPAQUE
BEGIN:VALARM
TRIGGER:-PT2H
ACTION:DISPLAY
DESCRIPTION:Vandercar/Hughes vs. Wofford/Putnam
END:VALARM
END:VEVENT
BEGIN:VEVENT
UID:pupc-70794288-20251006T202000@quickscores.com
DTSTAMP:20260424T165500Z
DTSTART;TZID=America/Chicago:20251006T202000
DURATION:PT0H40M0S
SUMMARY:Wofford/Putnam vs. Beachem/Hutchens
DESCRIPTION:Ddtc - Monday High Int. Lg. - Fall25 - Paddle Up Pickleball Club
LOCATION:DDTC Court 21
CATEGORIES:QuickScores, Pickleball Game
TRANSP:OPAQUE
BEGIN:VALARM
TRIGGER:-PT2H
ACTION:DISPLAY
DESCRIPTION:Wofford/Putnam vs. Beachem/Hutchens
END:VALARM
END:VEVENT
BEGIN:VEVENT
UID:pupc-70794287-20251006T210000@quickscores.com
DTSTAMP:20260424T165500Z
DTSTART;TZID=America/Chicago:20251006T210000
DURATION:PT0H40M0S
SUMMARY:Huether/Crissup vs. Wofford/Putnam
DESCRIPTION:Ddtc - Monday High Int. Lg. - Fall25 - Paddle Up Pickleball Club
LOCATION:DDTC Court 11S
CATEGORIES:QuickScores, Pickleball Game
TRANSP:OPAQUE
BEGIN:VALARM
TRIGGER:-PT2H
ACTION:DISPLAY
DESCRIPTION:Huether/Crissup vs. Wofford/Putnam
END:VALARM
END:VEVENT
BEGIN:VEVENT
UID:pupc-71248907-20251013T174000@quickscores.com
DTSTAMP:20260424T165500Z
DTSTART;TZID=America/Chicago:20251013T174000
DURATION:PT0H30M0S
SUMMARY:[5] Tin/McQueen vs. [12] Wofford/Putnam
DESCRIPTION:Ddtc - Monday High Int. Lg. - Fall25 - Paddle Up Pickleball Club
LOCATION:DDTC Court 13S
CATEGORIES:QuickScores, Pickleball Game
TRANSP:OPAQUE
BEGIN:VALARM
TRIGGER:-PT2H
ACTION:DISPLAY
DESCRIPTION:[5] Tin/McQueen vs. [12] Wofford/Putnam
END:VALARM
END:VEVENT
END:VCALENDAR
