BEGIN:VCALENDAR
VERSION:2.0
PRODID:-//QuickScores.com//BQ Dynamic iCal Creator//EN
METHOD:PUBLISH
X-WR-CALNAME:Karstens/Moody - Ddtc - Monday High Int. Lg. - Fall25 - Completed Leagues 2025
X-WR-CALDESC:QuickScores game calendar
X-PUBLISHED-TTL:PT24H
REFRESH-INTERVAL;VALUE=DURATION:PT24H
CALSCALE:GREGORIAN
BEGIN:VTIMEZONE
TZID:America/Chicago
X-LIC-LOCATION:America/Chicago
BEGIN:DAYLIGHT
TZNAME:CDT
TZOFFSETFROM:-0600
TZOFFSETTO:-0500
DTSTART:19700308T020000
RRULE:FREQ=YEARLY;BYMONTH=3;BYDAY=2SU
END:DAYLIGHT
BEGIN:STANDARD
TZNAME:CST
TZOFFSETFROM:-0500
TZOFFSETTO:-0600
DTSTART:19701101T020000
RRULE:FREQ=YEARLY;BYMONTH=11;BYDAY=1SU
END:STANDARD
END:VTIMEZONE
BEGIN:VEVENT
UID:pupc-70794228-20250908T174000@quickscores.com
DTSTAMP:20260424T022800Z
DTSTART;TZID=America/Chicago:20250908T174000
DURATION:PT0H40M0S
SUMMARY:Karstens/Moody vs. Gorman/Gorman
DESCRIPTION:Ddtc - Monday High Int. Lg. - Fall25 - Paddle Up Pickleball Club
LOCATION:DDTC Court 21
CATEGORIES:QuickScores, Pickleball Game
TRANSP:OPAQUE
BEGIN:VALARM
TRIGGER:-PT2H
ACTION:DISPLAY
DESCRIPTION:Karstens/Moody vs. Gorman/Gorman
END:VALARM
END:VEVENT
BEGIN:VEVENT
UID:pupc-70794227-20250908T190000@quickscores.com
DTSTAMP:20260424T022800Z
DTSTART;TZID=America/Chicago:20250908T190000
DURATION:PT0H40M0S
SUMMARY:Beachem/Hutchens vs. Karstens/Moody
DESCRIPTION:Ddtc - Monday High Int. Lg. - Fall25 - Paddle Up Pickleball Club
LOCATION:DDTC Court 21
CATEGORIES:QuickScores, Pickleball Game
TRANSP:OPAQUE
BEGIN:VALARM
TRIGGER:-PT2H
ACTION:DISPLAY
DESCRIPTION:Beachem/Hutchens vs. Karstens/Moody
END:VALARM
END:VEVENT
BEGIN:VEVENT
UID:pupc-70794241-20250915T202000@quickscores.com
DTSTAMP:20260424T022800Z
DTSTART;TZID=America/Chicago:20250915T202000
DURATION:PT0H40M0S
SUMMARY:Wu/Dalla vs. Karstens/Moody
DESCRIPTION:Ddtc - Monday High Int. Lg. - Fall25 - Paddle Up Pickleball Club
LOCATION:DDTC Court 21
CATEGORIES:QuickScores, Pickleball Game
TRANSP:OPAQUE
BEGIN:VALARM
TRIGGER:-PT2H
ACTION:DISPLAY
DESCRIPTION:Wu/Dalla vs. Karstens/Moody
END:VALARM
END:VEVENT
BEGIN:VEVENT
UID:pupc-70794240-20250915T210000@quickscores.com
DTSTAMP:20260424T022800Z
DTSTART;TZID=America/Chicago:20250915T210000
DURATION:PT0H40M0S
SUMMARY:Rosehill/Lang vs. Karstens/Moody
DESCRIPTION:Ddtc - Monday High Int. Lg. - Fall25 - Paddle Up Pickleball Club
LOCATION:DDTC Court 11S
CATEGORIES:QuickScores, Pickleball Game
TRANSP:OPAQUE
BEGIN:VALARM
TRIGGER:-PT2H
ACTION:DISPLAY
DESCRIPTION:Rosehill/Lang vs. Karstens/Moody
END:VALARM
END:VEVENT
BEGIN:VEVENT
UID:pupc-70794251-20250922T174000@quickscores.com
DTSTAMP:20260424T022800Z
DTSTART;TZID=America/Chicago:20250922T174000
DURATION:PT0H40M0S
SUMMARY:Karstens/Moody vs. Wofford/Putnam
DESCRIPTION:Ddtc - Monday High Int. Lg. - Fall25 - Paddle Up Pickleball Club
LOCATION:DDTC Court 13S
CATEGORIES:QuickScores, Pickleball Game
TRANSP:OPAQUE
BEGIN:VALARM
TRIGGER:-PT2H
ACTION:DISPLAY
DESCRIPTION:Karstens/Moody vs. Wofford/Putnam
END:VALARM
END:VEVENT
BEGIN:VEVENT
UID:pupc-70794250-20250922T182000@quickscores.com
DTSTAMP:20260424T022800Z
DTSTART;TZID=America/Chicago:20250922T182000
DURATION:PT0H40M0S
SUMMARY:Karstens/Moody vs. Kirkpatrick/Kirkpatrick
DESCRIPTION:Ddtc - Monday High Int. Lg. - Fall25 - Paddle Up Pickleball Club
LOCATION:DDTC Court 21
CATEGORIES:QuickScores, Pickleball Game
TRANSP:OPAQUE
BEGIN:VALARM
TRIGGER:-PT2H
ACTION:DISPLAY
DESCRIPTION:Karstens/Moody vs. Kirkpatrick/Kirkpatrick
END:VALARM
END:VEVENT
BEGIN:VEVENT
UID:pupc-70794279-20250929T190000@quickscores.com
DTSTAMP:20260424T022800Z
DTSTART;TZID=America/Chicago:20250929T190000
DURATION:PT0H40M0S
SUMMARY:Karstens/Moody vs. Rule/Tredway
DESCRIPTION:Ddtc - Monday High Int. Lg. - Fall25 - Paddle Up Pickleball Club
LOCATION:DDTC Court 12S
CATEGORIES:QuickScores, Pickleball Game
TRANSP:OPAQUE
BEGIN:VALARM
TRIGGER:-PT2H
ACTION:DISPLAY
DESCRIPTION:Karstens/Moody vs. Rule/Tredway
END:VALARM
END:VEVENT
BEGIN:VEVENT
UID:pupc-70794280-20250929T194000@quickscores.com
DTSTAMP:20260424T022800Z
DTSTART;TZID=America/Chicago:20250929T194000
DURATION:PT0H40M0S
SUMMARY:Spangler/Murdock vs. Karstens/Moody
DESCRIPTION:Ddtc - Monday High Int. Lg. - Fall25 - Paddle Up Pickleball Club
LOCATION:DDTC Court 21
CATEGORIES:QuickScores, Pickleball Game
TRANSP:OPAQUE
BEGIN:VALARM
TRIGGER:-PT2H
ACTION:DISPLAY
DESCRIPTION:Spangler/Murdock vs. Karstens/Moody
END:VALARM
END:VEVENT
BEGIN:VEVENT
UID:pupc-70794293-20251006T190000@quickscores.com
DTSTAMP:20260424T022800Z
DTSTART;TZID=America/Chicago:20251006T190000
DURATION:PT0H40M0S
SUMMARY:Karstens/Moody vs. Panzitta/Hatzigeorgiou
DESCRIPTION:Ddtc - Monday High Int. Lg. - Fall25 - Paddle Up Pickleball Club
LOCATION:DDTC Court 12S
CATEGORIES:QuickScores, Pickleball Game
TRANSP:OPAQUE
BEGIN:VALARM
TRIGGER:-PT2H
ACTION:DISPLAY
DESCRIPTION:Karstens/Moody vs. Panzitta/Hatzigeorgiou
END:VALARM
END:VEVENT
BEGIN:VEVENT
UID:pupc-70794292-20251006T194000@quickscores.com
DTSTAMP:20260424T022800Z
DTSTART;TZID=America/Chicago:20251006T194000
DURATION:PT0H40M0S
SUMMARY:Ruzicka/Hays vs. Karstens/Moody
DESCRIPTION:Ddtc - Monday High Int. Lg. - Fall25 - Paddle Up Pickleball Club
LOCATION:DDTC Court 12S
CATEGORIES:QuickScores, Pickleball Game
TRANSP:OPAQUE
BEGIN:VALARM
TRIGGER:-PT2H
ACTION:DISPLAY
DESCRIPTION:Ruzicka/Hays vs. Karstens/Moody
END:VALARM
END:VEVENT
BEGIN:VEVENT
UID:pupc-71248909-20251013T174000@quickscores.com
DTSTAMP:20260424T022800Z
DTSTART;TZID=America/Chicago:20251013T174000
DURATION:PT0H30M0S
SUMMARY:[7] Huether/Crissup vs. [10] Karstens/Moody
DESCRIPTION:Ddtc - Monday High Int. Lg. - Fall25 - Paddle Up Pickleball Club
LOCATION:DDTC Court 14N
CATEGORIES:QuickScores, Pickleball Game
TRANSP:OPAQUE
BEGIN:VALARM
TRIGGER:-PT2H
ACTION:DISPLAY
DESCRIPTION:[7] Huether/Crissup vs. [10] Karstens/Moody
END:VALARM
END:VEVENT
END:VCALENDAR
