BEGIN:VCALENDAR
VERSION:2.0
PRODID:-//QuickScores.com//BQ Dynamic iCal Creator//EN
METHOD:PUBLISH
X-WR-CALNAME:Rekha/Lori/Gwen/Anne - Lsl Fall Ladies 40+ Advanced Squads - 9/4 Start 11am - Completed Leagues 2025
X-WR-CALDESC:QuickScores game calendar
X-PUBLISHED-TTL:PT24H
REFRESH-INTERVAL;VALUE=DURATION:PT24H
CALSCALE:GREGORIAN
BEGIN:VTIMEZONE
TZID:America/Chicago
X-LIC-LOCATION:America/Chicago
BEGIN:DAYLIGHT
TZNAME:CDT
TZOFFSETFROM:-0600
TZOFFSETTO:-0500
DTSTART:19700308T020000
RRULE:FREQ=YEARLY;BYMONTH=3;BYDAY=2SU
END:DAYLIGHT
BEGIN:STANDARD
TZNAME:CST
TZOFFSETFROM:-0500
TZOFFSETTO:-0600
DTSTART:19701101T020000
RRULE:FREQ=YEARLY;BYMONTH=11;BYDAY=1SU
END:STANDARD
END:VTIMEZONE
BEGIN:VEVENT
UID:pupc-70744856-20250904T110500@quickscores.com
DTSTAMP:20260421T113300Z
DTSTART;TZID=America/Chicago:20250904T110500
DURATION:PT0H40M0S
SUMMARY:Lisa/Rachel/Whitney/Mary vs. Rekha/Lori/Gwen/Anne
DESCRIPTION:Lsl Fall Ladies 40+ Advanced Squads - 9/4 Start 11am - Paddle Up Pickleball Club
LOCATION:Court 4
CATEGORIES:QuickScores, Pickleball Game
TRANSP:OPAQUE
BEGIN:VALARM
TRIGGER:-PT2H
ACTION:DISPLAY
DESCRIPTION:Lisa/Rachel/Whitney/Mary vs. Rekha/Lori/Gwen/Anne
END:VALARM
END:VEVENT
BEGIN:VEVENT
UID:pupc-70744857-20250904T120000@quickscores.com
DTSTAMP:20260421T113300Z
DTSTART;TZID=America/Chicago:20250904T120000
DURATION:PT0H40M0S
SUMMARY:Jo/Laura/Debbie/Maggie vs. Rekha/Lori/Gwen/Anne
DESCRIPTION:Lsl Fall Ladies 40+ Advanced Squads - 9/4 Start 11am - Paddle Up Pickleball Club
LOCATION:Court 4
CATEGORIES:QuickScores, Pickleball Game
TRANSP:OPAQUE
BEGIN:VALARM
TRIGGER:-PT2H
ACTION:DISPLAY
DESCRIPTION:Jo/Laura/Debbie/Maggie vs. Rekha/Lori/Gwen/Anne
END:VALARM
END:VEVENT
BEGIN:VEVENT
UID:pupc-70744861-20250911T110500@quickscores.com
DTSTAMP:20260421T113300Z
DTSTART;TZID=America/Chicago:20250911T110500
DURATION:PT0H40M0S
SUMMARY:Lisa/Rachel/Whitney/Mary vs. Rekha/Lori/Gwen/Anne
DESCRIPTION:Lsl Fall Ladies 40+ Advanced Squads - 9/4 Start 11am - Paddle Up Pickleball Club
LOCATION:Court 4
CATEGORIES:QuickScores, Pickleball Game
TRANSP:OPAQUE
BEGIN:VALARM
TRIGGER:-PT2H
ACTION:DISPLAY
DESCRIPTION:Lisa/Rachel/Whitney/Mary vs. Rekha/Lori/Gwen/Anne
END:VALARM
END:VEVENT
BEGIN:VEVENT
UID:pupc-70744863-20250911T120000@quickscores.com
DTSTAMP:20260421T113300Z
DTSTART;TZID=America/Chicago:20250911T120000
DURATION:PT0H40M0S
SUMMARY:Jo/Laura/Debbie/Maggie vs. Rekha/Lori/Gwen/Anne
DESCRIPTION:Lsl Fall Ladies 40+ Advanced Squads - 9/4 Start 11am - Paddle Up Pickleball Club
LOCATION:Court 4
CATEGORIES:QuickScores, Pickleball Game
TRANSP:OPAQUE
BEGIN:VALARM
TRIGGER:-PT2H
ACTION:DISPLAY
DESCRIPTION:Jo/Laura/Debbie/Maggie vs. Rekha/Lori/Gwen/Anne
END:VALARM
END:VEVENT
BEGIN:VEVENT
UID:pupc-70744864-20250918T110500@quickscores.com
DTSTAMP:20260421T113300Z
DTSTART;TZID=America/Chicago:20250918T110500
DURATION:PT0H40M0S
SUMMARY:Lisa/Rachel/Whitney/Mary vs. Rekha/Lori/Gwen/Anne
DESCRIPTION:Lsl Fall Ladies 40+ Advanced Squads - 9/4 Start 11am - Paddle Up Pickleball Club
LOCATION:Court 4
CATEGORIES:QuickScores, Pickleball Game
TRANSP:OPAQUE
BEGIN:VALARM
TRIGGER:-PT2H
ACTION:DISPLAY
DESCRIPTION:Lisa/Rachel/Whitney/Mary vs. Rekha/Lori/Gwen/Anne
END:VALARM
END:VEVENT
BEGIN:VEVENT
UID:pupc-70744867-20250918T120000@quickscores.com
DTSTAMP:20260421T113300Z
DTSTART;TZID=America/Chicago:20250918T120000
DURATION:PT0H40M0S
SUMMARY:Callie/Janet/Brenda/Stacey vs. Rekha/Lori/Gwen/Anne
DESCRIPTION:Lsl Fall Ladies 40+ Advanced Squads - 9/4 Start 11am - Paddle Up Pickleball Club
LOCATION:Court 1
CATEGORIES:QuickScores, Pickleball Game
TRANSP:OPAQUE
BEGIN:VALARM
TRIGGER:-PT2H
ACTION:DISPLAY
DESCRIPTION:Callie/Janet/Brenda/Stacey vs. Rekha/Lori/Gwen/Anne
END:VALARM
END:VEVENT
BEGIN:VEVENT
UID:pupc-70744868-20250925T110500@quickscores.com
DTSTAMP:20260421T113300Z
DTSTART;TZID=America/Chicago:20250925T110500
DURATION:PT0H40M0S
SUMMARY:Rekha/Lori/Gwen/Anne vs. Callie/Janet/Brenda/Stacey
DESCRIPTION:Lsl Fall Ladies 40+ Advanced Squads - 9/4 Start 11am - Paddle Up Pickleball Club
LOCATION:Court 1
CATEGORIES:QuickScores, Pickleball Game
TRANSP:OPAQUE
BEGIN:VALARM
TRIGGER:-PT2H
ACTION:DISPLAY
DESCRIPTION:Rekha/Lori/Gwen/Anne vs. Callie/Janet/Brenda/Stacey
END:VALARM
END:VEVENT
BEGIN:VEVENT
UID:pupc-70744869-20250925T120000@quickscores.com
DTSTAMP:20260421T113300Z
DTSTART;TZID=America/Chicago:20250925T120000
DURATION:PT0H40M0S
SUMMARY:Jo/Laura/Debbie/Maggie vs. Rekha/Lori/Gwen/Anne
DESCRIPTION:Lsl Fall Ladies 40+ Advanced Squads - 9/4 Start 11am - Paddle Up Pickleball Club
LOCATION:Court 1
CATEGORIES:QuickScores, Pickleball Game
TRANSP:OPAQUE
BEGIN:VALARM
TRIGGER:-PT2H
ACTION:DISPLAY
DESCRIPTION:Jo/Laura/Debbie/Maggie vs. Rekha/Lori/Gwen/Anne
END:VALARM
END:VEVENT
BEGIN:VEVENT
UID:pupc-71128444-20251002T110500@quickscores.com
DTSTAMP:20260421T113300Z
DTSTART;TZID=America/Chicago:20251002T110500
DURATION:PT0H30M0S
SUMMARY:[1] Rekha/Lori/Gwen/Anne vs. [4] Jo/Laura/Debbie/Maggie
DESCRIPTION:Lsl Fall Ladies 40+ Advanced Squads - 9/4 Start 11am - Paddle Up Pickleball Club
LOCATION:Court 1
CATEGORIES:QuickScores, Pickleball Game
TRANSP:OPAQUE
BEGIN:VALARM
TRIGGER:-PT2H
ACTION:DISPLAY
DESCRIPTION:[1] Rekha/Lori/Gwen/Anne vs. [4] Jo/Laura/Debbie/Maggie
END:VALARM
END:VEVENT
BEGIN:VEVENT
UID:pupc-71128446-20251009T110500@quickscores.com
DTSTAMP:20260421T113300Z
DTSTART;TZID=America/Chicago:20251009T110500
DURATION:PT0H30M0S
SUMMARY:[1] Rekha/Lori/Gwen/Anne vs. [2] Callie/Janet/Brenda/Stacey
DESCRIPTION:Lsl Fall Ladies 40+ Advanced Squads - 9/4 Start 11am - Paddle Up Pickleball Club
LOCATION:Court 4
CATEGORIES:QuickScores, Pickleball Game
TRANSP:OPAQUE
BEGIN:VALARM
TRIGGER:-PT2H
ACTION:DISPLAY
DESCRIPTION:[1] Rekha/Lori/Gwen/Anne vs. [2] Callie/Janet/Brenda/Stacey
END:VALARM
END:VEVENT
END:VCALENDAR
