BEGIN:VCALENDAR
VERSION:2.0
PRODID:-//QuickScores.com//BQ Dynamic iCal Creator//EN
METHOD:PUBLISH
X-WR-CALNAME:TomToeniskoetter/DenBaechle - Fmg Wednesday  Intermediate Lg. -  Fall 2025 - Completed Leagues 2025
X-WR-CALDESC:QuickScores game calendar
X-PUBLISHED-TTL:PT24H
REFRESH-INTERVAL;VALUE=DURATION:PT24H
CALSCALE:GREGORIAN
BEGIN:VTIMEZONE
TZID:America/Chicago
X-LIC-LOCATION:America/Chicago
BEGIN:DAYLIGHT
TZNAME:CDT
TZOFFSETFROM:-0600
TZOFFSETTO:-0500
DTSTART:19700308T020000
RRULE:FREQ=YEARLY;BYMONTH=3;BYDAY=2SU
END:DAYLIGHT
BEGIN:STANDARD
TZNAME:CST
TZOFFSETFROM:-0500
TZOFFSETTO:-0600
DTSTART:19701101T020000
RRULE:FREQ=YEARLY;BYMONTH=11;BYDAY=1SU
END:STANDARD
END:VTIMEZONE
BEGIN:VEVENT
UID:pupc-70729074-20250910T200000@quickscores.com
DTSTAMP:20260423T015100Z
DTSTART;TZID=America/Chicago:20250910T200000
DURATION:PT0H40M0S
SUMMARY:Albrecht/Kaminski vs. TomToeniskoetter/DenBaechle
DESCRIPTION:Fmg Wednesday  Intermediate Lg. -  Fall 2025 - Paddle Up Pickleball Club
LOCATION:FMG Court 2
CATEGORIES:QuickScores, Pickleball Game
TRANSP:OPAQUE
BEGIN:VALARM
TRIGGER:-PT2H
ACTION:DISPLAY
DESCRIPTION:Albrecht/Kaminski vs. TomToeniskoetter/DenBaechle
END:VALARM
END:VEVENT
BEGIN:VEVENT
UID:pupc-70729075-20250910T204000@quickscores.com
DTSTAMP:20260423T015100Z
DTSTART;TZID=America/Chicago:20250910T204000
DURATION:PT0H40M0S
SUMMARY:Pisoni/Wetzel vs. TomToeniskoetter/DenBaechle
DESCRIPTION:Fmg Wednesday  Intermediate Lg. -  Fall 2025 - Paddle Up Pickleball Club
LOCATION:FMG Court 2
CATEGORIES:QuickScores, Pickleball Game
TRANSP:OPAQUE
BEGIN:VALARM
TRIGGER:-PT2H
ACTION:DISPLAY
DESCRIPTION:Pisoni/Wetzel vs. TomToeniskoetter/DenBaechle
END:VALARM
END:VEVENT
BEGIN:VEVENT
UID:pupc-70729085-20250917T180000@quickscores.com
DTSTAMP:20260423T015100Z
DTSTART;TZID=America/Chicago:20250917T180000
DURATION:PT0H40M0S
SUMMARY:TomToeniskoetter/DenBaechle vs. Stearns/Vinograd
DESCRIPTION:Fmg Wednesday  Intermediate Lg. -  Fall 2025 - Paddle Up Pickleball Club
LOCATION:FMG Court 1
CATEGORIES:QuickScores, Pickleball Game
TRANSP:OPAQUE
BEGIN:VALARM
TRIGGER:-PT2H
ACTION:DISPLAY
DESCRIPTION:TomToeniskoetter/DenBaechle vs. Stearns/Vinograd
END:VALARM
END:VEVENT
BEGIN:VEVENT
UID:pupc-70729087-20250917T192000@quickscores.com
DTSTAMP:20260423T015100Z
DTSTART;TZID=America/Chicago:20250917T192000
DURATION:PT0H40M0S
SUMMARY:Kosztowny/Kosztowny vs. TomToeniskoetter/DenBaechle
DESCRIPTION:Fmg Wednesday  Intermediate Lg. -  Fall 2025 - Paddle Up Pickleball Club
LOCATION:FMG Court 1
CATEGORIES:QuickScores, Pickleball Game
TRANSP:OPAQUE
BEGIN:VALARM
TRIGGER:-PT2H
ACTION:DISPLAY
DESCRIPTION:Kosztowny/Kosztowny vs. TomToeniskoetter/DenBaechle
END:VALARM
END:VEVENT
BEGIN:VEVENT
UID:pupc-70729096-20250924T180000@quickscores.com
DTSTAMP:20260423T015100Z
DTSTART;TZID=America/Chicago:20250924T180000
DURATION:PT0H40M0S
SUMMARY:TomToeniskoetter/DenBaechle vs. Pisoni/Wetzel
DESCRIPTION:Fmg Wednesday  Intermediate Lg. -  Fall 2025 - Paddle Up Pickleball Club
LOCATION:FMG Court 1
CATEGORIES:QuickScores, Pickleball Game
TRANSP:OPAQUE
BEGIN:VALARM
TRIGGER:-PT2H
ACTION:DISPLAY
DESCRIPTION:TomToeniskoetter/DenBaechle vs. Pisoni/Wetzel
END:VALARM
END:VEVENT
BEGIN:VEVENT
UID:pupc-70729106-20250924T192000@quickscores.com
DTSTAMP:20260423T015100Z
DTSTART;TZID=America/Chicago:20250924T192000
DURATION:PT0H40M0S
SUMMARY:Olsen/Griskauskas vs. TomToeniskoetter/DenBaechle
DESCRIPTION:Fmg Wednesday  Intermediate Lg. -  Fall 2025 - Paddle Up Pickleball Club
LOCATION:FMG Court 3
CATEGORIES:QuickScores, Pickleball Game
TRANSP:OPAQUE
BEGIN:VALARM
TRIGGER:-PT2H
ACTION:DISPLAY
DESCRIPTION:Olsen/Griskauskas vs. TomToeniskoetter/DenBaechle
END:VALARM
END:VEVENT
BEGIN:VEVENT
UID:pupc-70729116-20251001T200000@quickscores.com
DTSTAMP:20260423T015100Z
DTSTART;TZID=America/Chicago:20251001T200000
DURATION:PT0H40M0S
SUMMARY:TomToeniskoetter/DenBaechle vs. Kelliher/Prastina
DESCRIPTION:Fmg Wednesday  Intermediate Lg. -  Fall 2025 - Paddle Up Pickleball Club
LOCATION:FMG Court 2
CATEGORIES:QuickScores, Pickleball Game
TRANSP:OPAQUE
BEGIN:VALARM
TRIGGER:-PT2H
ACTION:DISPLAY
DESCRIPTION:TomToeniskoetter/DenBaechle vs. Kelliher/Prastina
END:VALARM
END:VEVENT
BEGIN:VEVENT
UID:pupc-70729115-20251001T204000@quickscores.com
DTSTAMP:20260423T015100Z
DTSTART;TZID=America/Chicago:20251001T204000
DURATION:PT0H40M0S
SUMMARY:TomToeniskoetter/DenBaechle vs. Weber/Spurgetis
DESCRIPTION:Fmg Wednesday  Intermediate Lg. -  Fall 2025 - Paddle Up Pickleball Club
LOCATION:FMG Court 1
CATEGORIES:QuickScores, Pickleball Game
TRANSP:OPAQUE
BEGIN:VALARM
TRIGGER:-PT2H
ACTION:DISPLAY
DESCRIPTION:TomToeniskoetter/DenBaechle vs. Weber/Spurgetis
END:VALARM
END:VEVENT
BEGIN:VEVENT
UID:pupc-70729120-20251008T192000@quickscores.com
DTSTAMP:20260423T015100Z
DTSTART;TZID=America/Chicago:20251008T192000
DURATION:PT0H40M0S
SUMMARY:TomToeniskoetter/DenBaechle vs. Langston/Luber
DESCRIPTION:Fmg Wednesday  Intermediate Lg. -  Fall 2025 - Paddle Up Pickleball Club
LOCATION:FMG Court 1
CATEGORIES:QuickScores, Pickleball Game
TRANSP:OPAQUE
BEGIN:VALARM
TRIGGER:-PT2H
ACTION:DISPLAY
DESCRIPTION:TomToeniskoetter/DenBaechle vs. Langston/Luber
END:VALARM
END:VEVENT
BEGIN:VEVENT
UID:pupc-70729121-20251008T200000@quickscores.com
DTSTAMP:20260423T015100Z
DTSTART;TZID=America/Chicago:20251008T200000
DURATION:PT0H40M0S
SUMMARY:TomToeniskoetter/DenBaechle vs. Albrecht/Kaminski
DESCRIPTION:Fmg Wednesday  Intermediate Lg. -  Fall 2025 - Paddle Up Pickleball Club
LOCATION:FMG Court 1
CATEGORIES:QuickScores, Pickleball Game
TRANSP:OPAQUE
BEGIN:VALARM
TRIGGER:-PT2H
ACTION:DISPLAY
DESCRIPTION:TomToeniskoetter/DenBaechle vs. Albrecht/Kaminski
END:VALARM
END:VEVENT
BEGIN:VEVENT
UID:pupc-71292756-20251015T180000@quickscores.com
DTSTAMP:20260423T015100Z
DTSTART;TZID=America/Chicago:20251015T180000
DURATION:PT0H30M0S
SUMMARY:[7] Olsen/Griskauskas vs. [10] TomToeniskoetter/DenBaechle
DESCRIPTION:Fmg Wednesday  Intermediate Lg. -  Fall 2025 - Paddle Up Pickleball Club
LOCATION:FMG Court 2
CATEGORIES:QuickScores, Pickleball Game
TRANSP:OPAQUE
BEGIN:VALARM
TRIGGER:-PT2H
ACTION:DISPLAY
DESCRIPTION:[7] Olsen/Griskauskas vs. [10] TomToeniskoetter/DenBaechle
END:VALARM
END:VEVENT
END:VCALENDAR
