BEGIN:VCALENDAR
VERSION:2.0
PRODID:-//QuickScores.com//BQ Dynamic iCal Creator//EN
METHOD:PUBLISH
X-WR-CALNAME:Stearns/Vinograd - Fmg Wednesday  Intermediate Lg. -  Fall 2025 - Completed Leagues 2025
X-WR-CALDESC:QuickScores game calendar
X-PUBLISHED-TTL:PT24H
REFRESH-INTERVAL;VALUE=DURATION:PT24H
CALSCALE:GREGORIAN
BEGIN:VTIMEZONE
TZID:America/Chicago
X-LIC-LOCATION:America/Chicago
BEGIN:DAYLIGHT
TZNAME:CDT
TZOFFSETFROM:-0600
TZOFFSETTO:-0500
DTSTART:19700308T020000
RRULE:FREQ=YEARLY;BYMONTH=3;BYDAY=2SU
END:DAYLIGHT
BEGIN:STANDARD
TZNAME:CST
TZOFFSETFROM:-0500
TZOFFSETTO:-0600
DTSTART:19701101T020000
RRULE:FREQ=YEARLY;BYMONTH=11;BYDAY=1SU
END:STANDARD
END:VTIMEZONE
BEGIN:VEVENT
UID:pupc-70729077-20250910T184000@quickscores.com
DTSTAMP:20260422T142000Z
DTSTART;TZID=America/Chicago:20250910T184000
DURATION:PT0H40M0S
SUMMARY:Baker/Olsen vs. Stearns/Vinograd
DESCRIPTION:Fmg Wednesday  Intermediate Lg. -  Fall 2025 - Paddle Up Pickleball Club
LOCATION:FMG Court 2
CATEGORIES:QuickScores, Pickleball Game
TRANSP:OPAQUE
BEGIN:VALARM
TRIGGER:-PT2H
ACTION:DISPLAY
DESCRIPTION:Baker/Olsen vs. Stearns/Vinograd
END:VALARM
END:VEVENT
BEGIN:VEVENT
UID:pupc-70729083-20250910T192000@quickscores.com
DTSTAMP:20260422T142000Z
DTSTART;TZID=America/Chicago:20250910T192000
DURATION:PT0H40M0S
SUMMARY:Stearns/Vinograd vs. Peer/Kogan
DESCRIPTION:Fmg Wednesday  Intermediate Lg. -  Fall 2025 - Paddle Up Pickleball Club
LOCATION:FMG Court 2
CATEGORIES:QuickScores, Pickleball Game
TRANSP:OPAQUE
BEGIN:VALARM
TRIGGER:-PT2H
ACTION:DISPLAY
DESCRIPTION:Stearns/Vinograd vs. Peer/Kogan
END:VALARM
END:VEVENT
BEGIN:VEVENT
UID:pupc-70729085-20250917T180000@quickscores.com
DTSTAMP:20260422T142000Z
DTSTART;TZID=America/Chicago:20250917T180000
DURATION:PT0H40M0S
SUMMARY:TomToeniskoetter/DenBaechle vs. Stearns/Vinograd
DESCRIPTION:Fmg Wednesday  Intermediate Lg. -  Fall 2025 - Paddle Up Pickleball Club
LOCATION:FMG Court 1
CATEGORIES:QuickScores, Pickleball Game
TRANSP:OPAQUE
BEGIN:VALARM
TRIGGER:-PT2H
ACTION:DISPLAY
DESCRIPTION:TomToeniskoetter/DenBaechle vs. Stearns/Vinograd
END:VALARM
END:VEVENT
BEGIN:VEVENT
UID:pupc-70729086-20250917T184000@quickscores.com
DTSTAMP:20260422T142000Z
DTSTART;TZID=America/Chicago:20250917T184000
DURATION:PT0H40M0S
SUMMARY:Albrecht/Kaminski vs. Stearns/Vinograd
DESCRIPTION:Fmg Wednesday  Intermediate Lg. -  Fall 2025 - Paddle Up Pickleball Club
LOCATION:FMG Court 1
CATEGORIES:QuickScores, Pickleball Game
TRANSP:OPAQUE
BEGIN:VALARM
TRIGGER:-PT2H
ACTION:DISPLAY
DESCRIPTION:Albrecht/Kaminski vs. Stearns/Vinograd
END:VALARM
END:VEVENT
BEGIN:VEVENT
UID:pupc-70729101-20250924T200000@quickscores.com
DTSTAMP:20260422T142000Z
DTSTART;TZID=America/Chicago:20250924T200000
DURATION:PT0H40M0S
SUMMARY:Stearns/Vinograd vs. Baker/Olsen
DESCRIPTION:Fmg Wednesday  Intermediate Lg. -  Fall 2025 - Paddle Up Pickleball Club
LOCATION:FMG Court 2
CATEGORIES:QuickScores, Pickleball Game
TRANSP:OPAQUE
BEGIN:VALARM
TRIGGER:-PT2H
ACTION:DISPLAY
DESCRIPTION:Stearns/Vinograd vs. Baker/Olsen
END:VALARM
END:VEVENT
BEGIN:VEVENT
UID:pupc-70729100-20250924T204000@quickscores.com
DTSTAMP:20260422T142000Z
DTSTART;TZID=America/Chicago:20250924T204000
DURATION:PT0H40M0S
SUMMARY:Langston/Luber vs. Stearns/Vinograd
DESCRIPTION:Fmg Wednesday  Intermediate Lg. -  Fall 2025 - Paddle Up Pickleball Club
LOCATION:FMG Court 1
CATEGORIES:QuickScores, Pickleball Game
TRANSP:OPAQUE
BEGIN:VALARM
TRIGGER:-PT2H
ACTION:DISPLAY
DESCRIPTION:Langston/Luber vs. Stearns/Vinograd
END:VALARM
END:VEVENT
BEGIN:VEVENT
UID:pupc-70729114-20251001T200000@quickscores.com
DTSTAMP:20260422T142000Z
DTSTART;TZID=America/Chicago:20251001T200000
DURATION:PT0H40M0S
SUMMARY:Stearns/Vinograd vs. Kosztowny/Kosztowny
DESCRIPTION:Fmg Wednesday  Intermediate Lg. -  Fall 2025 - Paddle Up Pickleball Club
LOCATION:FMG Court 1
CATEGORIES:QuickScores, Pickleball Game
TRANSP:OPAQUE
BEGIN:VALARM
TRIGGER:-PT2H
ACTION:DISPLAY
DESCRIPTION:Stearns/Vinograd vs. Kosztowny/Kosztowny
END:VALARM
END:VEVENT
BEGIN:VEVENT
UID:pupc-70729117-20251001T204000@quickscores.com
DTSTAMP:20260422T142000Z
DTSTART;TZID=America/Chicago:20251001T204000
DURATION:PT0H40M0S
SUMMARY:Stearns/Vinograd vs. Kelliher/Prastina
DESCRIPTION:Fmg Wednesday  Intermediate Lg. -  Fall 2025 - Paddle Up Pickleball Club
LOCATION:FMG Court 2
CATEGORIES:QuickScores, Pickleball Game
TRANSP:OPAQUE
BEGIN:VALARM
TRIGGER:-PT2H
ACTION:DISPLAY
DESCRIPTION:Stearns/Vinograd vs. Kelliher/Prastina
END:VALARM
END:VEVENT
BEGIN:VEVENT
UID:pupc-70729127-20251008T180000@quickscores.com
DTSTAMP:20260422T142000Z
DTSTART;TZID=America/Chicago:20251008T180000
DURATION:PT0H40M0S
SUMMARY:Pisoni/Wetzel vs. Stearns/Vinograd
DESCRIPTION:Fmg Wednesday  Intermediate Lg. -  Fall 2025 - Paddle Up Pickleball Club
LOCATION:FMG Court 2
CATEGORIES:QuickScores, Pickleball Game
TRANSP:OPAQUE
BEGIN:VALARM
TRIGGER:-PT2H
ACTION:DISPLAY
DESCRIPTION:Pisoni/Wetzel vs. Stearns/Vinograd
END:VALARM
END:VEVENT
BEGIN:VEVENT
UID:pupc-70729125-20251008T192000@quickscores.com
DTSTAMP:20260422T142000Z
DTSTART;TZID=America/Chicago:20251008T192000
DURATION:PT0H40M0S
SUMMARY:Weber/Spurgetis vs. Stearns/Vinograd
DESCRIPTION:Fmg Wednesday  Intermediate Lg. -  Fall 2025 - Paddle Up Pickleball Club
LOCATION:FMG Court 2
CATEGORIES:QuickScores, Pickleball Game
TRANSP:OPAQUE
BEGIN:VALARM
TRIGGER:-PT2H
ACTION:DISPLAY
DESCRIPTION:Weber/Spurgetis vs. Stearns/Vinograd
END:VALARM
END:VEVENT
BEGIN:VEVENT
UID:pupc-71292752-20251015T180000@quickscores.com
DTSTAMP:20260422T142000Z
DTSTART;TZID=America/Chicago:20251015T180000
DURATION:PT0H30M0S
SUMMARY:[8] Kelliher/Prastina vs. [9] Stearns/Vinograd
DESCRIPTION:Fmg Wednesday  Intermediate Lg. -  Fall 2025 - Paddle Up Pickleball Club
LOCATION:FMG Court 1
CATEGORIES:QuickScores, Pickleball Game
TRANSP:OPAQUE
BEGIN:VALARM
TRIGGER:-PT2H
ACTION:DISPLAY
DESCRIPTION:[8] Kelliher/Prastina vs. [9] Stearns/Vinograd
END:VALARM
END:VEVENT
END:VCALENDAR
