BEGIN:VCALENDAR
VERSION:2.0
PRODID:-//QuickScores.com//BQ Dynamic iCal Creator//EN
METHOD:PUBLISH
X-WR-CALNAME:Beauchamp/Chi - Fmg Thursday Low Intermediate Lg. -  Fall  2025 - Completed Leagues 2025
X-WR-CALDESC:QuickScores game calendar
X-PUBLISHED-TTL:PT24H
REFRESH-INTERVAL;VALUE=DURATION:PT24H
CALSCALE:GREGORIAN
BEGIN:VTIMEZONE
TZID:America/Chicago
X-LIC-LOCATION:America/Chicago
BEGIN:DAYLIGHT
TZNAME:CDT
TZOFFSETFROM:-0600
TZOFFSETTO:-0500
DTSTART:19700308T020000
RRULE:FREQ=YEARLY;BYMONTH=3;BYDAY=2SU
END:DAYLIGHT
BEGIN:STANDARD
TZNAME:CST
TZOFFSETFROM:-0500
TZOFFSETTO:-0600
DTSTART:19701101T020000
RRULE:FREQ=YEARLY;BYMONTH=11;BYDAY=1SU
END:STANDARD
END:VTIMEZONE
BEGIN:VEVENT
UID:pupc-70586894-20250911T184000@quickscores.com
DTSTAMP:20260422T230100Z
DTSTART;TZID=America/Chicago:20250911T184000
DURATION:PT0H40M0S
SUMMARY:Zeisler/Zeisler vs. Beauchamp/Chi
DESCRIPTION:Fmg Thursday Low Intermediate Lg. -  Fall  2025 - Paddle Up Pickleball Club
LOCATION:FMG Court 3
CATEGORIES:QuickScores, Pickleball Game
TRANSP:OPAQUE
BEGIN:VALARM
TRIGGER:-PT2H
ACTION:DISPLAY
DESCRIPTION:Zeisler/Zeisler vs. Beauchamp/Chi
END:VALARM
END:VEVENT
BEGIN:VEVENT
UID:pupc-70586895-20250911T192000@quickscores.com
DTSTAMP:20260422T230100Z
DTSTART;TZID=America/Chicago:20250911T192000
DURATION:PT0H40M0S
SUMMARY:Beauchamp/Chi vs. Gurgol/Burke
DESCRIPTION:Fmg Thursday Low Intermediate Lg. -  Fall  2025 - Paddle Up Pickleball Club
LOCATION:FMG Court 4
CATEGORIES:QuickScores, Pickleball Game
TRANSP:OPAQUE
BEGIN:VALARM
TRIGGER:-PT2H
ACTION:DISPLAY
DESCRIPTION:Beauchamp/Chi vs. Gurgol/Burke
END:VALARM
END:VEVENT
BEGIN:VEVENT
UID:pupc-70586907-20250918T180000@quickscores.com
DTSTAMP:20260422T230100Z
DTSTART;TZID=America/Chicago:20250918T180000
DURATION:PT0H40M0S
SUMMARY:Henderson/Henderson vs. Beauchamp/Chi
DESCRIPTION:Fmg Thursday Low Intermediate Lg. -  Fall  2025 - Paddle Up Pickleball Club
LOCATION:FMG Court 3
CATEGORIES:QuickScores, Pickleball Game
TRANSP:OPAQUE
BEGIN:VALARM
TRIGGER:-PT2H
ACTION:DISPLAY
DESCRIPTION:Henderson/Henderson vs. Beauchamp/Chi
END:VALARM
END:VEVENT
BEGIN:VEVENT
UID:pupc-70586905-20250918T192000@quickscores.com
DTSTAMP:20260422T230100Z
DTSTART;TZID=America/Chicago:20250918T192000
DURATION:PT0H40M0S
SUMMARY:Beauchamp/Chi vs. Quagliata/Brady
DESCRIPTION:Fmg Thursday Low Intermediate Lg. -  Fall  2025 - Paddle Up Pickleball Club
LOCATION:FMG Court 4
CATEGORIES:QuickScores, Pickleball Game
TRANSP:OPAQUE
BEGIN:VALARM
TRIGGER:-PT2H
ACTION:DISPLAY
DESCRIPTION:Beauchamp/Chi vs. Quagliata/Brady
END:VALARM
END:VEVENT
BEGIN:VEVENT
UID:pupc-70586920-20250925T200000@quickscores.com
DTSTAMP:20260422T230100Z
DTSTART;TZID=America/Chicago:20250925T200000
DURATION:PT0H40M0S
SUMMARY:Beauchamp/Chi vs. Mabie/Stenger
DESCRIPTION:Fmg Thursday Low Intermediate Lg. -  Fall  2025 - Paddle Up Pickleball Club
LOCATION:FMG Court 4
CATEGORIES:QuickScores, Pickleball Game
TRANSP:OPAQUE
BEGIN:VALARM
TRIGGER:-PT2H
ACTION:DISPLAY
DESCRIPTION:Beauchamp/Chi vs. Mabie/Stenger
END:VALARM
END:VEVENT
BEGIN:VEVENT
UID:pupc-70586919-20250925T204000@quickscores.com
DTSTAMP:20260422T230100Z
DTSTART;TZID=America/Chicago:20250925T204000
DURATION:PT0H40M0S
SUMMARY:Arras/Malloy vs. Beauchamp/Chi
DESCRIPTION:Fmg Thursday Low Intermediate Lg. -  Fall  2025 - Paddle Up Pickleball Club
LOCATION:FMG Court 3
CATEGORIES:QuickScores, Pickleball Game
TRANSP:OPAQUE
BEGIN:VALARM
TRIGGER:-PT2H
ACTION:DISPLAY
DESCRIPTION:Arras/Malloy vs. Beauchamp/Chi
END:VALARM
END:VEVENT
BEGIN:VEVENT
UID:pupc-70586932-20251002T192000@quickscores.com
DTSTAMP:20260422T230100Z
DTSTART;TZID=America/Chicago:20251002T192000
DURATION:PT0H40M0S
SUMMARY:Herdt/Herdt vs. Beauchamp/Chi
DESCRIPTION:Fmg Thursday Low Intermediate Lg. -  Fall  2025 - Paddle Up Pickleball Club
LOCATION:FMG Court 5
CATEGORIES:QuickScores, Pickleball Game
TRANSP:OPAQUE
BEGIN:VALARM
TRIGGER:-PT2H
ACTION:DISPLAY
DESCRIPTION:Herdt/Herdt vs. Beauchamp/Chi
END:VALARM
END:VEVENT
BEGIN:VEVENT
UID:pupc-70586931-20251002T204000@quickscores.com
DTSTAMP:20260422T230100Z
DTSTART;TZID=America/Chicago:20251002T204000
DURATION:PT0H40M0S
SUMMARY:Beauchamp/Chi vs. Henderson/Henderson
DESCRIPTION:Fmg Thursday Low Intermediate Lg. -  Fall  2025 - Paddle Up Pickleball Club
LOCATION:FMG Court 4
CATEGORIES:QuickScores, Pickleball Game
TRANSP:OPAQUE
BEGIN:VALARM
TRIGGER:-PT2H
ACTION:DISPLAY
DESCRIPTION:Beauchamp/Chi vs. Henderson/Henderson
END:VALARM
END:VEVENT
BEGIN:VEVENT
UID:pupc-70586934-20251009T180000@quickscores.com
DTSTAMP:20260422T230100Z
DTSTART;TZID=America/Chicago:20251009T180000
DURATION:PT0H40M0S
SUMMARY:Quagliata/Brady vs. Beauchamp/Chi
DESCRIPTION:Fmg Thursday Low Intermediate Lg. -  Fall  2025 - Paddle Up Pickleball Club
LOCATION:FMG Court 3
CATEGORIES:QuickScores, Pickleball Game
TRANSP:OPAQUE
BEGIN:VALARM
TRIGGER:-PT2H
ACTION:DISPLAY
DESCRIPTION:Quagliata/Brady vs. Beauchamp/Chi
END:VALARM
END:VEVENT
BEGIN:VEVENT
UID:pupc-70586935-20251009T184000@quickscores.com
DTSTAMP:20260422T230100Z
DTSTART;TZID=America/Chicago:20251009T184000
DURATION:PT0H40M0S
SUMMARY:Beauchamp/Chi vs. Jenkins/Friley
DESCRIPTION:Fmg Thursday Low Intermediate Lg. -  Fall  2025 - Paddle Up Pickleball Club
LOCATION:FMG Court 3
CATEGORIES:QuickScores, Pickleball Game
TRANSP:OPAQUE
BEGIN:VALARM
TRIGGER:-PT2H
ACTION:DISPLAY
DESCRIPTION:Beauchamp/Chi vs. Jenkins/Friley
END:VALARM
END:VEVENT
BEGIN:VEVENT
UID:pupc-71305854-20251016T180000@quickscores.com
DTSTAMP:20260422T230100Z
DTSTART;TZID=America/Chicago:20251016T180000
DURATION:PT0H30M0S
SUMMARY:[6] Zeisler/Zeisler vs. [11] Beauchamp/Chi
DESCRIPTION:Fmg Thursday Low Intermediate Lg. -  Fall  2025 - Paddle Up Pickleball Club
LOCATION:FMG Court 4
CATEGORIES:QuickScores, Pickleball Game
TRANSP:OPAQUE
BEGIN:VALARM
TRIGGER:-PT2H
ACTION:DISPLAY
DESCRIPTION:[6] Zeisler/Zeisler vs. [11] Beauchamp/Chi
END:VALARM
END:VEVENT
END:VCALENDAR
