BEGIN:VCALENDAR
VERSION:2.0
PRODID:-//QuickScores.com//BQ Dynamic iCal Creator//EN
METHOD:PUBLISH
X-WR-CALNAME:Arras/Malloy - Fmg Thursday Low Intermediate Lg. -  Fall  2025 - Completed Leagues 2025
X-WR-CALDESC:QuickScores game calendar
X-PUBLISHED-TTL:PT24H
REFRESH-INTERVAL;VALUE=DURATION:PT24H
CALSCALE:GREGORIAN
BEGIN:VTIMEZONE
TZID:America/Chicago
X-LIC-LOCATION:America/Chicago
BEGIN:DAYLIGHT
TZNAME:CDT
TZOFFSETFROM:-0600
TZOFFSETTO:-0500
DTSTART:19700308T020000
RRULE:FREQ=YEARLY;BYMONTH=3;BYDAY=2SU
END:DAYLIGHT
BEGIN:STANDARD
TZNAME:CST
TZOFFSETFROM:-0500
TZOFFSETTO:-0600
DTSTART:19701101T020000
RRULE:FREQ=YEARLY;BYMONTH=11;BYDAY=1SU
END:STANDARD
END:VTIMEZONE
BEGIN:VEVENT
UID:pupc-70586890-20250911T184000@quickscores.com
DTSTAMP:20260423T122700Z
DTSTART;TZID=America/Chicago:20250911T184000
DURATION:PT0H40M0S
SUMMARY:Arras/Malloy vs. Hilker/Haid
DESCRIPTION:Fmg Thursday Low Intermediate Lg. -  Fall  2025 - Paddle Up Pickleball Club
LOCATION:FMG Court 4
CATEGORIES:QuickScores, Pickleball Game
TRANSP:OPAQUE
BEGIN:VALARM
TRIGGER:-PT2H
ACTION:DISPLAY
DESCRIPTION:Arras/Malloy vs. Hilker/Haid
END:VALARM
END:VEVENT
BEGIN:VEVENT
UID:pupc-70586900-20250911T192000@quickscores.com
DTSTAMP:20260423T122700Z
DTSTART;TZID=America/Chicago:20250911T192000
DURATION:PT0H40M0S
SUMMARY:Mabie/Stenger vs. Arras/Malloy
DESCRIPTION:Fmg Thursday Low Intermediate Lg. -  Fall  2025 - Paddle Up Pickleball Club
LOCATION:FMG Court 3
CATEGORIES:QuickScores, Pickleball Game
TRANSP:OPAQUE
BEGIN:VALARM
TRIGGER:-PT2H
ACTION:DISPLAY
DESCRIPTION:Mabie/Stenger vs. Arras/Malloy
END:VALARM
END:VEVENT
BEGIN:VEVENT
UID:pupc-70586908-20250918T192000@quickscores.com
DTSTAMP:20260423T122700Z
DTSTART;TZID=America/Chicago:20250918T192000
DURATION:PT0H40M0S
SUMMARY:Arras/Malloy vs. Henderson/Henderson
DESCRIPTION:Fmg Thursday Low Intermediate Lg. -  Fall  2025 - Paddle Up Pickleball Club
LOCATION:FMG Court 5
CATEGORIES:QuickScores, Pickleball Game
TRANSP:OPAQUE
BEGIN:VALARM
TRIGGER:-PT2H
ACTION:DISPLAY
DESCRIPTION:Arras/Malloy vs. Henderson/Henderson
END:VALARM
END:VEVENT
BEGIN:VEVENT
UID:pupc-70586904-20250918T204000@quickscores.com
DTSTAMP:20260423T122700Z
DTSTART;TZID=America/Chicago:20250918T204000
DURATION:PT0H40M0S
SUMMARY:Jenkins/Friley vs. Arras/Malloy
DESCRIPTION:Fmg Thursday Low Intermediate Lg. -  Fall  2025 - Paddle Up Pickleball Club
LOCATION:FMG Court 4
CATEGORIES:QuickScores, Pickleball Game
TRANSP:OPAQUE
BEGIN:VALARM
TRIGGER:-PT2H
ACTION:DISPLAY
DESCRIPTION:Jenkins/Friley vs. Arras/Malloy
END:VALARM
END:VEVENT
BEGIN:VEVENT
UID:pupc-70586918-20250925T200000@quickscores.com
DTSTAMP:20260423T122700Z
DTSTART;TZID=America/Chicago:20250925T200000
DURATION:PT0H40M0S
SUMMARY:Zeisler/Zeisler vs. Arras/Malloy
DESCRIPTION:Fmg Thursday Low Intermediate Lg. -  Fall  2025 - Paddle Up Pickleball Club
LOCATION:FMG Court 3
CATEGORIES:QuickScores, Pickleball Game
TRANSP:OPAQUE
BEGIN:VALARM
TRIGGER:-PT2H
ACTION:DISPLAY
DESCRIPTION:Zeisler/Zeisler vs. Arras/Malloy
END:VALARM
END:VEVENT
BEGIN:VEVENT
UID:pupc-70586919-20250925T204000@quickscores.com
DTSTAMP:20260423T122700Z
DTSTART;TZID=America/Chicago:20250925T204000
DURATION:PT0H40M0S
SUMMARY:Arras/Malloy vs. Beauchamp/Chi
DESCRIPTION:Fmg Thursday Low Intermediate Lg. -  Fall  2025 - Paddle Up Pickleball Club
LOCATION:FMG Court 3
CATEGORIES:QuickScores, Pickleball Game
TRANSP:OPAQUE
BEGIN:VALARM
TRIGGER:-PT2H
ACTION:DISPLAY
DESCRIPTION:Arras/Malloy vs. Beauchamp/Chi
END:VALARM
END:VEVENT
BEGIN:VEVENT
UID:pupc-70586925-20251002T180000@quickscores.com
DTSTAMP:20260423T122700Z
DTSTART;TZID=America/Chicago:20251002T180000
DURATION:PT0H40M0S
SUMMARY:Arras/Malloy vs. Jenkins/Friley
DESCRIPTION:Fmg Thursday Low Intermediate Lg. -  Fall  2025 - Paddle Up Pickleball Club
LOCATION:FMG Court 3
CATEGORIES:QuickScores, Pickleball Game
TRANSP:OPAQUE
BEGIN:VALARM
TRIGGER:-PT2H
ACTION:DISPLAY
DESCRIPTION:Arras/Malloy vs. Jenkins/Friley
END:VALARM
END:VEVENT
BEGIN:VEVENT
UID:pupc-70586927-20251002T192000@quickscores.com
DTSTAMP:20260423T122700Z
DTSTART;TZID=America/Chicago:20251002T192000
DURATION:PT0H40M0S
SUMMARY:Quagliata/Brady vs. Arras/Malloy
DESCRIPTION:Fmg Thursday Low Intermediate Lg. -  Fall  2025 - Paddle Up Pickleball Club
LOCATION:FMG Court 3
CATEGORIES:QuickScores, Pickleball Game
TRANSP:OPAQUE
BEGIN:VALARM
TRIGGER:-PT2H
ACTION:DISPLAY
DESCRIPTION:Quagliata/Brady vs. Arras/Malloy
END:VALARM
END:VEVENT
BEGIN:VEVENT
UID:pupc-71305856-20251016T190000@quickscores.com
DTSTAMP:20260423T122700Z
DTSTART;TZID=America/Chicago:20251016T190000
DURATION:PT0H30M0S
SUMMARY:[4] Arras/Malloy vs. [5] Herdt/Herdt
DESCRIPTION:Fmg Thursday Low Intermediate Lg. -  Fall  2025 - Paddle Up Pickleball Club
LOCATION:FMG Court 6
CATEGORIES:QuickScores, Pickleball Game
TRANSP:OPAQUE
BEGIN:VALARM
TRIGGER:-PT2H
ACTION:DISPLAY
DESCRIPTION:[4] Arras/Malloy vs. [5] Herdt/Herdt
END:VALARM
END:VEVENT
END:VCALENDAR
