BEGIN:VCALENDAR
VERSION:2.0
PRODID:-//QuickScores.com//BQ Dynamic iCal Creator//EN
METHOD:PUBLISH
X-WR-CALNAME:Henderson/Henderson - Fmg Thursday Low Intermediate Lg. -  Fall  2025 - Completed Leagues 2025
X-WR-CALDESC:QuickScores game calendar
X-PUBLISHED-TTL:PT24H
REFRESH-INTERVAL;VALUE=DURATION:PT24H
CALSCALE:GREGORIAN
BEGIN:VTIMEZONE
TZID:America/Chicago
X-LIC-LOCATION:America/Chicago
BEGIN:DAYLIGHT
TZNAME:CDT
TZOFFSETFROM:-0600
TZOFFSETTO:-0500
DTSTART:19700308T020000
RRULE:FREQ=YEARLY;BYMONTH=3;BYDAY=2SU
END:DAYLIGHT
BEGIN:STANDARD
TZNAME:CST
TZOFFSETFROM:-0500
TZOFFSETTO:-0600
DTSTART:19701101T020000
RRULE:FREQ=YEARLY;BYMONTH=11;BYDAY=1SU
END:STANDARD
END:VTIMEZONE
BEGIN:VEVENT
UID:pupc-70586898-20250911T200000@quickscores.com
DTSTAMP:20260424T140600Z
DTSTART;TZID=America/Chicago:20250911T200000
DURATION:PT0H40M0S
SUMMARY:Henderson/Henderson vs. Herdt/Herdt
DESCRIPTION:Fmg Thursday Low Intermediate Lg. -  Fall  2025 - Paddle Up Pickleball Club
LOCATION:FMG Court 3
CATEGORIES:QuickScores, Pickleball Game
TRANSP:OPAQUE
BEGIN:VALARM
TRIGGER:-PT2H
ACTION:DISPLAY
DESCRIPTION:Henderson/Henderson vs. Herdt/Herdt
END:VALARM
END:VEVENT
BEGIN:VEVENT
UID:pupc-70586899-20250911T204000@quickscores.com
DTSTAMP:20260424T140600Z
DTSTART;TZID=America/Chicago:20250911T204000
DURATION:PT0H40M0S
SUMMARY:Henderson/Henderson vs. Mabie/Stenger
DESCRIPTION:Fmg Thursday Low Intermediate Lg. -  Fall  2025 - Paddle Up Pickleball Club
LOCATION:FMG Court 4
CATEGORIES:QuickScores, Pickleball Game
TRANSP:OPAQUE
BEGIN:VALARM
TRIGGER:-PT2H
ACTION:DISPLAY
DESCRIPTION:Henderson/Henderson vs. Mabie/Stenger
END:VALARM
END:VEVENT
BEGIN:VEVENT
UID:pupc-70586907-20250918T180000@quickscores.com
DTSTAMP:20260424T140600Z
DTSTART;TZID=America/Chicago:20250918T180000
DURATION:PT0H40M0S
SUMMARY:Henderson/Henderson vs. Beauchamp/Chi
DESCRIPTION:Fmg Thursday Low Intermediate Lg. -  Fall  2025 - Paddle Up Pickleball Club
LOCATION:FMG Court 3
CATEGORIES:QuickScores, Pickleball Game
TRANSP:OPAQUE
BEGIN:VALARM
TRIGGER:-PT2H
ACTION:DISPLAY
DESCRIPTION:Henderson/Henderson vs. Beauchamp/Chi
END:VALARM
END:VEVENT
BEGIN:VEVENT
UID:pupc-70586908-20250918T192000@quickscores.com
DTSTAMP:20260424T140600Z
DTSTART;TZID=America/Chicago:20250918T192000
DURATION:PT0H40M0S
SUMMARY:Arras/Malloy vs. Henderson/Henderson
DESCRIPTION:Fmg Thursday Low Intermediate Lg. -  Fall  2025 - Paddle Up Pickleball Club
LOCATION:FMG Court 5
CATEGORIES:QuickScores, Pickleball Game
TRANSP:OPAQUE
BEGIN:VALARM
TRIGGER:-PT2H
ACTION:DISPLAY
DESCRIPTION:Arras/Malloy vs. Henderson/Henderson
END:VALARM
END:VEVENT
BEGIN:VEVENT
UID:pupc-70586915-20250925T180000@quickscores.com
DTSTAMP:20260424T140600Z
DTSTART;TZID=America/Chicago:20250925T180000
DURATION:PT0H40M0S
SUMMARY:Williams/Evjen vs. Henderson/Henderson
DESCRIPTION:Fmg Thursday Low Intermediate Lg. -  Fall  2025 - Paddle Up Pickleball Club
LOCATION:FMG Court 3
CATEGORIES:QuickScores, Pickleball Game
TRANSP:OPAQUE
BEGIN:VALARM
TRIGGER:-PT2H
ACTION:DISPLAY
DESCRIPTION:Williams/Evjen vs. Henderson/Henderson
END:VALARM
END:VEVENT
BEGIN:VEVENT
UID:pupc-70586917-20250925T192000@quickscores.com
DTSTAMP:20260424T140600Z
DTSTART;TZID=America/Chicago:20250925T192000
DURATION:PT0H40M0S
SUMMARY:Henderson/Henderson vs. Gurgol/Burke
DESCRIPTION:Fmg Thursday Low Intermediate Lg. -  Fall  2025 - Paddle Up Pickleball Club
LOCATION:FMG Court 3
CATEGORIES:QuickScores, Pickleball Game
TRANSP:OPAQUE
BEGIN:VALARM
TRIGGER:-PT2H
ACTION:DISPLAY
DESCRIPTION:Henderson/Henderson vs. Gurgol/Burke
END:VALARM
END:VEVENT
BEGIN:VEVENT
UID:pupc-70586930-20251002T200000@quickscores.com
DTSTAMP:20260424T140600Z
DTSTART;TZID=America/Chicago:20251002T200000
DURATION:PT0H40M0S
SUMMARY:Henderson/Henderson vs. Williams/Evjen
DESCRIPTION:Fmg Thursday Low Intermediate Lg. -  Fall  2025 - Paddle Up Pickleball Club
LOCATION:FMG Court 4
CATEGORIES:QuickScores, Pickleball Game
TRANSP:OPAQUE
BEGIN:VALARM
TRIGGER:-PT2H
ACTION:DISPLAY
DESCRIPTION:Henderson/Henderson vs. Williams/Evjen
END:VALARM
END:VEVENT
BEGIN:VEVENT
UID:pupc-70586931-20251002T204000@quickscores.com
DTSTAMP:20260424T140600Z
DTSTART;TZID=America/Chicago:20251002T204000
DURATION:PT0H40M0S
SUMMARY:Beauchamp/Chi vs. Henderson/Henderson
DESCRIPTION:Fmg Thursday Low Intermediate Lg. -  Fall  2025 - Paddle Up Pickleball Club
LOCATION:FMG Court 4
CATEGORIES:QuickScores, Pickleball Game
TRANSP:OPAQUE
BEGIN:VALARM
TRIGGER:-PT2H
ACTION:DISPLAY
DESCRIPTION:Beauchamp/Chi vs. Henderson/Henderson
END:VALARM
END:VEVENT
BEGIN:VEVENT
UID:pupc-70586942-20251009T184000@quickscores.com
DTSTAMP:20260424T140600Z
DTSTART;TZID=America/Chicago:20251009T184000
DURATION:PT0H40M0S
SUMMARY:Herdt/Herdt vs. Henderson/Henderson
DESCRIPTION:Fmg Thursday Low Intermediate Lg. -  Fall  2025 - Paddle Up Pickleball Club
LOCATION:FMG Court 4
CATEGORIES:QuickScores, Pickleball Game
TRANSP:OPAQUE
BEGIN:VALARM
TRIGGER:-PT2H
ACTION:DISPLAY
DESCRIPTION:Herdt/Herdt vs. Henderson/Henderson
END:VALARM
END:VEVENT
BEGIN:VEVENT
UID:pupc-70586944-20251009T192000@quickscores.com
DTSTAMP:20260424T140600Z
DTSTART;TZID=America/Chicago:20251009T192000
DURATION:PT0H40M0S
SUMMARY:Quagliata/Brady vs. Henderson/Henderson
DESCRIPTION:Fmg Thursday Low Intermediate Lg. -  Fall  2025 - Paddle Up Pickleball Club
LOCATION:FMG Court 5
CATEGORIES:QuickScores, Pickleball Game
TRANSP:OPAQUE
BEGIN:VALARM
TRIGGER:-PT2H
ACTION:DISPLAY
DESCRIPTION:Quagliata/Brady vs. Henderson/Henderson
END:VALARM
END:VEVENT
BEGIN:VEVENT
UID:pupc-71305852-20251016T180000@quickscores.com
DTSTAMP:20260424T140600Z
DTSTART;TZID=America/Chicago:20251016T180000
DURATION:PT0H30M0S
SUMMARY:[7] Henderson/Henderson vs. [10] Mabie/Stenger
DESCRIPTION:Fmg Thursday Low Intermediate Lg. -  Fall  2025 - Paddle Up Pickleball Club
LOCATION:FMG Court 5
CATEGORIES:QuickScores, Pickleball Game
TRANSP:OPAQUE
BEGIN:VALARM
TRIGGER:-PT2H
ACTION:DISPLAY
DESCRIPTION:[7] Henderson/Henderson vs. [10] Mabie/Stenger
END:VALARM
END:VEVENT
END:VCALENDAR
