BEGIN:VCALENDAR
VERSION:2.0
PRODID:-//QuickScores.com//BQ Dynamic iCal Creator//EN
METHOD:PUBLISH
X-WR-CALNAME:Gurgol/Burke - Fmg Thursday Low Intermediate Lg. -  Fall  2025 - Completed Leagues 2025
X-WR-CALDESC:QuickScores game calendar
X-PUBLISHED-TTL:PT24H
REFRESH-INTERVAL;VALUE=DURATION:PT24H
CALSCALE:GREGORIAN
BEGIN:VTIMEZONE
TZID:America/Chicago
X-LIC-LOCATION:America/Chicago
BEGIN:DAYLIGHT
TZNAME:CDT
TZOFFSETFROM:-0600
TZOFFSETTO:-0500
DTSTART:19700308T020000
RRULE:FREQ=YEARLY;BYMONTH=3;BYDAY=2SU
END:DAYLIGHT
BEGIN:STANDARD
TZNAME:CST
TZOFFSETFROM:-0500
TZOFFSETTO:-0600
DTSTART:19701101T020000
RRULE:FREQ=YEARLY;BYMONTH=11;BYDAY=1SU
END:STANDARD
END:VTIMEZONE
BEGIN:VEVENT
UID:pupc-70586895-20250911T192000@quickscores.com
DTSTAMP:20260423T003600Z
DTSTART;TZID=America/Chicago:20250911T192000
DURATION:PT0H40M0S
SUMMARY:Beauchamp/Chi vs. Gurgol/Burke
DESCRIPTION:Fmg Thursday Low Intermediate Lg. -  Fall  2025 - Paddle Up Pickleball Club
LOCATION:FMG Court 4
CATEGORIES:QuickScores, Pickleball Game
TRANSP:OPAQUE
BEGIN:VALARM
TRIGGER:-PT2H
ACTION:DISPLAY
DESCRIPTION:Beauchamp/Chi vs. Gurgol/Burke
END:VALARM
END:VEVENT
BEGIN:VEVENT
UID:pupc-70586896-20250911T200000@quickscores.com
DTSTAMP:20260423T003600Z
DTSTART;TZID=America/Chicago:20250911T200000
DURATION:PT0H40M0S
SUMMARY:Jenkins/Friley vs. Gurgol/Burke
DESCRIPTION:Fmg Thursday Low Intermediate Lg. -  Fall  2025 - Paddle Up Pickleball Club
LOCATION:FMG Court 4
CATEGORIES:QuickScores, Pickleball Game
TRANSP:OPAQUE
BEGIN:VALARM
TRIGGER:-PT2H
ACTION:DISPLAY
DESCRIPTION:Jenkins/Friley vs. Gurgol/Burke
END:VALARM
END:VEVENT
BEGIN:VEVENT
UID:pupc-70586909-20250918T180000@quickscores.com
DTSTAMP:20260423T003600Z
DTSTART;TZID=America/Chicago:20250918T180000
DURATION:PT0H40M0S
SUMMARY:Zeisler/Zeisler vs. Gurgol/Burke
DESCRIPTION:Fmg Thursday Low Intermediate Lg. -  Fall  2025 - Paddle Up Pickleball Club
LOCATION:FMG Court 4
CATEGORIES:QuickScores, Pickleball Game
TRANSP:OPAQUE
BEGIN:VALARM
TRIGGER:-PT2H
ACTION:DISPLAY
DESCRIPTION:Zeisler/Zeisler vs. Gurgol/Burke
END:VALARM
END:VEVENT
BEGIN:VEVENT
UID:pupc-70586906-20250918T184000@quickscores.com
DTSTAMP:20260423T003600Z
DTSTART;TZID=America/Chicago:20250918T184000
DURATION:PT0H40M0S
SUMMARY:Gurgol/Burke vs. Quagliata/Brady
DESCRIPTION:Fmg Thursday Low Intermediate Lg. -  Fall  2025 - Paddle Up Pickleball Club
LOCATION:FMG Court 4
CATEGORIES:QuickScores, Pickleball Game
TRANSP:OPAQUE
BEGIN:VALARM
TRIGGER:-PT2H
ACTION:DISPLAY
DESCRIPTION:Gurgol/Burke vs. Quagliata/Brady
END:VALARM
END:VEVENT
BEGIN:VEVENT
UID:pupc-70586917-20250925T192000@quickscores.com
DTSTAMP:20260423T003600Z
DTSTART;TZID=America/Chicago:20250925T192000
DURATION:PT0H40M0S
SUMMARY:Henderson/Henderson vs. Gurgol/Burke
DESCRIPTION:Fmg Thursday Low Intermediate Lg. -  Fall  2025 - Paddle Up Pickleball Club
LOCATION:FMG Court 3
CATEGORIES:QuickScores, Pickleball Game
TRANSP:OPAQUE
BEGIN:VALARM
TRIGGER:-PT2H
ACTION:DISPLAY
DESCRIPTION:Henderson/Henderson vs. Gurgol/Burke
END:VALARM
END:VEVENT
BEGIN:VEVENT
UID:pupc-70586921-20250925T204000@quickscores.com
DTSTAMP:20260423T003600Z
DTSTART;TZID=America/Chicago:20250925T204000
DURATION:PT0H40M0S
SUMMARY:Mabie/Stenger vs. Gurgol/Burke
DESCRIPTION:Fmg Thursday Low Intermediate Lg. -  Fall  2025 - Paddle Up Pickleball Club
LOCATION:FMG Court 4
CATEGORIES:QuickScores, Pickleball Game
TRANSP:OPAQUE
BEGIN:VALARM
TRIGGER:-PT2H
ACTION:DISPLAY
DESCRIPTION:Mabie/Stenger vs. Gurgol/Burke
END:VALARM
END:VEVENT
BEGIN:VEVENT
UID:pupc-70586923-20251002T180000@quickscores.com
DTSTAMP:20260423T003600Z
DTSTART;TZID=America/Chicago:20251002T180000
DURATION:PT0H40M0S
SUMMARY:Herdt/Herdt vs. Gurgol/Burke
DESCRIPTION:Fmg Thursday Low Intermediate Lg. -  Fall  2025 - Paddle Up Pickleball Club
LOCATION:FMG Court 4
CATEGORIES:QuickScores, Pickleball Game
TRANSP:OPAQUE
BEGIN:VALARM
TRIGGER:-PT2H
ACTION:DISPLAY
DESCRIPTION:Herdt/Herdt vs. Gurgol/Burke
END:VALARM
END:VEVENT
BEGIN:VEVENT
UID:pupc-70586933-20251002T184000@quickscores.com
DTSTAMP:20260423T003600Z
DTSTART;TZID=America/Chicago:20251002T184000
DURATION:PT0H40M0S
SUMMARY:Gurgol/Burke vs. Hilker/Haid
DESCRIPTION:Fmg Thursday Low Intermediate Lg. -  Fall  2025 - Paddle Up Pickleball Club
LOCATION:FMG Court 4
CATEGORIES:QuickScores, Pickleball Game
TRANSP:OPAQUE
BEGIN:VALARM
TRIGGER:-PT2H
ACTION:DISPLAY
DESCRIPTION:Gurgol/Burke vs. Hilker/Haid
END:VALARM
END:VEVENT
BEGIN:VEVENT
UID:pupc-70586940-20251009T180000@quickscores.com
DTSTAMP:20260423T003600Z
DTSTART;TZID=America/Chicago:20251009T180000
DURATION:PT0H40M0S
SUMMARY:Gurgol/Burke vs. Zeisler/Zeisler
DESCRIPTION:Fmg Thursday Low Intermediate Lg. -  Fall  2025 - Paddle Up Pickleball Club
LOCATION:FMG Court 4
CATEGORIES:QuickScores, Pickleball Game
TRANSP:OPAQUE
BEGIN:VALARM
TRIGGER:-PT2H
ACTION:DISPLAY
DESCRIPTION:Gurgol/Burke vs. Zeisler/Zeisler
END:VALARM
END:VEVENT
BEGIN:VEVENT
UID:pupc-70586939-20251009T200000@quickscores.com
DTSTAMP:20260423T003600Z
DTSTART;TZID=America/Chicago:20251009T200000
DURATION:PT0H40M0S
SUMMARY:Gurgol/Burke vs. Mabie/Stenger
DESCRIPTION:Fmg Thursday Low Intermediate Lg. -  Fall  2025 - Paddle Up Pickleball Club
LOCATION:FMG Court 4
CATEGORIES:QuickScores, Pickleball Game
TRANSP:OPAQUE
BEGIN:VALARM
TRIGGER:-PT2H
ACTION:DISPLAY
DESCRIPTION:Gurgol/Burke vs. Mabie/Stenger
END:VALARM
END:VEVENT
BEGIN:VEVENT
UID:pupc-71305848-20251016T180000@quickscores.com
DTSTAMP:20260423T003600Z
DTSTART;TZID=America/Chicago:20251016T180000
DURATION:PT0H30M0S
SUMMARY:[8] Williams/Evjen vs. [9] Gurgol/Burke
DESCRIPTION:Fmg Thursday Low Intermediate Lg. -  Fall  2025 - Paddle Up Pickleball Club
LOCATION:FMG Court 6
CATEGORIES:QuickScores, Pickleball Game
TRANSP:OPAQUE
BEGIN:VALARM
TRIGGER:-PT2H
ACTION:DISPLAY
DESCRIPTION:[8] Williams/Evjen vs. [9] Gurgol/Burke
END:VALARM
END:VEVENT
END:VCALENDAR
