BEGIN:VCALENDAR
VERSION:2.0
PRODID:-//QuickScores.com//BQ Dynamic iCal Creator//EN
METHOD:PUBLISH
X-WR-CALNAME:Williams/Evjen - Fmg Thursday Low Intermediate Lg. -  Fall  2025 - Completed Leagues 2025
X-WR-CALDESC:QuickScores game calendar
X-PUBLISHED-TTL:PT24H
REFRESH-INTERVAL;VALUE=DURATION:PT24H
CALSCALE:GREGORIAN
BEGIN:VTIMEZONE
TZID:America/Chicago
X-LIC-LOCATION:America/Chicago
BEGIN:DAYLIGHT
TZNAME:CDT
TZOFFSETFROM:-0600
TZOFFSETTO:-0500
DTSTART:19700308T020000
RRULE:FREQ=YEARLY;BYMONTH=3;BYDAY=2SU
END:DAYLIGHT
BEGIN:STANDARD
TZNAME:CST
TZOFFSETFROM:-0500
TZOFFSETTO:-0600
DTSTART:19701101T020000
RRULE:FREQ=YEARLY;BYMONTH=11;BYDAY=1SU
END:STANDARD
END:VTIMEZONE
BEGIN:VEVENT
UID:pupc-70586891-20250911T180000@quickscores.com
DTSTAMP:20260423T165300Z
DTSTART;TZID=America/Chicago:20250911T180000
DURATION:PT0H40M0S
SUMMARY:Williams/Evjen vs. Hilker/Haid
DESCRIPTION:Fmg Thursday Low Intermediate Lg. -  Fall  2025 - Paddle Up Pickleball Club
LOCATION:FMG Court 4
CATEGORIES:QuickScores, Pickleball Game
TRANSP:OPAQUE
BEGIN:VALARM
TRIGGER:-PT2H
ACTION:DISPLAY
DESCRIPTION:Williams/Evjen vs. Hilker/Haid
END:VALARM
END:VEVENT
BEGIN:VEVENT
UID:pupc-70586892-20250911T192000@quickscores.com
DTSTAMP:20260423T165300Z
DTSTART;TZID=America/Chicago:20250911T192000
DURATION:PT0H40M0S
SUMMARY:Williams/Evjen vs. Quagliata/Brady
DESCRIPTION:Fmg Thursday Low Intermediate Lg. -  Fall  2025 - Paddle Up Pickleball Club
LOCATION:FMG Court 5
CATEGORIES:QuickScores, Pickleball Game
TRANSP:OPAQUE
BEGIN:VALARM
TRIGGER:-PT2H
ACTION:DISPLAY
DESCRIPTION:Williams/Evjen vs. Quagliata/Brady
END:VALARM
END:VEVENT
BEGIN:VEVENT
UID:pupc-70586910-20250918T184000@quickscores.com
DTSTAMP:20260423T165300Z
DTSTART;TZID=America/Chicago:20250918T184000
DURATION:PT0H40M0S
SUMMARY:Williams/Evjen vs. Zeisler/Zeisler
DESCRIPTION:Fmg Thursday Low Intermediate Lg. -  Fall  2025 - Paddle Up Pickleball Club
LOCATION:FMG Court 3
CATEGORIES:QuickScores, Pickleball Game
TRANSP:OPAQUE
BEGIN:VALARM
TRIGGER:-PT2H
ACTION:DISPLAY
DESCRIPTION:Williams/Evjen vs. Zeisler/Zeisler
END:VALARM
END:VEVENT
BEGIN:VEVENT
UID:pupc-70586911-20250918T192000@quickscores.com
DTSTAMP:20260423T165300Z
DTSTART;TZID=America/Chicago:20250918T192000
DURATION:PT0H40M0S
SUMMARY:Williams/Evjen vs. Mabie/Stenger
DESCRIPTION:Fmg Thursday Low Intermediate Lg. -  Fall  2025 - Paddle Up Pickleball Club
LOCATION:FMG Court 3
CATEGORIES:QuickScores, Pickleball Game
TRANSP:OPAQUE
BEGIN:VALARM
TRIGGER:-PT2H
ACTION:DISPLAY
DESCRIPTION:Williams/Evjen vs. Mabie/Stenger
END:VALARM
END:VEVENT
BEGIN:VEVENT
UID:pupc-70586915-20250925T180000@quickscores.com
DTSTAMP:20260423T165300Z
DTSTART;TZID=America/Chicago:20250925T180000
DURATION:PT0H40M0S
SUMMARY:Williams/Evjen vs. Henderson/Henderson
DESCRIPTION:Fmg Thursday Low Intermediate Lg. -  Fall  2025 - Paddle Up Pickleball Club
LOCATION:FMG Court 3
CATEGORIES:QuickScores, Pickleball Game
TRANSP:OPAQUE
BEGIN:VALARM
TRIGGER:-PT2H
ACTION:DISPLAY
DESCRIPTION:Williams/Evjen vs. Henderson/Henderson
END:VALARM
END:VEVENT
BEGIN:VEVENT
UID:pupc-70586914-20250925T192000@quickscores.com
DTSTAMP:20260423T165300Z
DTSTART;TZID=America/Chicago:20250925T192000
DURATION:PT0H40M0S
SUMMARY:Herdt/Herdt vs. Williams/Evjen
DESCRIPTION:Fmg Thursday Low Intermediate Lg. -  Fall  2025 - Paddle Up Pickleball Club
LOCATION:FMG Court 5
CATEGORIES:QuickScores, Pickleball Game
TRANSP:OPAQUE
BEGIN:VALARM
TRIGGER:-PT2H
ACTION:DISPLAY
DESCRIPTION:Herdt/Herdt vs. Williams/Evjen
END:VALARM
END:VEVENT
BEGIN:VEVENT
UID:pupc-70586930-20251002T200000@quickscores.com
DTSTAMP:20260423T165300Z
DTSTART;TZID=America/Chicago:20251002T200000
DURATION:PT0H40M0S
SUMMARY:Henderson/Henderson vs. Williams/Evjen
DESCRIPTION:Fmg Thursday Low Intermediate Lg. -  Fall  2025 - Paddle Up Pickleball Club
LOCATION:FMG Court 4
CATEGORIES:QuickScores, Pickleball Game
TRANSP:OPAQUE
BEGIN:VALARM
TRIGGER:-PT2H
ACTION:DISPLAY
DESCRIPTION:Henderson/Henderson vs. Williams/Evjen
END:VALARM
END:VEVENT
BEGIN:VEVENT
UID:pupc-70586929-20251002T204000@quickscores.com
DTSTAMP:20260423T165300Z
DTSTART;TZID=America/Chicago:20251002T204000
DURATION:PT0H40M0S
SUMMARY:Zeisler/Zeisler vs. Williams/Evjen
DESCRIPTION:Fmg Thursday Low Intermediate Lg. -  Fall  2025 - Paddle Up Pickleball Club
LOCATION:FMG Court 3
CATEGORIES:QuickScores, Pickleball Game
TRANSP:OPAQUE
BEGIN:VALARM
TRIGGER:-PT2H
ACTION:DISPLAY
DESCRIPTION:Zeisler/Zeisler vs. Williams/Evjen
END:VALARM
END:VEVENT
BEGIN:VEVENT
UID:pupc-70586937-20251009T200000@quickscores.com
DTSTAMP:20260423T165300Z
DTSTART;TZID=America/Chicago:20251009T200000
DURATION:PT0H40M0S
SUMMARY:Hilker/Haid vs. Williams/Evjen
DESCRIPTION:Fmg Thursday Low Intermediate Lg. -  Fall  2025 - Paddle Up Pickleball Club
LOCATION:FMG Court 3
CATEGORIES:QuickScores, Pickleball Game
TRANSP:OPAQUE
BEGIN:VALARM
TRIGGER:-PT2H
ACTION:DISPLAY
DESCRIPTION:Hilker/Haid vs. Williams/Evjen
END:VALARM
END:VEVENT
BEGIN:VEVENT
UID:pupc-70586938-20251009T204000@quickscores.com
DTSTAMP:20260423T165300Z
DTSTART;TZID=America/Chicago:20251009T204000
DURATION:PT0H40M0S
SUMMARY:Mabie/Stenger vs. Williams/Evjen
DESCRIPTION:Fmg Thursday Low Intermediate Lg. -  Fall  2025 - Paddle Up Pickleball Club
LOCATION:FMG Court 3
CATEGORIES:QuickScores, Pickleball Game
TRANSP:OPAQUE
BEGIN:VALARM
TRIGGER:-PT2H
ACTION:DISPLAY
DESCRIPTION:Mabie/Stenger vs. Williams/Evjen
END:VALARM
END:VEVENT
BEGIN:VEVENT
UID:pupc-71305848-20251016T180000@quickscores.com
DTSTAMP:20260423T165300Z
DTSTART;TZID=America/Chicago:20251016T180000
DURATION:PT0H30M0S
SUMMARY:[8] Williams/Evjen vs. [9] Gurgol/Burke
DESCRIPTION:Fmg Thursday Low Intermediate Lg. -  Fall  2025 - Paddle Up Pickleball Club
LOCATION:FMG Court 6
CATEGORIES:QuickScores, Pickleball Game
TRANSP:OPAQUE
BEGIN:VALARM
TRIGGER:-PT2H
ACTION:DISPLAY
DESCRIPTION:[8] Williams/Evjen vs. [9] Gurgol/Burke
END:VALARM
END:VEVENT
END:VCALENDAR
