BEGIN:VCALENDAR
VERSION:2.0
PRODID:-//QuickScores.com//BQ Dynamic iCal Creator//EN
METHOD:PUBLISH
X-WR-CALNAME:Grelle/Grelle - Friday Night Tournament - Fmg - 8/1 - Completed Tournaments 2024-25
X-WR-CALDESC:QuickScores game calendar
X-PUBLISHED-TTL:PT24H
REFRESH-INTERVAL;VALUE=DURATION:PT24H
CALSCALE:GREGORIAN
BEGIN:VTIMEZONE
TZID:America/Chicago
X-LIC-LOCATION:America/Chicago
BEGIN:DAYLIGHT
TZNAME:CDT
TZOFFSETFROM:-0600
TZOFFSETTO:-0500
DTSTART:19700308T020000
RRULE:FREQ=YEARLY;BYMONTH=3;BYDAY=2SU
END:DAYLIGHT
BEGIN:STANDARD
TZNAME:CST
TZOFFSETFROM:-0500
TZOFFSETTO:-0600
DTSTART:19701101T020000
RRULE:FREQ=YEARLY;BYMONTH=11;BYDAY=1SU
END:STANDARD
END:VTIMEZONE
BEGIN:VEVENT
UID:pupc-70045656-20250801T182000@quickscores.com
DTSTAMP:20260421T102500Z
DTSTART;TZID=America/Chicago:20250801T182000
DURATION:PT0H20M0S
SUMMARY:Tessereau/Simon vs. Grelle/Grelle
DESCRIPTION:Friday Night Tournament - Fmg - 8/1 - Paddle Up Pickleball Club
LOCATION:FMG Court 2
CATEGORIES:QuickScores, Pickleball Game
TRANSP:OPAQUE
BEGIN:VALARM
TRIGGER:-PT2H
ACTION:DISPLAY
DESCRIPTION:Tessereau/Simon vs. Grelle/Grelle
END:VALARM
END:VEVENT
BEGIN:VEVENT
UID:pupc-70045660-20250801T184000@quickscores.com
DTSTAMP:20260421T102500Z
DTSTART;TZID=America/Chicago:20250801T184000
DURATION:PT0H20M0S
SUMMARY:Blick/Blick vs. Grelle/Grelle
DESCRIPTION:Friday Night Tournament - Fmg - 8/1 - Paddle Up Pickleball Club
LOCATION:FMG Court 3
CATEGORIES:QuickScores, Pickleball Game
TRANSP:OPAQUE
BEGIN:VALARM
TRIGGER:-PT2H
ACTION:DISPLAY
DESCRIPTION:Blick/Blick vs. Grelle/Grelle
END:VALARM
END:VEVENT
BEGIN:VEVENT
UID:pupc-70045663-20250801T190000@quickscores.com
DTSTAMP:20260421T102500Z
DTSTART;TZID=America/Chicago:20250801T190000
DURATION:PT0H20M0S
SUMMARY:Grelle/Grelle vs. Janschutz/Holyfield
DESCRIPTION:Friday Night Tournament - Fmg - 8/1 - Paddle Up Pickleball Club
LOCATION:FMG Court 3
CATEGORIES:QuickScores, Pickleball Game
TRANSP:OPAQUE
BEGIN:VALARM
TRIGGER:-PT2H
ACTION:DISPLAY
DESCRIPTION:Grelle/Grelle vs. Janschutz/Holyfield
END:VALARM
END:VEVENT
BEGIN:VEVENT
UID:pupc-70045667-20250801T192000@quickscores.com
DTSTAMP:20260421T102500Z
DTSTART;TZID=America/Chicago:20250801T192000
DURATION:PT0H20M0S
SUMMARY:Grelle/Grelle vs. Lake/Lake
DESCRIPTION:Friday Night Tournament - Fmg - 8/1 - Paddle Up Pickleball Club
LOCATION:FMG Court 2
CATEGORIES:QuickScores, Pickleball Game
TRANSP:OPAQUE
BEGIN:VALARM
TRIGGER:-PT2H
ACTION:DISPLAY
DESCRIPTION:Grelle/Grelle vs. Lake/Lake
END:VALARM
END:VEVENT
END:VCALENDAR
