BEGIN:VCALENDAR
VERSION:2.0
PRODID:-//QuickScores.com//BQ Dynamic iCal Creator//EN
METHOD:PUBLISH
X-WR-CALNAME:LatoyaBranscomb/DanRath - Paddle Up Club Championship - Mixed Doubles 7/27 (9:00 Am Start) - Completed Tournaments 2024-25
X-WR-CALDESC:QuickScores game calendar
X-PUBLISHED-TTL:PT24H
REFRESH-INTERVAL;VALUE=DURATION:PT24H
CALSCALE:GREGORIAN
BEGIN:VTIMEZONE
TZID:America/Chicago
X-LIC-LOCATION:America/Chicago
BEGIN:DAYLIGHT
TZNAME:CDT
TZOFFSETFROM:-0600
TZOFFSETTO:-0500
DTSTART:19700308T020000
RRULE:FREQ=YEARLY;BYMONTH=3;BYDAY=2SU
END:DAYLIGHT
BEGIN:STANDARD
TZNAME:CST
TZOFFSETFROM:-0500
TZOFFSETTO:-0600
DTSTART:19701101T020000
RRULE:FREQ=YEARLY;BYMONTH=11;BYDAY=1SU
END:STANDARD
END:VTIMEZONE
BEGIN:VEVENT
UID:pupc-69939580-20250727T093000@quickscores.com
DTSTAMP:20260422T051400Z
DTSTART;TZID=America/Chicago:20250727T093000
DURATION:PT0H20M0S
SUMMARY:TrishEddy/JeffreyEddy vs. LatoyaBranscomb/DanRath
DESCRIPTION:Paddle Up Club Championship - Mixed Doubles 7/27 (9:00 Am Start) - Paddle Up Pickleball Club
LOCATION:Court 9
CATEGORIES:QuickScores, Pickleball Game
TRANSP:OPAQUE
BEGIN:VALARM
TRIGGER:-PT2H
ACTION:DISPLAY
DESCRIPTION:TrishEddy/JeffreyEddy vs. LatoyaBranscomb/DanRath
END:VALARM
END:VEVENT
BEGIN:VEVENT
UID:pupc-69939605-20250727T095000@quickscores.com
DTSTAMP:20260422T051400Z
DTSTART;TZID=America/Chicago:20250727T095000
DURATION:PT0H20M0S
SUMMARY:LatoyaBranscomb/DanRath vs. JenikaHernandez/GioHernandez
DESCRIPTION:Paddle Up Club Championship - Mixed Doubles 7/27 (9:00 Am Start) - Paddle Up Pickleball Club
LOCATION:Court 9
CATEGORIES:QuickScores, Pickleball Game
TRANSP:OPAQUE
BEGIN:VALARM
TRIGGER:-PT2H
ACTION:DISPLAY
DESCRIPTION:LatoyaBranscomb/DanRath vs. JenikaHernandez/GioHernandez
END:VALARM
END:VEVENT
BEGIN:VEVENT
UID:pupc-69939594-20250727T103000@quickscores.com
DTSTAMP:20260422T051400Z
DTSTART;TZID=America/Chicago:20250727T103000
DURATION:PT0H20M0S
SUMMARY:DawnTegeler/KevinTegeler vs. LatoyaBranscomb/DanRath
DESCRIPTION:Paddle Up Club Championship - Mixed Doubles 7/27 (9:00 Am Start) - Paddle Up Pickleball Club
LOCATION:Court 6
CATEGORIES:QuickScores, Pickleball Game
TRANSP:OPAQUE
BEGIN:VALARM
TRIGGER:-PT2H
ACTION:DISPLAY
DESCRIPTION:DawnTegeler/KevinTegeler vs. LatoyaBranscomb/DanRath
END:VALARM
END:VEVENT
BEGIN:VEVENT
UID:pupc-69939568-20250727T105000@quickscores.com
DTSTAMP:20260422T051400Z
DTSTART;TZID=America/Chicago:20250727T105000
DURATION:PT0H20M0S
SUMMARY:LatoyaBranscomb/DanRath vs. SteveDubois/CherylDubois
DESCRIPTION:Paddle Up Club Championship - Mixed Doubles 7/27 (9:00 Am Start) - Paddle Up Pickleball Club
LOCATION:Court 2
CATEGORIES:QuickScores, Pickleball Game
TRANSP:OPAQUE
BEGIN:VALARM
TRIGGER:-PT2H
ACTION:DISPLAY
DESCRIPTION:LatoyaBranscomb/DanRath vs. SteveDubois/CherylDubois
END:VALARM
END:VEVENT
BEGIN:VEVENT
UID:pupc-69939619-20250727T113000@quickscores.com
DTSTAMP:20260422T051400Z
DTSTART;TZID=America/Chicago:20250727T113000
DURATION:PT0H20M0S
SUMMARY:LonnieNeckermann/DevonWoody vs. LatoyaBranscomb/DanRath
DESCRIPTION:Paddle Up Club Championship - Mixed Doubles 7/27 (9:00 Am Start) - Paddle Up Pickleball Club
LOCATION:Court 1
CATEGORIES:QuickScores, Pickleball Game
TRANSP:OPAQUE
BEGIN:VALARM
TRIGGER:-PT2H
ACTION:DISPLAY
DESCRIPTION:LonnieNeckermann/DevonWoody vs. LatoyaBranscomb/DanRath
END:VALARM
END:VEVENT
BEGIN:VEVENT
UID:pupc-69939630-20250727T115000@quickscores.com
DTSTAMP:20260422T051400Z
DTSTART;TZID=America/Chicago:20250727T115000
DURATION:PT0H20M0S
SUMMARY:LatoyaBranscomb/DanRath vs. AshmaSingh/AarogyaRana
DESCRIPTION:Paddle Up Club Championship - Mixed Doubles 7/27 (9:00 Am Start) - Paddle Up Pickleball Club
LOCATION:Court 3
CATEGORIES:QuickScores, Pickleball Game
TRANSP:OPAQUE
BEGIN:VALARM
TRIGGER:-PT2H
ACTION:DISPLAY
DESCRIPTION:LatoyaBranscomb/DanRath vs. AshmaSingh/AarogyaRana
END:VALARM
END:VEVENT
END:VCALENDAR
