BEGIN:VCALENDAR
VERSION:2.0
PRODID:-//QuickScores.com//BQ Dynamic iCal Creator//EN
METHOD:PUBLISH
X-WR-CALNAME:NicholasBrown/AndrewLanson - Paddle Up Club Championship - Championship Divisions 7/26 (6:00 Pm Start) - Completed Tournaments 2024-25
X-WR-CALDESC:QuickScores game calendar
X-PUBLISHED-TTL:PT24H
REFRESH-INTERVAL;VALUE=DURATION:PT24H
CALSCALE:GREGORIAN
BEGIN:VTIMEZONE
TZID:America/Chicago
X-LIC-LOCATION:America/Chicago
BEGIN:DAYLIGHT
TZNAME:CDT
TZOFFSETFROM:-0600
TZOFFSETTO:-0500
DTSTART:19700308T020000
RRULE:FREQ=YEARLY;BYMONTH=3;BYDAY=2SU
END:DAYLIGHT
BEGIN:STANDARD
TZNAME:CST
TZOFFSETFROM:-0500
TZOFFSETTO:-0600
DTSTART:19701101T020000
RRULE:FREQ=YEARLY;BYMONTH=11;BYDAY=1SU
END:STANDARD
END:VTIMEZONE
BEGIN:VEVENT
UID:pupc-69934644-20250726T181000@quickscores.com
DTSTAMP:20260423T113700Z
DTSTART;TZID=America/Chicago:20250726T181000
DURATION:PT0H20M0S
SUMMARY:CarterSmith/CadenDavis vs. NicholasBrown/AndrewLanson
DESCRIPTION:Paddle Up Club Championship - Championship Divisions 7/26 (6:00 Pm Start) - Paddle Up Pickleball Club
LOCATION:Court 2
CATEGORIES:QuickScores, Pickleball Game
TRANSP:OPAQUE
BEGIN:VALARM
TRIGGER:-PT2H
ACTION:DISPLAY
DESCRIPTION:CarterSmith/CadenDavis vs. NicholasBrown/AndrewLanson
END:VALARM
END:VEVENT
BEGIN:VEVENT
UID:pupc-69934652-20250726T183000@quickscores.com
DTSTAMP:20260423T113700Z
DTSTART;TZID=America/Chicago:20250726T183000
DURATION:PT0H20M0S
SUMMARY:NickBorger/JohnCometa vs. NicholasBrown/AndrewLanson
DESCRIPTION:Paddle Up Club Championship - Championship Divisions 7/26 (6:00 Pm Start) - Paddle Up Pickleball Club
LOCATION:Court 2
CATEGORIES:QuickScores, Pickleball Game
TRANSP:OPAQUE
BEGIN:VALARM
TRIGGER:-PT2H
ACTION:DISPLAY
DESCRIPTION:NickBorger/JohnCometa vs. NicholasBrown/AndrewLanson
END:VALARM
END:VEVENT
BEGIN:VEVENT
UID:pupc-69934660-20250726T185000@quickscores.com
DTSTAMP:20260423T113700Z
DTSTART;TZID=America/Chicago:20250726T185000
DURATION:PT0H20M0S
SUMMARY:NicholasBrown/AndrewLanson vs. LouisWallace/JoshFeather
DESCRIPTION:Paddle Up Club Championship - Championship Divisions 7/26 (6:00 Pm Start) - Paddle Up Pickleball Club
LOCATION:Court 6
CATEGORIES:QuickScores, Pickleball Game
TRANSP:OPAQUE
BEGIN:VALARM
TRIGGER:-PT2H
ACTION:DISPLAY
DESCRIPTION:NicholasBrown/AndrewLanson vs. LouisWallace/JoshFeather
END:VALARM
END:VEVENT
BEGIN:VEVENT
UID:pupc-69934668-20250726T191000@quickscores.com
DTSTAMP:20260423T113700Z
DTSTART;TZID=America/Chicago:20250726T191000
DURATION:PT0H20M0S
SUMMARY:NicholasBrown/AndrewLanson vs. MichelaRangel/NickRangel
DESCRIPTION:Paddle Up Club Championship - Championship Divisions 7/26 (6:00 Pm Start) - Paddle Up Pickleball Club
LOCATION:Court 7
CATEGORIES:QuickScores, Pickleball Game
TRANSP:OPAQUE
BEGIN:VALARM
TRIGGER:-PT2H
ACTION:DISPLAY
DESCRIPTION:NicholasBrown/AndrewLanson vs. MichelaRangel/NickRangel
END:VALARM
END:VEVENT
END:VCALENDAR
