BEGIN:VCALENDAR
VERSION:2.0
PRODID:-//QuickScores.com//BQ Dynamic iCal Creator//EN
METHOD:PUBLISH
X-WR-CALNAME:Peer/Kogan - Fmg Wednesday Intermediate Lg. - Late Summer 2025 - Completed Leagues 2025
X-WR-CALDESC:QuickScores game calendar
X-PUBLISHED-TTL:PT24H
REFRESH-INTERVAL;VALUE=DURATION:PT24H
CALSCALE:GREGORIAN
BEGIN:VTIMEZONE
TZID:America/Chicago
X-LIC-LOCATION:America/Chicago
BEGIN:DAYLIGHT
TZNAME:CDT
TZOFFSETFROM:-0600
TZOFFSETTO:-0500
DTSTART:19700308T020000
RRULE:FREQ=YEARLY;BYMONTH=3;BYDAY=2SU
END:DAYLIGHT
BEGIN:STANDARD
TZNAME:CST
TZOFFSETFROM:-0500
TZOFFSETTO:-0600
DTSTART:19701101T020000
RRULE:FREQ=YEARLY;BYMONTH=11;BYDAY=1SU
END:STANDARD
END:VTIMEZONE
BEGIN:VEVENT
UID:pupc-69913374-20250730T180000@quickscores.com
DTSTAMP:20260422T074900Z
DTSTART;TZID=America/Chicago:20250730T180000
DURATION:PT0H40M0S
SUMMARY:Langston/Luber vs. Peer/Kogan
DESCRIPTION:Fmg Wednesday Intermediate Lg. - Late Summer 2025 - Paddle Up Pickleball Club
LOCATION:FMG Court 2
CATEGORIES:QuickScores, Pickleball Game
TRANSP:OPAQUE
BEGIN:VALARM
TRIGGER:-PT2H
ACTION:DISPLAY
DESCRIPTION:Langston/Luber vs. Peer/Kogan
END:VALARM
END:VEVENT
BEGIN:VEVENT
UID:pupc-69913373-20250730T184000@quickscores.com
DTSTAMP:20260422T074900Z
DTSTART;TZID=America/Chicago:20250730T184000
DURATION:PT0H40M0S
SUMMARY:Peer/Kogan vs. Olsen/Griskauskas
DESCRIPTION:Fmg Wednesday Intermediate Lg. - Late Summer 2025 - Paddle Up Pickleball Club
LOCATION:FMG Court 1
CATEGORIES:QuickScores, Pickleball Game
TRANSP:OPAQUE
BEGIN:VALARM
TRIGGER:-PT2H
ACTION:DISPLAY
DESCRIPTION:Peer/Kogan vs. Olsen/Griskauskas
END:VALARM
END:VEVENT
BEGIN:VEVENT
UID:pupc-69913379-20250806T180000@quickscores.com
DTSTAMP:20260422T074900Z
DTSTART;TZID=America/Chicago:20250806T180000
DURATION:PT0H40M0S
SUMMARY:Baker/Olsen vs. Peer/Kogan
DESCRIPTION:Fmg Wednesday Intermediate Lg. - Late Summer 2025 - Paddle Up Pickleball Club
LOCATION:FMG Court 1
CATEGORIES:QuickScores, Pickleball Game
TRANSP:OPAQUE
BEGIN:VALARM
TRIGGER:-PT2H
ACTION:DISPLAY
DESCRIPTION:Baker/Olsen vs. Peer/Kogan
END:VALARM
END:VEVENT
BEGIN:VEVENT
UID:pupc-69913386-20250806T184000@quickscores.com
DTSTAMP:20260422T074900Z
DTSTART;TZID=America/Chicago:20250806T184000
DURATION:PT0H40M0S
SUMMARY:Peer/Kogan vs. Cohen/Gast
DESCRIPTION:Fmg Wednesday Intermediate Lg. - Late Summer 2025 - Paddle Up Pickleball Club
LOCATION:FMG Court 2
CATEGORIES:QuickScores, Pickleball Game
TRANSP:OPAQUE
BEGIN:VALARM
TRIGGER:-PT2H
ACTION:DISPLAY
DESCRIPTION:Peer/Kogan vs. Cohen/Gast
END:VALARM
END:VEVENT
BEGIN:VEVENT
UID:pupc-69913397-20250813T200000@quickscores.com
DTSTAMP:20260422T074900Z
DTSTART;TZID=America/Chicago:20250813T200000
DURATION:PT0H40M0S
SUMMARY:Haase/Kapeller vs. Peer/Kogan
DESCRIPTION:Fmg Wednesday Intermediate Lg. - Late Summer 2025 - Paddle Up Pickleball Club
LOCATION:FMG Court 2
CATEGORIES:QuickScores, Pickleball Game
TRANSP:OPAQUE
BEGIN:VALARM
TRIGGER:-PT2H
ACTION:DISPLAY
DESCRIPTION:Haase/Kapeller vs. Peer/Kogan
END:VALARM
END:VEVENT
BEGIN:VEVENT
UID:pupc-69913398-20250813T204000@quickscores.com
DTSTAMP:20260422T074900Z
DTSTART;TZID=America/Chicago:20250813T204000
DURATION:PT0H40M0S
SUMMARY:Peer/Kogan vs. Marcotte/Stout
DESCRIPTION:Fmg Wednesday Intermediate Lg. - Late Summer 2025 - Paddle Up Pickleball Club
LOCATION:FMG Court 2
CATEGORIES:QuickScores, Pickleball Game
TRANSP:OPAQUE
BEGIN:VALARM
TRIGGER:-PT2H
ACTION:DISPLAY
DESCRIPTION:Peer/Kogan vs. Marcotte/Stout
END:VALARM
END:VEVENT
BEGIN:VEVENT
UID:pupc-69913391-20250820T200000@quickscores.com
DTSTAMP:20260422T074900Z
DTSTART;TZID=America/Chicago:20250820T200000
DURATION:PT0H40M0S
SUMMARY:Peer/Kogan vs. Albrecht/Kaminski
DESCRIPTION:Fmg Wednesday Intermediate Lg. - Late Summer 2025 - Paddle Up Pickleball Club
LOCATION:FMG Court 1
CATEGORIES:QuickScores, Pickleball Game
TRANSP:OPAQUE
BEGIN:VALARM
TRIGGER:-PT2H
ACTION:DISPLAY
DESCRIPTION:Peer/Kogan vs. Albrecht/Kaminski
END:VALARM
END:VEVENT
BEGIN:VEVENT
UID:pupc-69913390-20250820T204000@quickscores.com
DTSTAMP:20260422T074900Z
DTSTART;TZID=America/Chicago:20250820T204000
DURATION:PT0H40M0S
SUMMARY:Peer/Kogan vs. Cohen/Gast
DESCRIPTION:Fmg Wednesday Intermediate Lg. - Late Summer 2025 - Paddle Up Pickleball Club
LOCATION:FMG Court 2
CATEGORIES:QuickScores, Pickleball Game
TRANSP:OPAQUE
BEGIN:VALARM
TRIGGER:-PT2H
ACTION:DISPLAY
DESCRIPTION:Peer/Kogan vs. Cohen/Gast
END:VALARM
END:VEVENT
BEGIN:VEVENT
UID:pupc-69913407-20250827T184000@quickscores.com
DTSTAMP:20260422T074900Z
DTSTART;TZID=America/Chicago:20250827T184000
DURATION:PT0H40M0S
SUMMARY:Peer/Kogan vs. Marcotte/Stout
DESCRIPTION:Fmg Wednesday Intermediate Lg. - Late Summer 2025 - Paddle Up Pickleball Club
LOCATION:FMG Court 1
CATEGORIES:QuickScores, Pickleball Game
TRANSP:OPAQUE
BEGIN:VALARM
TRIGGER:-PT2H
ACTION:DISPLAY
DESCRIPTION:Peer/Kogan vs. Marcotte/Stout
END:VALARM
END:VEVENT
BEGIN:VEVENT
UID:pupc-69913410-20250827T200000@quickscores.com
DTSTAMP:20260422T074900Z
DTSTART;TZID=America/Chicago:20250827T200000
DURATION:PT0H40M0S
SUMMARY:Peer/Kogan vs. Langston/Luber
DESCRIPTION:Fmg Wednesday Intermediate Lg. - Late Summer 2025 - Paddle Up Pickleball Club
LOCATION:FMG Court 2
CATEGORIES:QuickScores, Pickleball Game
TRANSP:OPAQUE
BEGIN:VALARM
TRIGGER:-PT2H
ACTION:DISPLAY
DESCRIPTION:Peer/Kogan vs. Langston/Luber
END:VALARM
END:VEVENT
BEGIN:VEVENT
UID:pupc-70676250-20250903T193000@quickscores.com
DTSTAMP:20260422T074900Z
DTSTART;TZID=America/Chicago:20250903T193000
DURATION:PT0H30M0S
SUMMARY:[2] Peer/Kogan vs. [7] Haase/Kapeller
DESCRIPTION:Fmg Wednesday Intermediate Lg. - Late Summer 2025 - Paddle Up Pickleball Club
LOCATION:FMG Court 2
CATEGORIES:QuickScores, Pickleball Game
TRANSP:OPAQUE
BEGIN:VALARM
TRIGGER:-PT2H
ACTION:DISPLAY
DESCRIPTION:[2] Peer/Kogan vs. [7] Haase/Kapeller
END:VALARM
END:VEVENT
END:VCALENDAR
