BEGIN:VCALENDAR
VERSION:2.0
PRODID:-//QuickScores.com//BQ Dynamic iCal Creator//EN
METHOD:PUBLISH
X-WR-CALNAME:MikeChambers/TiffanyChambers - Paddle Up Club Championship - Mixed Doubles 7/27 (9:00 Am Start) - Completed Tournaments 2024-25
X-WR-CALDESC:QuickScores game calendar
X-PUBLISHED-TTL:PT24H
REFRESH-INTERVAL;VALUE=DURATION:PT24H
CALSCALE:GREGORIAN
BEGIN:VTIMEZONE
TZID:America/Chicago
X-LIC-LOCATION:America/Chicago
BEGIN:DAYLIGHT
TZNAME:CDT
TZOFFSETFROM:-0600
TZOFFSETTO:-0500
DTSTART:19700308T020000
RRULE:FREQ=YEARLY;BYMONTH=3;BYDAY=2SU
END:DAYLIGHT
BEGIN:STANDARD
TZNAME:CST
TZOFFSETFROM:-0500
TZOFFSETTO:-0600
DTSTART:19701101T020000
RRULE:FREQ=YEARLY;BYMONTH=11;BYDAY=1SU
END:STANDARD
END:VTIMEZONE
BEGIN:VEVENT
UID:pupc-69939563-20250727T093000@quickscores.com
DTSTAMP:20260423T152300Z
DTSTART;TZID=America/Chicago:20250727T093000
DURATION:PT0H20M0S
SUMMARY:MikeChambers/TiffanyChambers vs. WhitneyDurham/ScottDurham
DESCRIPTION:Paddle Up Club Championship - Mixed Doubles 7/27 (9:00 Am Start) - Paddle Up Pickleball Club
LOCATION:Court 4
CATEGORIES:QuickScores, Pickleball Game
TRANSP:OPAQUE
BEGIN:VALARM
TRIGGER:-PT2H
ACTION:DISPLAY
DESCRIPTION:MikeChambers/TiffanyChambers vs. WhitneyDurham/ScottDurham
END:VALARM
END:VEVENT
BEGIN:VEVENT
UID:pupc-69939590-20250727T095000@quickscores.com
DTSTAMP:20260423T152300Z
DTSTART;TZID=America/Chicago:20250727T095000
DURATION:PT0H20M0S
SUMMARY:RobynJones/KevinBlase vs. MikeChambers/TiffanyChambers
DESCRIPTION:Paddle Up Club Championship - Mixed Doubles 7/27 (9:00 Am Start) - Paddle Up Pickleball Club
LOCATION:Court 8
CATEGORIES:QuickScores, Pickleball Game
TRANSP:OPAQUE
BEGIN:VALARM
TRIGGER:-PT2H
ACTION:DISPLAY
DESCRIPTION:RobynJones/KevinBlase vs. MikeChambers/TiffanyChambers
END:VALARM
END:VEVENT
BEGIN:VEVENT
UID:pupc-69939577-20250727T103000@quickscores.com
DTSTAMP:20260423T152300Z
DTSTART;TZID=America/Chicago:20250727T103000
DURATION:PT0H20M0S
SUMMARY:LonnieNeckermann/DevonWoody vs. MikeChambers/TiffanyChambers
DESCRIPTION:Paddle Up Club Championship - Mixed Doubles 7/27 (9:00 Am Start) - Paddle Up Pickleball Club
LOCATION:Court 3
CATEGORIES:QuickScores, Pickleball Game
TRANSP:OPAQUE
BEGIN:VALARM
TRIGGER:-PT2H
ACTION:DISPLAY
DESCRIPTION:LonnieNeckermann/DevonWoody vs. MikeChambers/TiffanyChambers
END:VALARM
END:VEVENT
BEGIN:VEVENT
UID:pupc-69939604-20250727T105000@quickscores.com
DTSTAMP:20260423T152300Z
DTSTART;TZID=America/Chicago:20250727T105000
DURATION:PT0H20M0S
SUMMARY:MikeChambers/TiffanyChambers vs. DawnTegeler/KevinTegeler
DESCRIPTION:Paddle Up Club Championship - Mixed Doubles 7/27 (9:00 Am Start) - Paddle Up Pickleball Club
LOCATION:Court 5
CATEGORIES:QuickScores, Pickleball Game
TRANSP:OPAQUE
BEGIN:VALARM
TRIGGER:-PT2H
ACTION:DISPLAY
DESCRIPTION:MikeChambers/TiffanyChambers vs. DawnTegeler/KevinTegeler
END:VALARM
END:VEVENT
BEGIN:VEVENT
UID:pupc-69939617-20250727T113000@quickscores.com
DTSTAMP:20260423T152300Z
DTSTART;TZID=America/Chicago:20250727T113000
DURATION:PT0H20M0S
SUMMARY:MikeChambers/TiffanyChambers vs. JanAnderson/DougLemmons
DESCRIPTION:Paddle Up Club Championship - Mixed Doubles 7/27 (9:00 Am Start) - Paddle Up Pickleball Club
LOCATION:Court 3
CATEGORIES:QuickScores, Pickleball Game
TRANSP:OPAQUE
BEGIN:VALARM
TRIGGER:-PT2H
ACTION:DISPLAY
DESCRIPTION:MikeChambers/TiffanyChambers vs. JanAnderson/DougLemmons
END:VALARM
END:VEVENT
BEGIN:VEVENT
UID:pupc-69939631-20250727T115000@quickscores.com
DTSTAMP:20260423T152300Z
DTSTART;TZID=America/Chicago:20250727T115000
DURATION:PT0H20M0S
SUMMARY:SteveDubois/CherylDubois vs. MikeChambers/TiffanyChambers
DESCRIPTION:Paddle Up Club Championship - Mixed Doubles 7/27 (9:00 Am Start) - Paddle Up Pickleball Club
LOCATION:Court 8
CATEGORIES:QuickScores, Pickleball Game
TRANSP:OPAQUE
BEGIN:VALARM
TRIGGER:-PT2H
ACTION:DISPLAY
DESCRIPTION:SteveDubois/CherylDubois vs. MikeChambers/TiffanyChambers
END:VALARM
END:VEVENT
END:VCALENDAR
