BEGIN:VCALENDAR
VERSION:2.0
PRODID:-//QuickScores.com//BQ Dynamic iCal Creator//EN
METHOD:PUBLISH
X-WR-CALNAME:SethPeimann/BetsyPeimann - Paddle Up Club Championship - Mixed Doubles 7/27 (9:00 Am Start) - Completed Tournaments 2024-25
X-WR-CALDESC:QuickScores game calendar
X-PUBLISHED-TTL:PT24H
REFRESH-INTERVAL;VALUE=DURATION:PT24H
CALSCALE:GREGORIAN
BEGIN:VTIMEZONE
TZID:America/Chicago
X-LIC-LOCATION:America/Chicago
BEGIN:DAYLIGHT
TZNAME:CDT
TZOFFSETFROM:-0600
TZOFFSETTO:-0500
DTSTART:19700308T020000
RRULE:FREQ=YEARLY;BYMONTH=3;BYDAY=2SU
END:DAYLIGHT
BEGIN:STANDARD
TZNAME:CST
TZOFFSETFROM:-0500
TZOFFSETTO:-0600
DTSTART:19701101T020000
RRULE:FREQ=YEARLY;BYMONTH=11;BYDAY=1SU
END:STANDARD
END:VTIMEZONE
BEGIN:VEVENT
UID:pupc-69939562-20250727T093000@quickscores.com
DTSTAMP:20260423T021000Z
DTSTART;TZID=America/Chicago:20250727T093000
DURATION:PT0H20M0S
SUMMARY:KathyAllen/ScottKalna vs. SethPeimann/BetsyPeimann
DESCRIPTION:Paddle Up Club Championship - Mixed Doubles 7/27 (9:00 Am Start) - Paddle Up Pickleball Club
LOCATION:Court 7
CATEGORIES:QuickScores, Pickleball Game
TRANSP:OPAQUE
BEGIN:VALARM
TRIGGER:-PT2H
ACTION:DISPLAY
DESCRIPTION:KathyAllen/ScottKalna vs. SethPeimann/BetsyPeimann
END:VALARM
END:VEVENT
BEGIN:VEVENT
UID:pupc-69939587-20250727T101000@quickscores.com
DTSTAMP:20260423T021000Z
DTSTART;TZID=America/Chicago:20250727T101000
DURATION:PT0H20M0S
SUMMARY:GuyZitting/LeonaScifres vs. SethPeimann/BetsyPeimann
DESCRIPTION:Paddle Up Club Championship - Mixed Doubles 7/27 (9:00 Am Start) - Paddle Up Pickleball Club
LOCATION:Court 1
CATEGORIES:QuickScores, Pickleball Game
TRANSP:OPAQUE
BEGIN:VALARM
TRIGGER:-PT2H
ACTION:DISPLAY
DESCRIPTION:GuyZitting/LeonaScifres vs. SethPeimann/BetsyPeimann
END:VALARM
END:VEVENT
BEGIN:VEVENT
UID:pupc-69939600-20250727T103000@quickscores.com
DTSTAMP:20260423T021000Z
DTSTART;TZID=America/Chicago:20250727T103000
DURATION:PT0H20M0S
SUMMARY:ErickEnciso/KarenSerrano vs. SethPeimann/BetsyPeimann
DESCRIPTION:Paddle Up Club Championship - Mixed Doubles 7/27 (9:00 Am Start) - Paddle Up Pickleball Club
LOCATION:Court 9
CATEGORIES:QuickScores, Pickleball Game
TRANSP:OPAQUE
BEGIN:VALARM
TRIGGER:-PT2H
ACTION:DISPLAY
DESCRIPTION:ErickEnciso/KarenSerrano vs. SethPeimann/BetsyPeimann
END:VALARM
END:VEVENT
BEGIN:VEVENT
UID:pupc-69939575-20250727T105000@quickscores.com
DTSTAMP:20260423T021000Z
DTSTART;TZID=America/Chicago:20250727T105000
DURATION:PT0H20M0S
SUMMARY:SethPeimann/BetsyPeimann vs. DwayneAllen/SherryAllen
DESCRIPTION:Paddle Up Club Championship - Mixed Doubles 7/27 (9:00 Am Start) - Paddle Up Pickleball Club
LOCATION:Court 8
CATEGORIES:QuickScores, Pickleball Game
TRANSP:OPAQUE
BEGIN:VALARM
TRIGGER:-PT2H
ACTION:DISPLAY
DESCRIPTION:SethPeimann/BetsyPeimann vs. DwayneAllen/SherryAllen
END:VALARM
END:VEVENT
BEGIN:VEVENT
UID:pupc-69939612-20250727T111000@quickscores.com
DTSTAMP:20260423T021000Z
DTSTART;TZID=America/Chicago:20250727T111000
DURATION:PT0H20M0S
SUMMARY:SethPeimann/BetsyPeimann vs. LisaHavens/LoganHavens
DESCRIPTION:Paddle Up Club Championship - Mixed Doubles 7/27 (9:00 Am Start) - Paddle Up Pickleball Club
LOCATION:Court 3
CATEGORIES:QuickScores, Pickleball Game
TRANSP:OPAQUE
BEGIN:VALARM
TRIGGER:-PT2H
ACTION:DISPLAY
DESCRIPTION:SethPeimann/BetsyPeimann vs. LisaHavens/LoganHavens
END:VALARM
END:VEVENT
BEGIN:VEVENT
UID:pupc-69939625-20250727T113000@quickscores.com
DTSTAMP:20260423T021000Z
DTSTART;TZID=America/Chicago:20250727T113000
DURATION:PT0H20M0S
SUMMARY:SethPeimann/BetsyPeimann vs. LindseyCarroll/CadenceAllen
DESCRIPTION:Paddle Up Club Championship - Mixed Doubles 7/27 (9:00 Am Start) - Paddle Up Pickleball Club
LOCATION:Court 7
CATEGORIES:QuickScores, Pickleball Game
TRANSP:OPAQUE
BEGIN:VALARM
TRIGGER:-PT2H
ACTION:DISPLAY
DESCRIPTION:SethPeimann/BetsyPeimann vs. LindseyCarroll/CadenceAllen
END:VALARM
END:VEVENT
END:VCALENDAR
