BEGIN:VCALENDAR
VERSION:2.0
PRODID:-//QuickScores.com//BQ Dynamic iCal Creator//EN
METHOD:PUBLISH
X-WR-CALNAME:Wheelan/Wheelan - Moorman Park - Wednesday Rec/low Intermediate League Late Summer 25 - Completed Leagues 2025
X-WR-CALDESC:QuickScores game calendar
X-PUBLISHED-TTL:PT24H
REFRESH-INTERVAL;VALUE=DURATION:PT24H
CALSCALE:GREGORIAN
BEGIN:VTIMEZONE
TZID:America/Chicago
X-LIC-LOCATION:America/Chicago
BEGIN:DAYLIGHT
TZNAME:CDT
TZOFFSETFROM:-0600
TZOFFSETTO:-0500
DTSTART:19700308T020000
RRULE:FREQ=YEARLY;BYMONTH=3;BYDAY=2SU
END:DAYLIGHT
BEGIN:STANDARD
TZNAME:CST
TZOFFSETFROM:-0500
TZOFFSETTO:-0600
DTSTART:19701101T020000
RRULE:FREQ=YEARLY;BYMONTH=11;BYDAY=1SU
END:STANDARD
END:VTIMEZONE
BEGIN:VEVENT
UID:pupc-69823319-20250723T180000@quickscores.com
DTSTAMP:20260423T220000Z
DTSTART;TZID=America/Chicago:20250723T180000
DURATION:PT0H40M0S
SUMMARY:Wheelan/Wheelan vs. Vandiver/Hull
DESCRIPTION:Moorman Park - Wednesday Rec/low Intermediate League Late Summer 25 - Paddle Up Pickleball Club
LOCATION:Moorman 6
CATEGORIES:QuickScores, Pickleball Game
TRANSP:OPAQUE
BEGIN:VALARM
TRIGGER:-PT2H
ACTION:DISPLAY
DESCRIPTION:Wheelan/Wheelan vs. Vandiver/Hull
END:VALARM
END:VEVENT
BEGIN:VEVENT
UID:pupc-69823325-20250723T184000@quickscores.com
DTSTAMP:20260423T220000Z
DTSTART;TZID=America/Chicago:20250723T184000
DURATION:PT0H40M0S
SUMMARY:Wheelan/Wheelan vs. Arcaro/Arcaro
DESCRIPTION:Moorman Park - Wednesday Rec/low Intermediate League Late Summer 25 - Paddle Up Pickleball Club
LOCATION:Moorman 5
CATEGORIES:QuickScores, Pickleball Game
TRANSP:OPAQUE
BEGIN:VALARM
TRIGGER:-PT2H
ACTION:DISPLAY
DESCRIPTION:Wheelan/Wheelan vs. Arcaro/Arcaro
END:VALARM
END:VEVENT
BEGIN:VEVENT
UID:pupc-69823345-20250806T180000@quickscores.com
DTSTAMP:20260423T220000Z
DTSTART;TZID=America/Chicago:20250806T180000
DURATION:PT0H40M0S
SUMMARY:Wheelan/Wheelan vs. Smith/Smith
DESCRIPTION:Moorman Park - Wednesday Rec/low Intermediate League Late Summer 25 - Paddle Up Pickleball Club
LOCATION:Moorman 5
CATEGORIES:QuickScores, Pickleball Game
TRANSP:OPAQUE
BEGIN:VALARM
TRIGGER:-PT2H
ACTION:DISPLAY
DESCRIPTION:Wheelan/Wheelan vs. Smith/Smith
END:VALARM
END:VEVENT
BEGIN:VEVENT
UID:pupc-69823344-20250806T184000@quickscores.com
DTSTAMP:20260423T220000Z
DTSTART;TZID=America/Chicago:20250806T184000
DURATION:PT0H40M0S
SUMMARY:Fantz/Wolter vs. Wheelan/Wheelan
DESCRIPTION:Moorman Park - Wednesday Rec/low Intermediate League Late Summer 25 - Paddle Up Pickleball Club
LOCATION:Moorman 5
CATEGORIES:QuickScores, Pickleball Game
TRANSP:OPAQUE
BEGIN:VALARM
TRIGGER:-PT2H
ACTION:DISPLAY
DESCRIPTION:Fantz/Wolter vs. Wheelan/Wheelan
END:VALARM
END:VEVENT
BEGIN:VEVENT
UID:pupc-70028942-20250806T200000@quickscores.com
DTSTAMP:20260423T220000Z
DTSTART;TZID=America/Chicago:20250806T200000
DURATION:PT0H40M0S
SUMMARY:Hollensteiner/Maas vs. Wheelan/Wheelan
DESCRIPTION:Moorman Park - Wednesday Rec/low Intermediate League Late Summer 25 - Paddle Up Pickleball Club
LOCATION:Moorman 6
CATEGORIES:QuickScores, Pickleball Game
TRANSP:OPAQUE
BEGIN:VALARM
TRIGGER:-PT2H
ACTION:DISPLAY
DESCRIPTION:Hollensteiner/Maas vs. Wheelan/Wheelan
END:VALARM
END:VEVENT
BEGIN:VEVENT
UID:pupc-69823357-20250813T192000@quickscores.com
DTSTAMP:20260423T220000Z
DTSTART;TZID=America/Chicago:20250813T192000
DURATION:PT0H40M0S
SUMMARY:Parrish/Parrish vs. Wheelan/Wheelan
DESCRIPTION:Moorman Park - Wednesday Rec/low Intermediate League Late Summer 25 - Paddle Up Pickleball Club
LOCATION:Moorman 6
CATEGORIES:QuickScores, Pickleball Game
TRANSP:OPAQUE
BEGIN:VALARM
TRIGGER:-PT2H
ACTION:DISPLAY
DESCRIPTION:Parrish/Parrish vs. Wheelan/Wheelan
END:VALARM
END:VEVENT
BEGIN:VEVENT
UID:pupc-69823356-20250813T200000@quickscores.com
DTSTAMP:20260423T220000Z
DTSTART;TZID=America/Chicago:20250813T200000
DURATION:PT0H40M0S
SUMMARY:Wheelan/Wheelan vs. Day/Day
DESCRIPTION:Moorman Park - Wednesday Rec/low Intermediate League Late Summer 25 - Paddle Up Pickleball Club
LOCATION:Moorman 5
CATEGORIES:QuickScores, Pickleball Game
TRANSP:OPAQUE
BEGIN:VALARM
TRIGGER:-PT2H
ACTION:DISPLAY
DESCRIPTION:Wheelan/Wheelan vs. Day/Day
END:VALARM
END:VEVENT
BEGIN:VEVENT
UID:pupc-69823358-20250820T184000@quickscores.com
DTSTAMP:20260423T220000Z
DTSTART;TZID=America/Chicago:20250820T184000
DURATION:PT0H40M0S
SUMMARY:Parrish/Parrish vs. Wheelan/Wheelan
DESCRIPTION:Moorman Park - Wednesday Rec/low Intermediate League Late Summer 25 - Paddle Up Pickleball Club
LOCATION:Moorman 4
CATEGORIES:QuickScores, Pickleball Game
TRANSP:OPAQUE
BEGIN:VALARM
TRIGGER:-PT2H
ACTION:DISPLAY
DESCRIPTION:Parrish/Parrish vs. Wheelan/Wheelan
END:VALARM
END:VEVENT
BEGIN:VEVENT
UID:pupc-69823365-20250820T192000@quickscores.com
DTSTAMP:20260423T220000Z
DTSTART;TZID=America/Chicago:20250820T192000
DURATION:PT0H40M0S
SUMMARY:Arcaro/Arcaro vs. Wheelan/Wheelan
DESCRIPTION:Moorman Park - Wednesday Rec/low Intermediate League Late Summer 25 - Paddle Up Pickleball Club
LOCATION:Moorman 4
CATEGORIES:QuickScores, Pickleball Game
TRANSP:OPAQUE
BEGIN:VALARM
TRIGGER:-PT2H
ACTION:DISPLAY
DESCRIPTION:Arcaro/Arcaro vs. Wheelan/Wheelan
END:VALARM
END:VEVENT
BEGIN:VEVENT
UID:pupc-69823359-20250820T200000@quickscores.com
DTSTAMP:20260423T220000Z
DTSTART;TZID=America/Chicago:20250820T200000
DURATION:PT0H40M0S
SUMMARY:Pickens/Minnick vs. Wheelan/Wheelan
DESCRIPTION:Moorman Park - Wednesday Rec/low Intermediate League Late Summer 25 - Paddle Up Pickleball Club
LOCATION:Moorman 4
CATEGORIES:QuickScores, Pickleball Game
TRANSP:OPAQUE
BEGIN:VALARM
TRIGGER:-PT2H
ACTION:DISPLAY
DESCRIPTION:Pickens/Minnick vs. Wheelan/Wheelan
END:VALARM
END:VEVENT
BEGIN:VEVENT
UID:pupc-70475049-20250827T190000@quickscores.com
DTSTAMP:20260423T220000Z
DTSTART;TZID=America/Chicago:20250827T190000
DURATION:PT0H30M0S
SUMMARY:[4] Wheelan/Wheelan vs. [5] Fantz/Wolter
DESCRIPTION:Moorman Park - Wednesday Rec/low Intermediate League Late Summer 25 - Paddle Up Pickleball Club
LOCATION:Moorman 5
CATEGORIES:QuickScores, Pickleball Game
TRANSP:OPAQUE
BEGIN:VALARM
TRIGGER:-PT2H
ACTION:DISPLAY
DESCRIPTION:[4] Wheelan/Wheelan vs. [5] Fantz/Wolter
END:VALARM
END:VEVENT
END:VCALENDAR
