BEGIN:VCALENDAR
VERSION:2.0
PRODID:-//QuickScores.com//BQ Dynamic iCal Creator//EN
METHOD:PUBLISH
X-WR-CALNAME:Vandiver/Hull - Moorman Park - Wednesday Rec/low Intermediate League Late Summer 25 - Completed Leagues 2025
X-WR-CALDESC:QuickScores game calendar
X-PUBLISHED-TTL:PT24H
REFRESH-INTERVAL;VALUE=DURATION:PT24H
CALSCALE:GREGORIAN
BEGIN:VTIMEZONE
TZID:America/Chicago
X-LIC-LOCATION:America/Chicago
BEGIN:DAYLIGHT
TZNAME:CDT
TZOFFSETFROM:-0600
TZOFFSETTO:-0500
DTSTART:19700308T020000
RRULE:FREQ=YEARLY;BYMONTH=3;BYDAY=2SU
END:DAYLIGHT
BEGIN:STANDARD
TZNAME:CST
TZOFFSETFROM:-0500
TZOFFSETTO:-0600
DTSTART:19701101T020000
RRULE:FREQ=YEARLY;BYMONTH=11;BYDAY=1SU
END:STANDARD
END:VTIMEZONE
BEGIN:VEVENT
UID:pupc-69823319-20250723T180000@quickscores.com
DTSTAMP:20260424T163600Z
DTSTART;TZID=America/Chicago:20250723T180000
DURATION:PT0H40M0S
SUMMARY:Wheelan/Wheelan vs. Vandiver/Hull
DESCRIPTION:Moorman Park - Wednesday Rec/low Intermediate League Late Summer 25 - Paddle Up Pickleball Club
LOCATION:Moorman 6
CATEGORIES:QuickScores, Pickleball Game
TRANSP:OPAQUE
BEGIN:VALARM
TRIGGER:-PT2H
ACTION:DISPLAY
DESCRIPTION:Wheelan/Wheelan vs. Vandiver/Hull
END:VALARM
END:VEVENT
BEGIN:VEVENT
UID:pupc-69823324-20250723T184000@quickscores.com
DTSTAMP:20260424T163600Z
DTSTART;TZID=America/Chicago:20250723T184000
DURATION:PT0H40M0S
SUMMARY:Smith/Smith vs. Vandiver/Hull
DESCRIPTION:Moorman Park - Wednesday Rec/low Intermediate League Late Summer 25 - Paddle Up Pickleball Club
LOCATION:Moorman 6
CATEGORIES:QuickScores, Pickleball Game
TRANSP:OPAQUE
BEGIN:VALARM
TRIGGER:-PT2H
ACTION:DISPLAY
DESCRIPTION:Smith/Smith vs. Vandiver/Hull
END:VALARM
END:VEVENT
BEGIN:VEVENT
UID:pupc-69823328-20250730T184000@quickscores.com
DTSTAMP:20260424T163600Z
DTSTART;TZID=America/Chicago:20250730T184000
DURATION:PT0H40M0S
SUMMARY:Treaster/Harold vs. Vandiver/Hull
DESCRIPTION:Moorman Park - Wednesday Rec/low Intermediate League Late Summer 25 - Paddle Up Pickleball Club
LOCATION:Moorman 4
CATEGORIES:QuickScores, Pickleball Game
TRANSP:OPAQUE
BEGIN:VALARM
TRIGGER:-PT2H
ACTION:DISPLAY
DESCRIPTION:Treaster/Harold vs. Vandiver/Hull
END:VALARM
END:VEVENT
BEGIN:VEVENT
UID:pupc-69823339-20250806T192000@quickscores.com
DTSTAMP:20260424T163600Z
DTSTART;TZID=America/Chicago:20250806T192000
DURATION:PT0H40M0S
SUMMARY:Vandiver/Hull vs. Day/Day
DESCRIPTION:Moorman Park - Wednesday Rec/low Intermediate League Late Summer 25 - Paddle Up Pickleball Club
LOCATION:Moorman 5
CATEGORIES:QuickScores, Pickleball Game
TRANSP:OPAQUE
BEGIN:VALARM
TRIGGER:-PT2H
ACTION:DISPLAY
DESCRIPTION:Vandiver/Hull vs. Day/Day
END:VALARM
END:VEVENT
BEGIN:VEVENT
UID:pupc-69823338-20250806T200000@quickscores.com
DTSTAMP:20260424T163600Z
DTSTART;TZID=America/Chicago:20250806T200000
DURATION:PT0H40M0S
SUMMARY:Parrish/Parrish vs. Vandiver/Hull
DESCRIPTION:Moorman Park - Wednesday Rec/low Intermediate League Late Summer 25 - Paddle Up Pickleball Club
LOCATION:Moorman 4
CATEGORIES:QuickScores, Pickleball Game
TRANSP:OPAQUE
BEGIN:VALARM
TRIGGER:-PT2H
ACTION:DISPLAY
DESCRIPTION:Parrish/Parrish vs. Vandiver/Hull
END:VALARM
END:VEVENT
BEGIN:VEVENT
UID:pupc-70028943-20250806T204000@quickscores.com
DTSTAMP:20260424T163600Z
DTSTART;TZID=America/Chicago:20250806T204000
DURATION:PT0H40M0S
SUMMARY:Pickens/Minnick vs. Vandiver/Hull
DESCRIPTION:Moorman Park - Wednesday Rec/low Intermediate League Late Summer 25 - Paddle Up Pickleball Club
LOCATION:Moorman 4
CATEGORIES:QuickScores, Pickleball Game
TRANSP:OPAQUE
BEGIN:VALARM
TRIGGER:-PT2H
ACTION:DISPLAY
DESCRIPTION:Pickens/Minnick vs. Vandiver/Hull
END:VALARM
END:VEVENT
BEGIN:VEVENT
UID:pupc-69823351-20250813T180000@quickscores.com
DTSTAMP:20260424T163600Z
DTSTART;TZID=America/Chicago:20250813T180000
DURATION:PT0H40M0S
SUMMARY:Vandiver/Hull vs. Fantz/Wolter
DESCRIPTION:Moorman Park - Wednesday Rec/low Intermediate League Late Summer 25 - Paddle Up Pickleball Club
LOCATION:Moorman 5
CATEGORIES:QuickScores, Pickleball Game
TRANSP:OPAQUE
BEGIN:VALARM
TRIGGER:-PT2H
ACTION:DISPLAY
DESCRIPTION:Vandiver/Hull vs. Fantz/Wolter
END:VALARM
END:VEVENT
BEGIN:VEVENT
UID:pupc-69823352-20250813T184000@quickscores.com
DTSTAMP:20260424T163600Z
DTSTART;TZID=America/Chicago:20250813T184000
DURATION:PT0H40M0S
SUMMARY:Vandiver/Hull vs. Arcaro/Arcaro
DESCRIPTION:Moorman Park - Wednesday Rec/low Intermediate League Late Summer 25 - Paddle Up Pickleball Club
LOCATION:Moorman 4
CATEGORIES:QuickScores, Pickleball Game
TRANSP:OPAQUE
BEGIN:VALARM
TRIGGER:-PT2H
ACTION:DISPLAY
DESCRIPTION:Vandiver/Hull vs. Arcaro/Arcaro
END:VALARM
END:VEVENT
BEGIN:VEVENT
UID:pupc-69823364-20250820T192000@quickscores.com
DTSTAMP:20260424T163600Z
DTSTART;TZID=America/Chicago:20250820T192000
DURATION:PT0H40M0S
SUMMARY:Vandiver/Hull vs. Smith/Smith
DESCRIPTION:Moorman Park - Wednesday Rec/low Intermediate League Late Summer 25 - Paddle Up Pickleball Club
LOCATION:Moorman 6
CATEGORIES:QuickScores, Pickleball Game
TRANSP:OPAQUE
BEGIN:VALARM
TRIGGER:-PT2H
ACTION:DISPLAY
DESCRIPTION:Vandiver/Hull vs. Smith/Smith
END:VALARM
END:VEVENT
BEGIN:VEVENT
UID:pupc-69823360-20250820T200000@quickscores.com
DTSTAMP:20260424T163600Z
DTSTART;TZID=America/Chicago:20250820T200000
DURATION:PT0H40M0S
SUMMARY:Vandiver/Hull vs. Hollensteiner/Maas
DESCRIPTION:Moorman Park - Wednesday Rec/low Intermediate League Late Summer 25 - Paddle Up Pickleball Club
LOCATION:Moorman 5
CATEGORIES:QuickScores, Pickleball Game
TRANSP:OPAQUE
BEGIN:VALARM
TRIGGER:-PT2H
ACTION:DISPLAY
DESCRIPTION:Vandiver/Hull vs. Hollensteiner/Maas
END:VALARM
END:VEVENT
BEGIN:VEVENT
UID:pupc-70475051-20250827T190000@quickscores.com
DTSTAMP:20260424T163600Z
DTSTART;TZID=America/Chicago:20250827T190000
DURATION:PT0H30M0S
SUMMARY:[3] Day/Day vs. [6] Vandiver/Hull
DESCRIPTION:Moorman Park - Wednesday Rec/low Intermediate League Late Summer 25 - Paddle Up Pickleball Club
LOCATION:Moorman 6
CATEGORIES:QuickScores, Pickleball Game
TRANSP:OPAQUE
BEGIN:VALARM
TRIGGER:-PT2H
ACTION:DISPLAY
DESCRIPTION:[3] Day/Day vs. [6] Vandiver/Hull
END:VALARM
END:VEVENT
END:VCALENDAR
