BEGIN:VCALENDAR
VERSION:2.0
PRODID:-//QuickScores.com//BQ Dynamic iCal Creator//EN
METHOD:PUBLISH
X-WR-CALNAME:Arcaro/Arcaro - Moorman Park - Wednesday Rec/low Intermediate League Late Summer 25 - Completed Leagues 2025
X-WR-CALDESC:QuickScores game calendar
X-PUBLISHED-TTL:PT24H
REFRESH-INTERVAL;VALUE=DURATION:PT24H
CALSCALE:GREGORIAN
BEGIN:VTIMEZONE
TZID:America/Chicago
X-LIC-LOCATION:America/Chicago
BEGIN:DAYLIGHT
TZNAME:CDT
TZOFFSETFROM:-0600
TZOFFSETTO:-0500
DTSTART:19700308T020000
RRULE:FREQ=YEARLY;BYMONTH=3;BYDAY=2SU
END:DAYLIGHT
BEGIN:STANDARD
TZNAME:CST
TZOFFSETFROM:-0500
TZOFFSETTO:-0600
DTSTART:19701101T020000
RRULE:FREQ=YEARLY;BYMONTH=11;BYDAY=1SU
END:STANDARD
END:VTIMEZONE
BEGIN:VEVENT
UID:pupc-69823320-20250723T180000@quickscores.com
DTSTAMP:20260421T070100Z
DTSTART;TZID=America/Chicago:20250723T180000
DURATION:PT0H40M0S
SUMMARY:Arcaro/Arcaro vs. Pickens/Minnick
DESCRIPTION:Moorman Park - Wednesday Rec/low Intermediate League Late Summer 25 - Paddle Up Pickleball Club
LOCATION:Moorman 5
CATEGORIES:QuickScores, Pickleball Game
TRANSP:OPAQUE
BEGIN:VALARM
TRIGGER:-PT2H
ACTION:DISPLAY
DESCRIPTION:Arcaro/Arcaro vs. Pickens/Minnick
END:VALARM
END:VEVENT
BEGIN:VEVENT
UID:pupc-69823325-20250723T184000@quickscores.com
DTSTAMP:20260421T070100Z
DTSTART;TZID=America/Chicago:20250723T184000
DURATION:PT0H40M0S
SUMMARY:Wheelan/Wheelan vs. Arcaro/Arcaro
DESCRIPTION:Moorman Park - Wednesday Rec/low Intermediate League Late Summer 25 - Paddle Up Pickleball Club
LOCATION:Moorman 5
CATEGORIES:QuickScores, Pickleball Game
TRANSP:OPAQUE
BEGIN:VALARM
TRIGGER:-PT2H
ACTION:DISPLAY
DESCRIPTION:Wheelan/Wheelan vs. Arcaro/Arcaro
END:VALARM
END:VEVENT
BEGIN:VEVENT
UID:pupc-69823335-20250730T180000@quickscores.com
DTSTAMP:20260421T070100Z
DTSTART;TZID=America/Chicago:20250730T180000
DURATION:PT0H40M0S
SUMMARY:Arcaro/Arcaro vs. Day/Day
DESCRIPTION:Moorman Park - Wednesday Rec/low Intermediate League Late Summer 25 - Paddle Up Pickleball Club
LOCATION:Moorman 5
CATEGORIES:QuickScores, Pickleball Game
TRANSP:OPAQUE
BEGIN:VALARM
TRIGGER:-PT2H
ACTION:DISPLAY
DESCRIPTION:Arcaro/Arcaro vs. Day/Day
END:VALARM
END:VEVENT
BEGIN:VEVENT
UID:pupc-69823336-20250730T184000@quickscores.com
DTSTAMP:20260421T070100Z
DTSTART;TZID=America/Chicago:20250730T184000
DURATION:PT0H40M0S
SUMMARY:Smith/Smith vs. Arcaro/Arcaro
DESCRIPTION:Moorman Park - Wednesday Rec/low Intermediate League Late Summer 25 - Paddle Up Pickleball Club
LOCATION:Moorman 6
CATEGORIES:QuickScores, Pickleball Game
TRANSP:OPAQUE
BEGIN:VALARM
TRIGGER:-PT2H
ACTION:DISPLAY
DESCRIPTION:Smith/Smith vs. Arcaro/Arcaro
END:VALARM
END:VEVENT
BEGIN:VEVENT
UID:pupc-69823343-20250806T180000@quickscores.com
DTSTAMP:20260421T070100Z
DTSTART;TZID=America/Chicago:20250806T180000
DURATION:PT0H40M0S
SUMMARY:Arcaro/Arcaro vs. Fantz/Wolter
DESCRIPTION:Moorman Park - Wednesday Rec/low Intermediate League Late Summer 25 - Paddle Up Pickleball Club
LOCATION:Moorman 6
CATEGORIES:QuickScores, Pickleball Game
TRANSP:OPAQUE
BEGIN:VALARM
TRIGGER:-PT2H
ACTION:DISPLAY
DESCRIPTION:Arcaro/Arcaro vs. Fantz/Wolter
END:VALARM
END:VEVENT
BEGIN:VEVENT
UID:pupc-69823342-20250806T184000@quickscores.com
DTSTAMP:20260421T070100Z
DTSTART;TZID=America/Chicago:20250806T184000
DURATION:PT0H40M0S
SUMMARY:Treaster/Harold vs. Arcaro/Arcaro
DESCRIPTION:Moorman Park - Wednesday Rec/low Intermediate League Late Summer 25 - Paddle Up Pickleball Club
LOCATION:Moorman 6
CATEGORIES:QuickScores, Pickleball Game
TRANSP:OPAQUE
BEGIN:VALARM
TRIGGER:-PT2H
ACTION:DISPLAY
DESCRIPTION:Treaster/Harold vs. Arcaro/Arcaro
END:VALARM
END:VEVENT
BEGIN:VEVENT
UID:pupc-69823352-20250813T184000@quickscores.com
DTSTAMP:20260421T070100Z
DTSTART;TZID=America/Chicago:20250813T184000
DURATION:PT0H40M0S
SUMMARY:Vandiver/Hull vs. Arcaro/Arcaro
DESCRIPTION:Moorman Park - Wednesday Rec/low Intermediate League Late Summer 25 - Paddle Up Pickleball Club
LOCATION:Moorman 4
CATEGORIES:QuickScores, Pickleball Game
TRANSP:OPAQUE
BEGIN:VALARM
TRIGGER:-PT2H
ACTION:DISPLAY
DESCRIPTION:Vandiver/Hull vs. Arcaro/Arcaro
END:VALARM
END:VEVENT
BEGIN:VEVENT
UID:pupc-69823353-20250813T192000@quickscores.com
DTSTAMP:20260421T070100Z
DTSTART;TZID=America/Chicago:20250813T192000
DURATION:PT0H40M0S
SUMMARY:Arcaro/Arcaro vs. Hollensteiner/Maas
DESCRIPTION:Moorman Park - Wednesday Rec/low Intermediate League Late Summer 25 - Paddle Up Pickleball Club
LOCATION:Moorman 4
CATEGORIES:QuickScores, Pickleball Game
TRANSP:OPAQUE
BEGIN:VALARM
TRIGGER:-PT2H
ACTION:DISPLAY
DESCRIPTION:Arcaro/Arcaro vs. Hollensteiner/Maas
END:VALARM
END:VEVENT
BEGIN:VEVENT
UID:pupc-69823365-20250820T192000@quickscores.com
DTSTAMP:20260421T070100Z
DTSTART;TZID=America/Chicago:20250820T192000
DURATION:PT0H40M0S
SUMMARY:Arcaro/Arcaro vs. Wheelan/Wheelan
DESCRIPTION:Moorman Park - Wednesday Rec/low Intermediate League Late Summer 25 - Paddle Up Pickleball Club
LOCATION:Moorman 4
CATEGORIES:QuickScores, Pickleball Game
TRANSP:OPAQUE
BEGIN:VALARM
TRIGGER:-PT2H
ACTION:DISPLAY
DESCRIPTION:Arcaro/Arcaro vs. Wheelan/Wheelan
END:VALARM
END:VEVENT
BEGIN:VEVENT
UID:pupc-70028946-20250820T200000@quickscores.com
DTSTAMP:20260421T070100Z
DTSTART;TZID=America/Chicago:20250820T200000
DURATION:PT0H40M0S
SUMMARY:Arcaro/Arcaro vs. Fantz/Wolter
DESCRIPTION:Moorman Park - Wednesday Rec/low Intermediate League Late Summer 25 - Paddle Up Pickleball Club
LOCATION:Moorman 6
CATEGORIES:QuickScores, Pickleball Game
TRANSP:OPAQUE
BEGIN:VALARM
TRIGGER:-PT2H
ACTION:DISPLAY
DESCRIPTION:Arcaro/Arcaro vs. Fantz/Wolter
END:VALARM
END:VEVENT
BEGIN:VEVENT
UID:pupc-70475041-20250827T180000@quickscores.com
DTSTAMP:20260421T070100Z
DTSTART;TZID=America/Chicago:20250827T180000
DURATION:PT0H30M0S
SUMMARY:[8] Arcaro/Arcaro vs. [9] Smith/Smith
DESCRIPTION:Moorman Park - Wednesday Rec/low Intermediate League Late Summer 25 - Paddle Up Pickleball Club
LOCATION:Moorman 5
CATEGORIES:QuickScores, Pickleball Game
TRANSP:OPAQUE
BEGIN:VALARM
TRIGGER:-PT2H
ACTION:DISPLAY
DESCRIPTION:[8] Arcaro/Arcaro vs. [9] Smith/Smith
END:VALARM
END:VEVENT
END:VCALENDAR
